BEGIN:VCALENDAR
VERSION:2.0
PRODID:-//Murdock Baptist Church - ECPv6.15.20//NONSGML v1.0//EN
CALSCALE:GREGORIAN
METHOD:PUBLISH
X-WR-CALNAME:Murdock Baptist Church
X-ORIGINAL-URL:https://murdockbaptistchurch.org
X-WR-CALDESC:Events for Murdock Baptist Church
REFRESH-INTERVAL;VALUE=DURATION:PT1H
X-Robots-Tag:noindex
X-PUBLISHED-TTL:PT1H
BEGIN:VTIMEZONE
TZID:America/New_York
BEGIN:DAYLIGHT
TZOFFSETFROM:-0500
TZOFFSETTO:-0400
TZNAME:EDT
DTSTART:20220313T070000
END:DAYLIGHT
BEGIN:STANDARD
TZOFFSETFROM:-0400
TZOFFSETTO:-0500
TZNAME:EST
DTSTART:20221106T060000
END:STANDARD
BEGIN:DAYLIGHT
TZOFFSETFROM:-0500
TZOFFSETTO:-0400
TZNAME:EDT
DTSTART:20230312T070000
END:DAYLIGHT
BEGIN:STANDARD
TZOFFSETFROM:-0400
TZOFFSETTO:-0500
TZNAME:EST
DTSTART:20231105T060000
END:STANDARD
BEGIN:DAYLIGHT
TZOFFSETFROM:-0500
TZOFFSETTO:-0400
TZNAME:EDT
DTSTART:20240310T070000
END:DAYLIGHT
BEGIN:STANDARD
TZOFFSETFROM:-0400
TZOFFSETTO:-0500
TZNAME:EST
DTSTART:20241103T060000
END:STANDARD
BEGIN:DAYLIGHT
TZOFFSETFROM:-0500
TZOFFSETTO:-0400
TZNAME:EDT
DTSTART:20250309T070000
END:DAYLIGHT
BEGIN:STANDARD
TZOFFSETFROM:-0400
TZOFFSETTO:-0500
TZNAME:EST
DTSTART:20251102T060000
END:STANDARD
BEGIN:DAYLIGHT
TZOFFSETFROM:-0500
TZOFFSETTO:-0400
TZNAME:EDT
DTSTART:20260308T070000
END:DAYLIGHT
BEGIN:STANDARD
TZOFFSETFROM:-0400
TZOFFSETTO:-0500
TZNAME:EST
DTSTART:20261101T060000
END:STANDARD
END:VTIMEZONE
BEGIN:VTIMEZONE
TZID:UTC
BEGIN:STANDARD
TZOFFSETFROM:+0000
TZOFFSETTO:+0000
TZNAME:UTC
DTSTART:20210101T000000
END:STANDARD
END:VTIMEZONE
BEGIN:VEVENT
DTSTART;TZID=America/New_York:20251019T110000
DTEND;TZID=America/New_York:20251019T120000
DTSTAMP:20260423T184646
CREATED:20250925T135358Z
LAST-MODIFIED:20250925T135404Z
UID:10009042-1760871600-1760875200@murdockbaptistchurch.org
SUMMARY:Special Called Church Conference
DESCRIPTION:A special church conference has been called for October 19th\, after morning worship to consider and vote on a proposed amendment to the Constitution (correction to address) and to the By-Laws (selection of elders). There are printed materials available for church members at the table in the Fellowship Hall to review.
URL:https://murdockbaptistchurch.org/event/special-called-church-conference-4/
LOCATION:Worship Center
CATEGORIES:Special Events
ATTACH;FMTTYPE=image/jpeg:https://murdockbaptistchurch.org/wp-content/uploads/2023/06/Murdock-Baptist-Church-PhotoGallery66-scaled.jpg
END:VEVENT
BEGIN:VEVENT
DTSTART;TZID=America/New_York:20240728T093000
DTEND;TZID=America/New_York:20240728T104500
DTSTAMP:20260423T184646
CREATED:20230531T024858Z
LAST-MODIFIED:20231228T045454Z
UID:10007266-1722159000-1722163500@murdockbaptistchurch.org
SUMMARY:Worship Service
DESCRIPTION:Worship Service in person or on-line. \n\n\n\nWatch Service Live >>
URL:https://murdockbaptistchurch.org/event/worship-service-2/2024-07-28/
LOCATION:Worship Center
CATEGORIES:Special Events
ATTACH;FMTTYPE=image/jpeg:https://murdockbaptistchurch.org/wp-content/uploads/2023/01/murdock-baptist-church-worship-service.jpg
END:VEVENT
BEGIN:VEVENT
DTSTART;TZID=America/New_York:20231231T104500
DTEND;TZID=America/New_York:20231231T111500
DTSTAMP:20260423T184646
CREATED:20231221T192244Z
LAST-MODIFIED:20231221T192329Z
UID:10007137-1704019500-1704021300@murdockbaptistchurch.org
SUMMARY:Special Called Church Conference
DESCRIPTION:Immediately following service for the consideration of the 2024 Budget.
URL:https://murdockbaptistchurch.org/event/special-called-church-conference-2/
LOCATION:Worship Center
CATEGORIES:Quarterly Church Conference,Special Events
END:VEVENT
BEGIN:VEVENT
DTSTART;TZID=America/New_York:20230716T104500
DTEND;TZID=America/New_York:20230716T110000
DTSTAMP:20260423T184646
CREATED:20230620T130907Z
LAST-MODIFIED:20230620T130915Z
UID:10006089-1689504300-1689505200@murdockbaptistchurch.org
SUMMARY:Elder Affirmation Vote
DESCRIPTION:We will have an affirmation vote on July 16th provided we affirm the two Elder candidates. W will have an ordination and installation service on July 23rd.
URL:https://murdockbaptistchurch.org/event/elder-affirmation-vote/
LOCATION:Worship Center
CATEGORIES:Special Events
ATTACH;FMTTYPE=image/jpeg:https://murdockbaptistchurch.org/wp-content/uploads/2023/05/murdock-baptist-church-front-of-building.jpg
END:VEVENT
BEGIN:VEVENT
DTSTART;TZID=America/New_York:20230625T104500
DTEND;TZID=America/New_York:20230625T110500
DTSTAMP:20260423T184646
CREATED:20230620T124803Z
LAST-MODIFIED:20230620T124812Z
UID:10006088-1687689900-1687691100@murdockbaptistchurch.org
SUMMARY:Special Called Church Conference
DESCRIPTION:Sunday\, June 25th we will meet after worship to consider the Nominating Team’s motion for Treasurer\, Jennifer Dueboay.
URL:https://murdockbaptistchurch.org/event/special-called-church-conference/
LOCATION:Worship Center
CATEGORIES:Special Events
ATTACH;FMTTYPE=image/jpeg:https://murdockbaptistchurch.org/wp-content/uploads/2023/05/murdock-baptist-church-front-of-building.jpg
END:VEVENT
BEGIN:VEVENT
DTSTART;TZID=UTC:20230419T180000
DTEND;TZID=UTC:20230419T190000
DTSTAMP:20260423T184646
CREATED:20230105T214119Z
LAST-MODIFIED:20230105T214128Z
UID:10004462-1681927200-1681930800@murdockbaptistchurch.org
SUMMARY:Quarterly Church Conference
DESCRIPTION:We operate as a congregational church polity which means the membership is informed and votes on church business.  Our church conferences are scheduled quarterly so the church membership can vote on membership requests\, hear reports from various teams\, and review the church financials for the previous quarter.   \n\n\n\nWe have special call church conferences\, announced prior to the meeting\, for purposes that are time sensitive and cannot wait until the normal conference time\, or to vote on hiring staff or personnel\, and other such matters. \n\n\n\nAgenda to be supplied shortly.
URL:https://murdockbaptistchurch.org/event/quarterly-church-conference/
LOCATION:Worship Center
CATEGORIES:Board Meeting
END:VEVENT
BEGIN:VEVENT
DTSTART;TZID=America/New_York:20230323T140000
DTEND;TZID=America/New_York:20230323T153000
DTSTAMP:20260423T184646
CREATED:20230105T212306Z
LAST-MODIFIED:20230105T212623Z
UID:10004459-1679580000-1679585400@murdockbaptistchurch.org
SUMMARY:Service for Joanne Fontana
DESCRIPTION:A celebration of life ceremony is to allow people to say goodbye and remember the person who has passed away. Here at Murdock Baptist Church we honor our church members and their families and help them in the process of grieving a love one. \n\n\n\nLet’s celebrate together the life of Joanne Fontana.
URL:https://murdockbaptistchurch.org/event/service-for-joanne-fontana/
LOCATION:Worship Center
CATEGORIES:Celebration of Life
ATTACH;FMTTYPE=image/jpeg:https://murdockbaptistchurch.org/wp-content/uploads/2023/01/celebration-of-life-logo.jpg
END:VEVENT
BEGIN:VEVENT
DTSTART;TZID=UTC:20221217T170000
DTEND;TZID=UTC:20221217T190000
DTSTAMP:20260423T184646
CREATED:20221119T030250Z
LAST-MODIFIED:20221222T164821Z
UID:10000004-1671296400-1671303600@murdockbaptistchurch.org
SUMMARY:Christmas Chronicles presented by Bill Cox
DESCRIPTION:Begin inviting others to the Christmas Chronicles\, December 17th at 5:00 p.m. and December 18th at 3:00 p.m. as we hear\, sing and celebrate the birth of Christ. \n\n\n\n\n\n\n\nWe are printing door hangers to share with the Shadow of the Steeple homes. We will need your help placing them on the doors. There will be extras to share with your neighbors too.
URL:https://murdockbaptistchurch.org/event/christmas-chronicles-presented-by-bill-cox/2022-12-17/
LOCATION:Worship Center
CATEGORIES:Special Events
END:VEVENT
END:VCALENDAR