BEGIN:VCALENDAR
VERSION:2.0
PRODID:-//Murdock Baptist Church - ECPv6.15.20//NONSGML v1.0//EN
CALSCALE:GREGORIAN
METHOD:PUBLISH
X-ORIGINAL-URL:https://murdockbaptistchurch.org
X-WR-CALDESC:Events for Murdock Baptist Church
REFRESH-INTERVAL;VALUE=DURATION:PT1H
X-Robots-Tag:noindex
X-PUBLISHED-TTL:PT1H
BEGIN:VTIMEZONE
TZID:America/New_York
BEGIN:DAYLIGHT
TZOFFSETFROM:-0500
TZOFFSETTO:-0400
TZNAME:EDT
DTSTART:20220313T070000
END:DAYLIGHT
BEGIN:STANDARD
TZOFFSETFROM:-0400
TZOFFSETTO:-0500
TZNAME:EST
DTSTART:20221106T060000
END:STANDARD
BEGIN:DAYLIGHT
TZOFFSETFROM:-0500
TZOFFSETTO:-0400
TZNAME:EDT
DTSTART:20230312T070000
END:DAYLIGHT
BEGIN:STANDARD
TZOFFSETFROM:-0400
TZOFFSETTO:-0500
TZNAME:EST
DTSTART:20231105T060000
END:STANDARD
BEGIN:DAYLIGHT
TZOFFSETFROM:-0500
TZOFFSETTO:-0400
TZNAME:EDT
DTSTART:20240310T070000
END:DAYLIGHT
BEGIN:STANDARD
TZOFFSETFROM:-0400
TZOFFSETTO:-0500
TZNAME:EST
DTSTART:20241103T060000
END:STANDARD
BEGIN:DAYLIGHT
TZOFFSETFROM:-0500
TZOFFSETTO:-0400
TZNAME:EDT
DTSTART:20250309T070000
END:DAYLIGHT
BEGIN:STANDARD
TZOFFSETFROM:-0400
TZOFFSETTO:-0500
TZNAME:EST
DTSTART:20251102T060000
END:STANDARD
BEGIN:DAYLIGHT
TZOFFSETFROM:-0500
TZOFFSETTO:-0400
TZNAME:EDT
DTSTART:20260308T070000
END:DAYLIGHT
BEGIN:STANDARD
TZOFFSETFROM:-0400
TZOFFSETTO:-0500
TZNAME:EST
DTSTART:20261101T060000
END:STANDARD
BEGIN:DAYLIGHT
TZOFFSETFROM:-0500
TZOFFSETTO:-0400
TZNAME:EDT
DTSTART:20270314T070000
END:DAYLIGHT
BEGIN:STANDARD
TZOFFSETFROM:-0400
TZOFFSETTO:-0500
TZNAME:EST
DTSTART:20271107T060000
END:STANDARD
END:VTIMEZONE
BEGIN:VEVENT
DTSTART;TZID=America/New_York:20260221T090000
DTEND;TZID=America/New_York:20260221T113000
DTSTAMP:20260423T213457
CREATED:20230818T024706Z
LAST-MODIFIED:20260111T232522Z
UID:10006162-1771664400-1771673400@murdockbaptistchurch.org
SUMMARY:SAVE THE DATE: 2026 Walk for THEM
DESCRIPTION:Join us for our 5th annual Walk for THEM fundraising event on Saturday\, February 21st at 9 a.m. at Rotonda Community Park. We are a Christ-Centered ministry serving the homeless of S.W. Florida.  \n\n\n\n\n\n\n\nRegistration is now open at jlywalkforthem.org or by scanning the QR code. \n\n\n\nShow your support by wearing past year’s t-shirts next Sunday! \n\n\n\nCome see us in the Fellowship Hall for more information.
URL:https://murdockbaptistchurch.org/event/save-the-date-2026-walk-for-them/
LOCATION:Rotonda Community Park and Preserve\, 100 Rotonda Boulevard East\, Rotonda West\, Florida\, 33947\, United States
CATEGORIES:Jesus Loves You Ministry,Special Events
ATTACH;FMTTYPE=image/jpeg:https://murdockbaptistchurch.org/wp-content/uploads/2024/05/Ashley-JLY.jpg
END:VEVENT
BEGIN:VEVENT
DTSTART;TZID=America/New_York:20230121T093000
DTEND;TZID=America/New_York:20230121T120000
DTSTAMP:20260423T213457
CREATED:20230103T214937Z
LAST-MODIFIED:20230818T023745Z
UID:10003347-1674293400-1674302400@murdockbaptistchurch.org
SUMMARY:Jesus Loves You (walk for them)
DESCRIPTION:Join us for the 2nd Annual Jesus Loves You Ministry “Walk for THEM” fundraiser. \n\n\n\nAll proceeds raised will allow us to continue the ministry’s mission of providing Christ-centered services to the homeless\, making needed repairs to our ministry’s building so we can remain focused on our goal of preventing and ending homelessness in our community.  This is a family friendly event\, so bring the kiddos. \n\n\n\nRegister to walk or sponsor a walker online at jlywalkforthem.org.  \n\n\n\nIf you can’t walk\, please pray for us and come out and cheer us on!
URL:https://murdockbaptistchurch.org/event/jesus-loves-you-walk-for-them/
LOCATION:Rotonda Community Park and Preserve\, 100 Rotonda Boulevard East\, Rotonda West\, Florida\, 33947\, United States
CATEGORIES:Jesus Loves You Ministry,Special Events
END:VEVENT
END:VCALENDAR