BEGIN:VCALENDAR
VERSION:2.0
PRODID:-//Murdock Baptist Church - ECPv6.15.20//NONSGML v1.0//EN
CALSCALE:GREGORIAN
METHOD:PUBLISH
X-ORIGINAL-URL:https://murdockbaptistchurch.org
X-WR-CALDESC:Events for Murdock Baptist Church
REFRESH-INTERVAL;VALUE=DURATION:PT1H
X-Robots-Tag:noindex
X-PUBLISHED-TTL:PT1H
BEGIN:VTIMEZONE
TZID:America/New_York
BEGIN:DAYLIGHT
TZOFFSETFROM:-0500
TZOFFSETTO:-0400
TZNAME:EDT
DTSTART:20250309T070000
END:DAYLIGHT
BEGIN:STANDARD
TZOFFSETFROM:-0400
TZOFFSETTO:-0500
TZNAME:EST
DTSTART:20251102T060000
END:STANDARD
BEGIN:DAYLIGHT
TZOFFSETFROM:-0500
TZOFFSETTO:-0400
TZNAME:EDT
DTSTART:20260308T070000
END:DAYLIGHT
BEGIN:STANDARD
TZOFFSETFROM:-0400
TZOFFSETTO:-0500
TZNAME:EST
DTSTART:20261101T060000
END:STANDARD
BEGIN:DAYLIGHT
TZOFFSETFROM:-0500
TZOFFSETTO:-0400
TZNAME:EDT
DTSTART:20270314T070000
END:DAYLIGHT
BEGIN:STANDARD
TZOFFSETFROM:-0400
TZOFFSETTO:-0500
TZNAME:EST
DTSTART:20271107T060000
END:STANDARD
END:VTIMEZONE
BEGIN:VEVENT
DTSTART;TZID=America/New_York:20260314T090000
DTEND;TZID=America/New_York:20260314T150000
DTSTAMP:20260424T001858
CREATED:20260217T165002Z
LAST-MODIFIED:20260217T165005Z
UID:10009605-1773478800-1773500400@murdockbaptistchurch.org
SUMMARY:Florida Baptist Diaster Relief Training
DESCRIPTION:This year’s training for our region 6 will be held on Saturday\, March 14th at McGregor Baptist Church\, Ft. Myers. \n\n\n\nFor more information on registering go to https://fl.sbcworkspace.com/pub/event/register/55238352
URL:https://murdockbaptistchurch.org/event/florida-baptist-diaster-relief-training/
LOCATION:McGregor Baptist Church\, 3750 Colonial Boulevard\, Fort Myers\, Florida\, 33966
CATEGORIES:Special Events
ATTACH;FMTTYPE=image/jpeg:https://murdockbaptistchurch.org/wp-content/uploads/2023/09/diaster-relief.jpg
END:VEVENT
END:VCALENDAR