BEGIN:VCALENDAR
VERSION:2.0
PRODID:-//Murdock Baptist Church - ECPv6.15.20//NONSGML v1.0//EN
CALSCALE:GREGORIAN
METHOD:PUBLISH
X-ORIGINAL-URL:https://murdockbaptistchurch.org
X-WR-CALDESC:Events for Murdock Baptist Church
REFRESH-INTERVAL;VALUE=DURATION:PT1H
X-Robots-Tag:noindex
X-PUBLISHED-TTL:PT1H
BEGIN:VTIMEZONE
TZID:America/New_York
BEGIN:DAYLIGHT
TZOFFSETFROM:-0500
TZOFFSETTO:-0400
TZNAME:EDT
DTSTART:20250309T070000
END:DAYLIGHT
BEGIN:STANDARD
TZOFFSETFROM:-0400
TZOFFSETTO:-0500
TZNAME:EST
DTSTART:20251102T060000
END:STANDARD
BEGIN:DAYLIGHT
TZOFFSETFROM:-0500
TZOFFSETTO:-0400
TZNAME:EDT
DTSTART:20260308T070000
END:DAYLIGHT
BEGIN:STANDARD
TZOFFSETFROM:-0400
TZOFFSETTO:-0500
TZNAME:EST
DTSTART:20261101T060000
END:STANDARD
BEGIN:DAYLIGHT
TZOFFSETFROM:-0500
TZOFFSETTO:-0400
TZNAME:EDT
DTSTART:20270314T070000
END:DAYLIGHT
BEGIN:STANDARD
TZOFFSETFROM:-0400
TZOFFSETTO:-0500
TZNAME:EST
DTSTART:20271107T060000
END:STANDARD
END:VTIMEZONE
BEGIN:VEVENT
DTSTART;TZID=America/New_York:20260425T080000
DTEND;TZID=America/New_York:20260425T100000
DTSTAMP:20260423T115913
CREATED:20260302T183453Z
LAST-MODIFIED:20260302T184524Z
UID:10009608-1777104000-1777111200@murdockbaptistchurch.org
SUMMARY:Men's Prayer & Praise
DESCRIPTION:A time dedicated to prayer\, worship & fellowship!
URL:https://murdockbaptistchurch.org/event/mens-prayer-praise-2/2026-04-25/
LOCATION:Main Building A\, Fellowship Hall\, 18375 Cochran Boulevard\, Port Charlotte\, Florida\, 33948\, United States
CATEGORIES:Barnabas Men’s Group,Men's Ministry,Ministries,Special Events
END:VEVENT
BEGIN:VEVENT
DTSTART;TZID=America/New_York:20260427T080000
DTEND;TZID=America/New_York:20260427T090000
DTSTAMP:20260423T115913
CREATED:20250908T190900Z
LAST-MODIFIED:20250925T133728Z
UID:10008948-1777276800-1777280400@murdockbaptistchurch.org
SUMMARY:Men's Ministry: Barnabas Sermon Debrief & Fellowship
DESCRIPTION:
URL:https://murdockbaptistchurch.org/event/mens-ministry-barnabas-sermon-debrief-fellowship/2026-04-27/
LOCATION:Main Building A\, Fellowship Hall\, 18375 Cochran Boulevard\, Port Charlotte\, Florida\, 33948\, United States
CATEGORIES:Barnabas Men’s Group,Ministries,Special Events
ATTACH;FMTTYPE=image/jpeg:https://murdockbaptistchurch.org/wp-content/uploads/2023/03/large-mens-ministry.jpg
END:VEVENT
BEGIN:VEVENT
DTSTART;TZID=America/New_York:20260428T180000
DTEND;TZID=America/New_York:20260428T190000
DTSTAMP:20260423T115913
CREATED:20250925T134401Z
LAST-MODIFIED:20251014T141510Z
UID:10009090-1777399200-1777402800@murdockbaptistchurch.org
SUMMARY:Men's Tuesday Bible Study
DESCRIPTION:
URL:https://murdockbaptistchurch.org/event/mens-tuesday-bible-study-2/2026-04-28/
LOCATION:Main Building A\, Fellowship Hall\, 18375 Cochran Boulevard\, Port Charlotte\, Florida\, 33948\, United States
CATEGORIES:Barnabas Men’s Group,Men’s Bible Study,Ministries,Special Events
ATTACH;FMTTYPE=image/jpeg:https://murdockbaptistchurch.org/wp-content/uploads/2023/01/mens-bible-study-murdock-baptist-church.jpg
END:VEVENT
BEGIN:VEVENT
DTSTART;TZID=America/New_York:20260429T180000
DTEND;TZID=America/New_York:20260429T190000
DTSTAMP:20260423T115913
CREATED:20260111T165303Z
LAST-MODIFIED:20260111T165307Z
UID:10009576-1777485600-1777489200@murdockbaptistchurch.org
SUMMARY:Wednesday Night Bible Study
DESCRIPTION:Join Pastor Ron at 6 p.m.\, as we dive into a study on the parables of Jesus.
URL:https://murdockbaptistchurch.org/event/wednesday-night-bible-study/2026-04-29/
LOCATION:Main Building A\, Fellowship Hall\, 18375 Cochran Boulevard\, Port Charlotte\, Florida\, 33948\, United States
CATEGORIES:Bible Study - In-person,Special Events
ATTACH;FMTTYPE=image/jpeg:https://murdockbaptistchurch.org/wp-content/uploads/2022/12/pastor-ron-tipton.jpg
END:VEVENT
BEGIN:VEVENT
DTSTART;TZID=America/New_York:20260506T180000
DTEND;TZID=America/New_York:20260506T190000
DTSTAMP:20260423T115913
CREATED:20260413T125819Z
LAST-MODIFIED:20260418T025956Z
UID:10009806-1778090400-1778094000@murdockbaptistchurch.org
SUMMARY:MBC Wednesday Night Summer Schedule: AWANA Awards Night
DESCRIPTION:AWANA Awards Night – A celebration for our graduates of the AWANA school year!
URL:https://murdockbaptistchurch.org/event/mbc-wednesday-night-summer-schedule-awana-awards-night/
LOCATION:Main Building A\, Fellowship Hall\, 18375 Cochran Boulevard\, Port Charlotte\, Florida\, 33948\, United States
CATEGORIES:AWANA Clubs,Children's Ministry,Ministries,Preschool Ministry,Special Events,Student Ministry
ATTACH;FMTTYPE=image/jpeg:https://murdockbaptistchurch.org/wp-content/uploads/2023/05/awana-logo-cropped.jpg
END:VEVENT
BEGIN:VEVENT
DTSTART;TZID=America/New_York:20260513T180000
DTEND;TZID=America/New_York:20260513T190000
DTSTAMP:20260423T115913
CREATED:20260413T130737Z
LAST-MODIFIED:20260413T130741Z
UID:10009807-1778695200-1778698800@murdockbaptistchurch.org
SUMMARY:MBC Wednesday Night Summer Schedule: Potluck & Officer Appreciation
DESCRIPTION:Bring a dish and get to know our local police officers and show them you appreciate their work to keep us all safe.
URL:https://murdockbaptistchurch.org/event/mbc-wednesday-night-summer-schedule-potluck-officer-appreciation/
LOCATION:Main Building A\, Fellowship Hall\, 18375 Cochran Boulevard\, Port Charlotte\, Florida\, 33948\, United States
CATEGORIES:Special Events
ATTACH;FMTTYPE=image/jpeg:https://murdockbaptistchurch.org/wp-content/uploads/2026/04/667879097_1376800817814502_4712857679865163654_n.jpg
END:VEVENT
BEGIN:VEVENT
DTSTART;TZID=America/New_York:20260516T113000
DTEND;TZID=America/New_York:20260516T130000
DTSTAMP:20260423T115913
CREATED:20260409T202929Z
LAST-MODIFIED:20260420T023438Z
UID:10009802-1778931000-1778936400@murdockbaptistchurch.org
SUMMARY:Murdock Women - Country Western Barbecue
DESCRIPTION:Y’all Come! \n\n\n\nWhat: A Country Western BarbecueWhen: Saturday\, May 16th 11:30 amHow Much: $15 a ticket \n\n\n\nWhat to expect: Line Dancing (We will learn together!!)\, A special Country Mystery Guest\, Great Barbecue food\, a fun photo booth and more!! \n\n\n\nCome Hungry\, dressed in your favorite Western Wear and be ready for a good time! \n\n\n\nTickets will be on sale after service for the next 5 weeks! Invite a friend and get out your cowgirl boots!! \n\n\n\nFor more information you can email me at barb@overflowinghope.com or text 408 621-9417. \n\n\n\nHope to see you there!! \n\n\n\nBarb MillerWomen’s Ministry Director at MBC
URL:https://murdockbaptistchurch.org/event/murdock-women-country-western-barbecue/
LOCATION:Main Building A\, Fellowship Hall\, 18375 Cochran Boulevard\, Port Charlotte\, Florida\, 33948\, United States
CATEGORIES:God's Garden,Ministries,Special Events,Women's Ministry
ATTACH;FMTTYPE=image/jpeg:https://murdockbaptistchurch.org/wp-content/uploads/2026/04/womens-bbq.jpg
END:VEVENT
END:VCALENDAR