BEGIN:VCALENDAR
VERSION:2.0
PRODID:-//Murdock Baptist Church - ECPv6.15.20//NONSGML v1.0//EN
CALSCALE:GREGORIAN
METHOD:PUBLISH
X-ORIGINAL-URL:https://murdockbaptistchurch.org
X-WR-CALDESC:Events for Murdock Baptist Church
REFRESH-INTERVAL;VALUE=DURATION:PT1H
X-Robots-Tag:noindex
X-PUBLISHED-TTL:PT1H
BEGIN:VTIMEZONE
TZID:America/New_York
BEGIN:DAYLIGHT
TZOFFSETFROM:-0500
TZOFFSETTO:-0400
TZNAME:EDT
DTSTART:20230312T070000
END:DAYLIGHT
BEGIN:STANDARD
TZOFFSETFROM:-0400
TZOFFSETTO:-0500
TZNAME:EST
DTSTART:20231105T060000
END:STANDARD
BEGIN:DAYLIGHT
TZOFFSETFROM:-0500
TZOFFSETTO:-0400
TZNAME:EDT
DTSTART:20240310T070000
END:DAYLIGHT
BEGIN:STANDARD
TZOFFSETFROM:-0400
TZOFFSETTO:-0500
TZNAME:EST
DTSTART:20241103T060000
END:STANDARD
BEGIN:DAYLIGHT
TZOFFSETFROM:-0500
TZOFFSETTO:-0400
TZNAME:EDT
DTSTART:20250309T070000
END:DAYLIGHT
BEGIN:STANDARD
TZOFFSETFROM:-0400
TZOFFSETTO:-0500
TZNAME:EST
DTSTART:20251102T060000
END:STANDARD
BEGIN:DAYLIGHT
TZOFFSETFROM:-0500
TZOFFSETTO:-0400
TZNAME:EDT
DTSTART:20260308T070000
END:DAYLIGHT
BEGIN:STANDARD
TZOFFSETFROM:-0400
TZOFFSETTO:-0500
TZNAME:EST
DTSTART:20261101T060000
END:STANDARD
BEGIN:DAYLIGHT
TZOFFSETFROM:-0500
TZOFFSETTO:-0400
TZNAME:EDT
DTSTART:20270314T070000
END:DAYLIGHT
BEGIN:STANDARD
TZOFFSETFROM:-0400
TZOFFSETTO:-0500
TZNAME:EST
DTSTART:20271107T060000
END:STANDARD
END:VTIMEZONE
BEGIN:VEVENT
DTSTART;TZID=America/New_York:20260422T180000
DTEND;TZID=America/New_York:20260422T190000
DTSTAMP:20260423T133526
CREATED:20260111T165303Z
LAST-MODIFIED:20260111T165307Z
UID:10009575-1776880800-1776884400@murdockbaptistchurch.org
SUMMARY:Wednesday Night Bible Study
DESCRIPTION:Join Pastor Ron at 6 p.m.\, as we dive into a study on the parables of Jesus.
URL:https://murdockbaptistchurch.org/event/wednesday-night-bible-study/2026-04-22/
LOCATION:Main Building A\, Fellowship Hall\, 18375 Cochran Boulevard\, Port Charlotte\, Florida\, 33948\, United States
CATEGORIES:Bible Study - In-person,Special Events
ATTACH;FMTTYPE=image/jpeg:https://murdockbaptistchurch.org/wp-content/uploads/2022/12/pastor-ron-tipton.jpg
END:VEVENT
BEGIN:VEVENT
DTSTART;TZID=America/New_York:20260421T180000
DTEND;TZID=America/New_York:20260421T190000
DTSTAMP:20260423T133526
CREATED:20250925T134401Z
LAST-MODIFIED:20251014T141510Z
UID:10009089-1776794400-1776798000@murdockbaptistchurch.org
SUMMARY:Men's Tuesday Bible Study
DESCRIPTION:
URL:https://murdockbaptistchurch.org/event/mens-tuesday-bible-study-2/2026-04-21/
LOCATION:Main Building A\, Fellowship Hall\, 18375 Cochran Boulevard\, Port Charlotte\, Florida\, 33948\, United States
CATEGORIES:Barnabas Men’s Group,Men’s Bible Study,Ministries,Special Events
ATTACH;FMTTYPE=image/jpeg:https://murdockbaptistchurch.org/wp-content/uploads/2023/01/mens-bible-study-murdock-baptist-church.jpg
END:VEVENT
BEGIN:VEVENT
DTSTART;TZID=America/New_York:20260420T080000
DTEND;TZID=America/New_York:20260420T090000
DTSTAMP:20260423T133526
CREATED:20250908T190900Z
LAST-MODIFIED:20250925T133728Z
UID:10008947-1776672000-1776675600@murdockbaptistchurch.org
SUMMARY:Men's Ministry: Barnabas Sermon Debrief & Fellowship
DESCRIPTION:
URL:https://murdockbaptistchurch.org/event/mens-ministry-barnabas-sermon-debrief-fellowship/2026-04-20/
LOCATION:Main Building A\, Fellowship Hall\, 18375 Cochran Boulevard\, Port Charlotte\, Florida\, 33948\, United States
CATEGORIES:Barnabas Men’s Group,Ministries,Special Events
ATTACH;FMTTYPE=image/jpeg:https://murdockbaptistchurch.org/wp-content/uploads/2023/03/large-mens-ministry.jpg
END:VEVENT
BEGIN:VEVENT
DTSTART;TZID=America/New_York:20260304T173000
DTEND;TZID=America/New_York:20260304T190000
DTSTAMP:20260423T133526
CREATED:20260217T164038Z
LAST-MODIFIED:20260217T164041Z
UID:10009602-1772645400-1772650800@murdockbaptistchurch.org
SUMMARY:Welsh Revival\, University of Mobile
DESCRIPTION:Join us on Wednesday\, March 4th for a very special concert with Welsh Revival from the University of Mobile. Welsh Revival is an all-female instrumental traveling ensemble that performs Celtic and folk-styled music.  \n\n\n\nWe will start the evening off with a potluck dinner at 5:30 p.m. A sign-up sheet can be found at the back counter.  \n\n\n\nPlease bring your dish by 5:15 so we can eat promptly at 5:30 p.m. The concert will follow at 6:30 p.m.
URL:https://murdockbaptistchurch.org/event/welsh-revival-university-of-mobile/
LOCATION:Main Building A\, Fellowship Hall\, 18375 Cochran Boulevard\, Port Charlotte\, Florida\, 33948\, United States
CATEGORIES:Special Events
ATTACH;FMTTYPE=image/jpeg:https://murdockbaptistchurch.org/wp-content/uploads/2026/02/welsh-revival.jpg
END:VEVENT
BEGIN:VEVENT
DTSTART;TZID=America/New_York:20260218T180000
DTEND;TZID=America/New_York:20260218T183000
DTSTAMP:20260423T133526
CREATED:20260217T163155Z
LAST-MODIFIED:20260217T163158Z
UID:10009601-1771437600-1771439400@murdockbaptistchurch.org
SUMMARY:Quarterly Church Conference
DESCRIPTION:
URL:https://murdockbaptistchurch.org/event/quarterly-church-conference-6/
LOCATION:Main Building A\, Fellowship Hall\, 18375 Cochran Boulevard\, Port Charlotte\, Florida\, 33948\, United States
CATEGORIES:Quarterly Church Conference,Special Events
ATTACH;FMTTYPE=image/jpeg:https://murdockbaptistchurch.org/wp-content/uploads/2023/05/church-members-murdock-baptist-church.jpg
END:VEVENT
BEGIN:VEVENT
DTSTART;TZID=America/New_York:20260214T080000
DTEND;TZID=America/New_York:20260214T093000
DTSTAMP:20260423T133526
CREATED:20260108T203151Z
LAST-MODIFIED:20260108T203152Z
UID:10009559-1771056000-1771061400@murdockbaptistchurch.org
SUMMARY:Men's Ministry Breakfast
DESCRIPTION:
URL:https://murdockbaptistchurch.org/event/mens-ministry-breakfast-2/
LOCATION:Main Building A\, Fellowship Hall\, 18375 Cochran Boulevard\, Port Charlotte\, Florida\, 33948\, United States
CATEGORIES:Men's Ministry,Men’s Bible Study,Special Events
ATTACH;FMTTYPE=image/jpeg:https://murdockbaptistchurch.org/wp-content/uploads/2025/10/mens-breakfast.jpg
END:VEVENT
BEGIN:VEVENT
DTSTART;TZID=America/New_York:20260131T080000
DTEND;TZID=America/New_York:20260131T100000
DTSTAMP:20260423T133526
CREATED:20260108T030117Z
LAST-MODIFIED:20260302T172155Z
UID:10008774-1769846400-1769853600@murdockbaptistchurch.org
SUMMARY:Men's Prayer & Praise
DESCRIPTION:A time dedicated to prayer\, worship & fellowship!
URL:https://murdockbaptistchurch.org/event/mens-prayer-praise/
LOCATION:Main Building A\, Fellowship Hall\, 18375 Cochran Boulevard\, Port Charlotte\, Florida\, 33948\, United States
CATEGORIES:Barnabas Men’s Group,Men's Ministry,Ministries,Special Events
END:VEVENT
BEGIN:VEVENT
DTSTART;TZID=America/New_York:20260120T113000
DTEND;TZID=America/New_York:20260120T130000
DTSTAMP:20260423T133526
CREATED:20260111T170925Z
LAST-MODIFIED:20260111T170928Z
UID:10009594-1768908600-1768914000@murdockbaptistchurch.org
SUMMARY:Connection Luncheon
DESCRIPTION:The Connection is a MBC Ministry to ALL widows\, and single or divorced ladies over the age of 60 years young. To reserve your seat please call the church office at (941) 627-6352.
URL:https://murdockbaptistchurch.org/event/connection-luncheon-10/
LOCATION:Main Building A\, Fellowship Hall\, 18375 Cochran Boulevard\, Port Charlotte\, Florida\, 33948\, United States
CATEGORIES:Special Events,Women's Ministry
ATTACH;FMTTYPE=image/jpeg:https://murdockbaptistchurch.org/wp-content/uploads/2023/11/christmas-luncheon.jpg
END:VEVENT
BEGIN:VEVENT
DTSTART;TZID=America/New_York:20251221T093000
DTEND;TZID=America/New_York:20251221T110000
DTSTAMP:20260423T133526
CREATED:20251201T202654Z
LAST-MODIFIED:20251201T202657Z
UID:10009134-1766309400-1766314800@murdockbaptistchurch.org
SUMMARY:Choco-Lottie is coming!
DESCRIPTION:The preschool and children are selling hot chocolate and chocolate covered pretzels to rais emoney for the Lottie Moon Christmas Offering. Help us meet our goal of $1\,000! Find us in the fellowship hall or out the side door of the sanctuary toward the student building after service. \n\n\n\nThank you for supporting our kids as they participate in supporting our missionaries.
URL:https://murdockbaptistchurch.org/event/choco-lottie-is-coming/2025-12-21/
LOCATION:Main Building A\, Fellowship Hall\, 18375 Cochran Boulevard\, Port Charlotte\, Florida\, 33948\, United States
CATEGORIES:Children's Ministry,Preschool Ministry,Special Events,Student Ministry
ATTACH;FMTTYPE=image/jpeg:https://murdockbaptistchurch.org/wp-content/uploads/2023/06/pre-school-ministry2.jpg
END:VEVENT
BEGIN:VEVENT
DTSTART;TZID=America/New_York:20251219T180000
DTEND;TZID=America/New_York:20251219T190000
DTSTAMP:20260423T133526
CREATED:20250804T155456Z
LAST-MODIFIED:20250805T180226Z
UID:10008909-1766167200-1766170800@murdockbaptistchurch.org
SUMMARY:Total Body Worship
DESCRIPTION:Murdock Women join us in the Fellowship Hall on the third Friday of every month from 6-7 p.m.\,beginning August 15th. \n\n\n\nTina Melik and Nancy Cowan will lead us in movement\, drumming and a good workout\, as we worship to fabulous praise music together. Come and bring a friend! There is no cost for this.
URL:https://murdockbaptistchurch.org/event/total-body-worship/2025-12-19/
LOCATION:Main Building A\, Fellowship Hall\, 18375 Cochran Boulevard\, Port Charlotte\, Florida\, 33948\, United States
CATEGORIES:God's Garden,Life Groups,Ministries,Special Events,Women's Ministry
ATTACH;FMTTYPE=image/jpeg:https://murdockbaptistchurch.org/wp-content/uploads/2025/08/t1larg.jpg
END:VEVENT
BEGIN:VEVENT
DTSTART;TZID=America/New_York:20251217T180000
DTEND;TZID=America/New_York:20251217T190000
DTSTAMP:20260423T133526
CREATED:20250929T130849Z
LAST-MODIFIED:20250929T130858Z
UID:10009054-1765994400-1765998000@murdockbaptistchurch.org
SUMMARY:Wednesday Bible Study
DESCRIPTION:Join Pastor Ron as we continue to look at the book of Judges and fill in the pieces we missed during our Sunday morning series.
URL:https://murdockbaptistchurch.org/event/wednesday-bible-study/2025-12-17/
LOCATION:Main Building A\, Fellowship Hall\, 18375 Cochran Boulevard\, Port Charlotte\, Florida\, 33948\, United States
CATEGORIES:Bible Study - In-person,Ministries,Special Events
ATTACH;FMTTYPE=image/jpeg:https://murdockbaptistchurch.org/wp-content/uploads/2022/12/pastor-ron-tipton.jpg
END:VEVENT
BEGIN:VEVENT
DTSTART;TZID=America/New_York:20251203T180000
DTEND;TZID=America/New_York:20251203T190000
DTSTAMP:20260423T133526
CREATED:20251124T153014Z
LAST-MODIFIED:20251124T153016Z
UID:10009129-1764784800-1764788400@murdockbaptistchurch.org
SUMMARY:Cuba Report
DESCRIPTION:Come and hear how God is moving in the hearts of the Cubans and in the volunteer missionaries. Also hear how God has answered your prayers for the Cuba team. You might just feel God speaking to you about going next time.
URL:https://murdockbaptistchurch.org/event/cuba-report/
LOCATION:Main Building A\, Fellowship Hall\, 18375 Cochran Boulevard\, Port Charlotte\, Florida\, 33948\, United States
CATEGORIES:Special Events
ATTACH;FMTTYPE=image/png:https://murdockbaptistchurch.org/wp-content/uploads/2024/06/cuba-report.png
END:VEVENT
BEGIN:VEVENT
DTSTART;TZID=America/New_York:20251118T113000
DTEND;TZID=America/New_York:20251118T130000
DTSTAMP:20260423T133526
CREATED:20251103T220318Z
LAST-MODIFIED:20251103T220321Z
UID:10009117-1763465400-1763470800@murdockbaptistchurch.org
SUMMARY:Connection Luncheon
DESCRIPTION:The Connection is a MBC Ministru to ALL widows\, and single or divorced ladies over the age of 60 years young. To reserve your seat\, please call the church office at (941) 627-6352.
URL:https://murdockbaptistchurch.org/event/connection-luncheon-8/
LOCATION:Main Building A\, Fellowship Hall\, 18375 Cochran Boulevard\, Port Charlotte\, Florida\, 33948\, United States
CATEGORIES:God's Garden,Special Events,Women's Ministry
ATTACH;FMTTYPE=image/jpeg:https://murdockbaptistchurch.org/wp-content/uploads/2025/06/luncheon10.jpg
END:VEVENT
BEGIN:VEVENT
DTSTART;TZID=America/New_York:20251108T080000
DTEND;TZID=America/New_York:20251108T090000
DTSTAMP:20260423T133526
CREATED:20251027T194357Z
LAST-MODIFIED:20251027T194400Z
UID:10009115-1762588800-1762592400@murdockbaptistchurch.org
SUMMARY:Men's Ministry Breakfast
DESCRIPTION:Join us for a time of fellowship and a special guest speaker.
URL:https://murdockbaptistchurch.org/event/mens-ministry-breakfast/
LOCATION:Main Building A\, Fellowship Hall\, 18375 Cochran Boulevard\, Port Charlotte\, Florida\, 33948\, United States
CATEGORIES:Men's Ministry,Men’s Bible Study,Special Events
ATTACH;FMTTYPE=image/jpeg:https://murdockbaptistchurch.org/wp-content/uploads/2025/10/mens-breakfast.jpg
END:VEVENT
BEGIN:VEVENT
DTSTART;TZID=America/New_York:20250928T163000
DTEND;TZID=America/New_York:20250928T183000
DTSTAMP:20260423T133526
CREATED:20250925T134747Z
LAST-MODIFIED:20250925T134751Z
UID:10009041-1759077000-1759084200@murdockbaptistchurch.org
SUMMARY:Family Fellowship for Parents\, Kids & Young Adults
DESCRIPTION:Join us for a Potluck Supper in the Fellowship Hall.  Sign-ups are available in the lobby of Buildings B&C.
URL:https://murdockbaptistchurch.org/event/family-fellowship-for-parents-kids-young-adults-4/
LOCATION:Main Building A\, Fellowship Hall\, 18375 Cochran Boulevard\, Port Charlotte\, Florida\, 33948\, United States
CATEGORIES:Children's Ministry,Ministries,Special Events,Student Ministry
ATTACH;FMTTYPE=image/jpeg:https://murdockbaptistchurch.org/wp-content/uploads/2023/05/potluck.jpg
END:VEVENT
BEGIN:VEVENT
DTSTART;TZID=America/New_York:20250916T113000
DTEND;TZID=America/New_York:20250916T130000
DTSTAMP:20260423T133526
CREATED:20250908T190431Z
LAST-MODIFIED:20250908T190446Z
UID:10008914-1758022200-1758027600@murdockbaptistchurch.org
SUMMARY:Connection Luncheon
DESCRIPTION:The Connection is a MBC Minitry to ALL widows\, and single or divorced ladies over the age of 60 years young. To reserve your seat\, please call the church office at 941-627-6352.
URL:https://murdockbaptistchurch.org/event/connection-luncheon-6/
LOCATION:Main Building A\, Fellowship Hall\, 18375 Cochran Boulevard\, Port Charlotte\, Florida\, 33948\, United States
CATEGORIES:God's Garden,Ministries,Special Events,Women's Ministry
ATTACH;FMTTYPE=image/jpeg:https://murdockbaptistchurch.org/wp-content/uploads/2023/11/christmas-luncheon.jpg
END:VEVENT
BEGIN:VEVENT
DTSTART;TZID=America/New_York:20250910T180000
DTEND;TZID=America/New_York:20250910T200000
DTSTAMP:20260423T133526
CREATED:20250908T185358Z
LAST-MODIFIED:20250908T185411Z
UID:10008912-1757527200-1757534400@murdockbaptistchurch.org
SUMMARY:Wednesday Movie Night
DESCRIPTION:Join us for a special showing of Truth Rising\, a groundbreaking new documentary presented by the Colson Center and Focus on the Family\, tells stories of how ordinary Christians are making an impact through their everyday lives. Co-hosted by Os Gusiness and John Stonestreet. Truth Rising isn’t just a documentary–it’s a call to action at a critical time in our culture. Come\, and be encouraged!
URL:https://murdockbaptistchurch.org/event/wednesday-movie-night/
LOCATION:Main Building A\, Fellowship Hall\, 18375 Cochran Boulevard\, Port Charlotte\, Florida\, 33948\, United States
CATEGORIES:Special Events
ATTACH;FMTTYPE=image/jpeg:https://murdockbaptistchurch.org/wp-content/uploads/2025/09/truth-rising.jpg
END:VEVENT
BEGIN:VEVENT
DTSTART;TZID=America/New_York:20250819T113000
DTEND;TZID=America/New_York:20250819T130000
DTSTAMP:20260423T133526
CREATED:20250804T153801Z
LAST-MODIFIED:20250804T153819Z
UID:10008903-1755603000-1755608400@murdockbaptistchurch.org
SUMMARY:Connection Luncheon
DESCRIPTION:The Connection is a MBC Ministry to ALL widows\, and single or divorced ladies over the age of 60 years young. \n\n\n\nTo reserve your seat\, please call the church office at 941-627-6352.
URL:https://murdockbaptistchurch.org/event/connection-luncheon-5/
LOCATION:Main Building A\, Fellowship Hall\, 18375 Cochran Boulevard\, Port Charlotte\, Florida\, 33948\, United States
CATEGORIES:God's Garden,Ladies Bible Study,Ministries,Special Events,Women's Ministry
ATTACH;FMTTYPE=image/jpeg:https://murdockbaptistchurch.org/wp-content/uploads/2023/11/christmas-luncheon.jpg
END:VEVENT
BEGIN:VEVENT
DTSTART;TZID=America/New_York:20250706T120000
DTEND;TZID=America/New_York:20250706T123000
DTSTAMP:20260423T133526
CREATED:20250623T192804Z
LAST-MODIFIED:20250623T192815Z
UID:10008857-1751803200-1751805000@murdockbaptistchurch.org
SUMMARY:Cuba Interest Meetings
DESCRIPTION:We are going back to Camajuani\, Cuba on November 15 through the 22nd. At this meeting\, we will discuss the trip details\, including children’s\, women’s\, and preaching ministries\, pre-arranged house visits\, food\, sleeping arrangements\, costs\, travel logistics\, and any other aspects of the trip you may have questions about. Attendance does not obligate you in any way – you are welcome to join us even if you’re simply curious about Cuba missions.  \n\n\n\nAt this meeting\, you may pick up an application which will be due on August 3\, 2025. Questions? Call or text Gordon Caldwell (941) 661-0446.
URL:https://murdockbaptistchurch.org/event/cuba-interest-meetings/2025-07-06/2/
LOCATION:Main Building A\, Fellowship Hall\, 18375 Cochran Boulevard\, Port Charlotte\, Florida\, 33948\, United States
CATEGORIES:Special Events
ATTACH;FMTTYPE=image/png:https://murdockbaptistchurch.org/wp-content/uploads/2024/06/cuba-report.png
END:VEVENT
BEGIN:VEVENT
DTSTART;TZID=America/New_York:20250629T163000
DTEND;TZID=America/New_York:20250629T183000
DTSTAMP:20260423T133526
CREATED:20250623T191720Z
LAST-MODIFIED:20250623T191733Z
UID:10008855-1751214600-1751221800@murdockbaptistchurch.org
SUMMARY:Family Fellowship for Parents\, Kids & Young Adults
DESCRIPTION:Join us for a Potluck supper in the Fellowship Hall\, Sunday\, June 29th from 4:30 – 6:30 p.m. \n\n\n\nSign-ups are available in the lobby of Buildings B & C.
URL:https://murdockbaptistchurch.org/event/family-fellowship-for-parents-kids-young-adults-2/
LOCATION:Main Building A\, Fellowship Hall\, 18375 Cochran Boulevard\, Port Charlotte\, Florida\, 33948\, United States
CATEGORIES:Special Events
ATTACH;FMTTYPE=image/jpeg:https://murdockbaptistchurch.org/wp-content/uploads/2023/05/potluck.jpg
END:VEVENT
BEGIN:VEVENT
DTSTART;TZID=America/New_York:20250628T180000
DTEND;TZID=America/New_York:20250628T200000
DTSTAMP:20260423T133526
CREATED:20250623T190537Z
LAST-MODIFIED:20250623T191103Z
UID:10008854-1751133600-1751140800@murdockbaptistchurch.org
SUMMARY:Wednesday Night Summer - MOVIE Night
DESCRIPTION:Join us for movie night this Wednesday at 6 p.m. The heavens are telling the glory of God\, and their expanse declares the work of His hands. \n\n\n\nIndescribable takes us on an image-rich journey through the cosmos\, allowing us to peer into God’s universe to discover the amazing magnitude of His greatness and grace.
URL:https://murdockbaptistchurch.org/event/wednesday-night-summer-movie-night/
LOCATION:Main Building A\, Fellowship Hall\, 18375 Cochran Boulevard\, Port Charlotte\, Florida\, 33948\, United States
CATEGORIES:Special Events
ATTACH;FMTTYPE=image/jpeg:https://murdockbaptistchurch.org/wp-content/uploads/2022/12/FAMILYMOVIENIGHTPROSPERUMC_5E816A00.jpg
END:VEVENT
BEGIN:VEVENT
DTSTART;TZID=America/New_York:20250617T113000
DTEND;TZID=America/New_York:20250617T130000
DTSTAMP:20260423T133526
CREATED:20250603T230526Z
LAST-MODIFIED:20250603T230534Z
UID:10008830-1750159800-1750165200@murdockbaptistchurch.org
SUMMARY:Connection Luncheon
DESCRIPTION:The Connection is a MBC Ministry to ALL widows\, and singleor divorced ladies over the age of 60 years young. To reserve your seat\, please call the church office at (941) 627-3652.
URL:https://murdockbaptistchurch.org/event/connection-luncheon-4/
LOCATION:Main Building A\, Fellowship Hall\, 18375 Cochran Boulevard\, Port Charlotte\, Florida\, 33948\, United States
CATEGORIES:Ladies Bible Study,Special Events,Women's Ministry
ATTACH;FMTTYPE=image/jpeg:https://murdockbaptistchurch.org/wp-content/uploads/2023/05/ladies-luncheon.jpg
END:VEVENT
BEGIN:VEVENT
DTSTART;TZID=America/New_York:20250528T180000
DTEND;TZID=America/New_York:20250528T190000
DTSTAMP:20260423T133526
CREATED:20250527T173617Z
LAST-MODIFIED:20250527T173633Z
UID:10008829-1748455200-1748458800@murdockbaptistchurch.org
SUMMARY:Wednesday Night Summer Schedule - Potluck
DESCRIPTION:Join us this Wednesday at 6 p.m. for a potluck fellowship followed by a time of sharing testimonies.  \n\n\n\nSign-up sheet located at the back counter.
URL:https://murdockbaptistchurch.org/event/wednesday-night-summer-schedule-potluck/
LOCATION:Main Building A\, Fellowship Hall\, 18375 Cochran Boulevard\, Port Charlotte\, Florida\, 33948\, United States
CATEGORIES:Special Events
ATTACH;FMTTYPE=image/jpeg:https://murdockbaptistchurch.org/wp-content/uploads/2023/05/potluck.jpg
END:VEVENT
BEGIN:VEVENT
DTSTART;TZID=America/New_York:20250525T163000
DTEND;TZID=America/New_York:20250525T183000
DTSTAMP:20260423T133526
CREATED:20250512T184900Z
LAST-MODIFIED:20250512T184919Z
UID:10008827-1748190600-1748197800@murdockbaptistchurch.org
SUMMARY:Family Fellowship for Parents\, Kids & Young Adults
DESCRIPTION:Join us for a Potluck supper in the Fellowship Hall. Sign-ups are available in the lobby of Buildings B & C.
URL:https://murdockbaptistchurch.org/event/family-fellowship-for-parents-kids-young-adults/
LOCATION:Main Building A\, Fellowship Hall\, 18375 Cochran Boulevard\, Port Charlotte\, Florida\, 33948\, United States
CATEGORIES:Children's Ministry,Ministries,Preschool Ministry,Special Events,Student Ministry
ATTACH;FMTTYPE=image/webp:https://murdockbaptistchurch.org/wp-content/uploads/2025/02/NextGen5-copy.webp
END:VEVENT
BEGIN:VEVENT
DTSTART;TZID=America/New_York:20250514T170000
DTEND;TZID=America/New_York:20250514T183000
DTSTAMP:20260423T133526
CREATED:20250507T184704Z
LAST-MODIFIED:20250507T184719Z
UID:10008826-1747242000-1747247400@murdockbaptistchurch.org
SUMMARY:AWANA Awards Night
DESCRIPTION:Be part of the celebration! On Wednesday\, May 14th we will gather in the Fellowship Hall to celebrate what the children havce accomplished all year. Everyone is invited! Pizza dinner will be served at 5:15 with the Award Ceremeony to follow.
URL:https://murdockbaptistchurch.org/event/awana-awards-night-2/
LOCATION:Main Building A\, Fellowship Hall\, 18375 Cochran Boulevard\, Port Charlotte\, Florida\, 33948\, United States
CATEGORIES:Children's Ministry,Ministries,Preschool Ministry,Special Events,Student Ministry
ATTACH;FMTTYPE=image/jpeg:https://murdockbaptistchurch.org/wp-content/uploads/2023/05/awana-logo-cropped.jpg
END:VEVENT
BEGIN:VEVENT
DTSTART;TZID=America/New_York:20250415T003000
DTEND;TZID=America/New_York:20250415T010000
DTSTAMP:20260423T133526
CREATED:20250407T124123Z
LAST-MODIFIED:20250407T124141Z
UID:10008759-1744677000-1744678800@murdockbaptistchurch.org
SUMMARY:Connection Luncheon
DESCRIPTION:The Connection is a MBC Ministry to ALL widows\, and single or divorced ladies over the age of 60 years young. To rserve your seat\, please call the church office at 1-941-627-6352.
URL:https://murdockbaptistchurch.org/event/connection-luncheon-3/
LOCATION:Main Building A\, Fellowship Hall\, 18375 Cochran Boulevard\, Port Charlotte\, Florida\, 33948\, United States
CATEGORIES:God's Garden,Life Groups,Ministries,Special Events,Women's Ministry
ATTACH;FMTTYPE=image/jpeg:https://murdockbaptistchurch.org/wp-content/uploads/2023/11/christmas-luncheon.jpg
END:VEVENT
BEGIN:VEVENT
DTSTART;TZID=America/New_York:20250322T090000
DTEND;TZID=America/New_York:20250322T150000
DTSTAMP:20260423T133526
CREATED:20250203T140823Z
LAST-MODIFIED:20250312T172352Z
UID:10008748-1742634000-1742655600@murdockbaptistchurch.org
SUMMARY:One-Day Seminary for Everyday Believers
DESCRIPTION:How Does It All Fit Together?\n\n\n\n\n\n\n\n\n\nMost Christians don’t have an opportunity to go to seminary …UNTIL NOW! Biblical beliefs are not simply a bunch of independent doctrines; they form an entire worldview system. If you understand the system\, our faith forms a unified whole. And that is the value of seminary training – you learn the unified whole. You can’t learn all the details in a single day\, but you can learn the system. With that\, you have a foundation for learning everything else. Register by scanning the QR code or sign-up in the Fellowship Hall or click the button below. \n\n\n\nRegister Now
URL:https://murdockbaptistchurch.org/event/one-day-seminar-for-everyday-believers/
LOCATION:Main Building A\, Fellowship Hall\, 18375 Cochran Boulevard\, Port Charlotte\, Florida\, 33948\, United States
CATEGORIES:Special Events
ATTACH;FMTTYPE=image/webp:https://murdockbaptistchurch.org/wp-content/uploads/2025/02/482995360_120218615903960502_138154561712819730_n.webp
END:VEVENT
BEGIN:VEVENT
DTSTART;TZID=America/New_York:20241217T113000
DTEND;TZID=America/New_York:20241217T130000
DTSTAMP:20260423T133526
CREATED:20230517T211237Z
LAST-MODIFIED:20240219T195550Z
UID:10007611-1734435000-1734440400@murdockbaptistchurch.org
SUMMARY:Connection Luncheon
DESCRIPTION:This is open to all widows\, singles\, divorcees over the age of 60 years young.  Ladies please join us for Lunch. RSVP required.
URL:https://murdockbaptistchurch.org/event/connection-luncheon-2/2024-12-17/
LOCATION:Main Building A\, Fellowship Hall\, 18375 Cochran Boulevard\, Port Charlotte\, Florida\, 33948\, United States
CATEGORIES:Ministries,Women's Ministry
ATTACH;FMTTYPE=image/jpeg:https://murdockbaptistchurch.org/wp-content/uploads/2023/05/ladies-luncheon.jpg
END:VEVENT
BEGIN:VEVENT
DTSTART;TZID=America/New_York:20241120T180000
DTEND;TZID=America/New_York:20241120T190000
DTSTAMP:20260423T133526
CREATED:20240826T130559Z
LAST-MODIFIED:20240923T133344Z
UID:10008487-1732125600-1732129200@murdockbaptistchurch.org
SUMMARY:Wednesday Night Bible Study
DESCRIPTION:Join Pastor Ron beginning August 28th at 6:00 p.m. for a study in the book of Philemon.
URL:https://murdockbaptistchurch.org/event/wednesday-night-bibl-study/2024-11-20/
LOCATION:Main Building A\, Fellowship Hall\, 18375 Cochran Boulevard\, Port Charlotte\, Florida\, 33948\, United States
CATEGORIES:Bible Study - In-person
ATTACH;FMTTYPE=image/jpeg:https://murdockbaptistchurch.org/wp-content/uploads/2023/01/bible-study-fellowship-hall-murdock-baptist-church.jpg
END:VEVENT
BEGIN:VEVENT
DTSTART;TZID=America/New_York:20241109T080000
DTEND;TZID=America/New_York:20241109T090000
DTSTAMP:20260423T133526
CREATED:20240128T045949Z
LAST-MODIFIED:20240302T143728Z
UID:10007712-1731139200-1731142800@murdockbaptistchurch.org
SUMMARY:Monthly Men's Pancake Breakfast
DESCRIPTION:Join us and bring a friend for breakfast\, fellowship and a brief presentation.
URL:https://murdockbaptistchurch.org/event/monthly-mens-pancake-breakfast/2024-11-09/
LOCATION:Main Building A\, Fellowship Hall\, 18375 Cochran Boulevard\, Port Charlotte\, Florida\, 33948\, United States
CATEGORIES:Barnabas Men’s Group,Special Events
ATTACH;FMTTYPE=image/jpeg:https://murdockbaptistchurch.org/wp-content/uploads/2024/01/pancakes.jpg
END:VEVENT
END:VCALENDAR