BEGIN:VCALENDAR
VERSION:2.0
PRODID:-//Murdock Baptist Church - ECPv6.15.20//NONSGML v1.0//EN
CALSCALE:GREGORIAN
METHOD:PUBLISH
X-WR-CALNAME:Murdock Baptist Church
X-ORIGINAL-URL:https://murdockbaptistchurch.org
X-WR-CALDESC:Events for Murdock Baptist Church
REFRESH-INTERVAL;VALUE=DURATION:PT1H
X-Robots-Tag:noindex
X-PUBLISHED-TTL:PT1H
BEGIN:VTIMEZONE
TZID:America/New_York
BEGIN:DAYLIGHT
TZOFFSETFROM:-0500
TZOFFSETTO:-0400
TZNAME:EDT
DTSTART:20240310T070000
END:DAYLIGHT
BEGIN:STANDARD
TZOFFSETFROM:-0400
TZOFFSETTO:-0500
TZNAME:EST
DTSTART:20241103T060000
END:STANDARD
BEGIN:DAYLIGHT
TZOFFSETFROM:-0500
TZOFFSETTO:-0400
TZNAME:EDT
DTSTART:20250309T070000
END:DAYLIGHT
BEGIN:STANDARD
TZOFFSETFROM:-0400
TZOFFSETTO:-0500
TZNAME:EST
DTSTART:20251102T060000
END:STANDARD
BEGIN:DAYLIGHT
TZOFFSETFROM:-0500
TZOFFSETTO:-0400
TZNAME:EDT
DTSTART:20260308T070000
END:DAYLIGHT
BEGIN:STANDARD
TZOFFSETFROM:-0400
TZOFFSETTO:-0500
TZNAME:EST
DTSTART:20261101T060000
END:STANDARD
END:VTIMEZONE
BEGIN:VEVENT
DTSTART;TZID=America/New_York:20251025T190000
DTEND;TZID=America/New_York:20251025T210000
DTSTAMP:20260423T194834
CREATED:20251014T140508Z
LAST-MODIFIED:20251014T140511Z
UID:10009059-1761418800-1761426000@murdockbaptistchurch.org
SUMMARY:LifeWise News - Join us at the Movies
DESCRIPTION:Tickets are now live for Off School Property — The LifeWise movie! \n\n\n\nOn October 23rd this one-nightfirlm will premiere in theaters across the country and right here in Port Charlotte! \n\n\n\n\n\n\n\nThe movie tells the story of how the Bible was removed from public education. It was like pulling the wrong piece from a Jenga tower – everything started to crumble. But it also shows how LifeWise is helping rebuild\, one student and one school at a time. Buy your tickets at lifewise.org/offschoolproperty or scan the QR code on the right.
URL:https://murdockbaptistchurch.org/event/lifewise-news-join-us-at-the-movies-2/
LOCATION:Regal Town Center\, Port Charlotte\, 1441 Tamiami Trial\, Unit 701\, Port Charlotte\, 33948
CATEGORIES:Special Events
ATTACH;FMTTYPE=image/jpeg:https://murdockbaptistchurch.org/wp-content/uploads/2025/10/OSP-Ticketing-Thumbnail-Poster_Fathom__jpg.jpg
END:VEVENT
END:VCALENDAR