BEGIN:VCALENDAR
VERSION:2.0
PRODID:-//Murdock Baptist Church - ECPv6.15.20//NONSGML v1.0//EN
CALSCALE:GREGORIAN
METHOD:PUBLISH
X-WR-CALNAME:Murdock Baptist Church
X-ORIGINAL-URL:https://murdockbaptistchurch.org
X-WR-CALDESC:Events for Murdock Baptist Church
REFRESH-INTERVAL;VALUE=DURATION:PT1H
X-Robots-Tag:noindex
X-PUBLISHED-TTL:PT1H
BEGIN:VTIMEZONE
TZID:America/New_York
BEGIN:DAYLIGHT
TZOFFSETFROM:-0500
TZOFFSETTO:-0400
TZNAME:EDT
DTSTART:20250309T070000
END:DAYLIGHT
BEGIN:STANDARD
TZOFFSETFROM:-0400
TZOFFSETTO:-0500
TZNAME:EST
DTSTART:20251102T060000
END:STANDARD
BEGIN:DAYLIGHT
TZOFFSETFROM:-0500
TZOFFSETTO:-0400
TZNAME:EDT
DTSTART:20260308T070000
END:DAYLIGHT
BEGIN:STANDARD
TZOFFSETFROM:-0400
TZOFFSETTO:-0500
TZNAME:EST
DTSTART:20261101T060000
END:STANDARD
BEGIN:DAYLIGHT
TZOFFSETFROM:-0500
TZOFFSETTO:-0400
TZNAME:EDT
DTSTART:20270314T070000
END:DAYLIGHT
BEGIN:STANDARD
TZOFFSETFROM:-0400
TZOFFSETTO:-0500
TZNAME:EST
DTSTART:20271107T060000
END:STANDARD
BEGIN:DAYLIGHT
TZOFFSETFROM:-0500
TZOFFSETTO:-0400
TZNAME:EDT
DTSTART:20280312T070000
END:DAYLIGHT
BEGIN:STANDARD
TZOFFSETFROM:-0400
TZOFFSETTO:-0500
TZNAME:EST
DTSTART:20281105T060000
END:STANDARD
BEGIN:DAYLIGHT
TZOFFSETFROM:-0500
TZOFFSETTO:-0400
TZNAME:EDT
DTSTART:20290311T070000
END:DAYLIGHT
BEGIN:STANDARD
TZOFFSETFROM:-0400
TZOFFSETTO:-0500
TZNAME:EST
DTSTART:20291104T060000
END:STANDARD
END:VTIMEZONE
BEGIN:VEVENT
DTSTART;TZID=America/New_York:20260519T113000
DTEND;TZID=America/New_York:20260519T130000
DTSTAMP:20260423T132332
CREATED:20260401T203513Z
LAST-MODIFIED:20260401T203516Z
UID:10009740-1779190200-1779195600@murdockbaptistchurch.org
SUMMARY:Women's Ministry / Connection Luncheon
DESCRIPTION:The Connection is a MBC Ministry to ALL widows\, and single or divorced ladies over the age of 60 years young. To reserve your seat please call the church office at 941-627-6352.
URL:https://murdockbaptistchurch.org/event/womens-ministry-connection-luncheon/2026-05-19/
END:VEVENT
BEGIN:VEVENT
DTSTART;TZID=America/New_York:20260616T113000
DTEND;TZID=America/New_York:20260616T130000
DTSTAMP:20260423T132332
CREATED:20260401T203513Z
LAST-MODIFIED:20260401T203516Z
UID:10009741-1781609400-1781614800@murdockbaptistchurch.org
SUMMARY:Women's Ministry / Connection Luncheon
DESCRIPTION:The Connection is a MBC Ministry to ALL widows\, and single or divorced ladies over the age of 60 years young. To reserve your seat please call the church office at 941-627-6352.
URL:https://murdockbaptistchurch.org/event/womens-ministry-connection-luncheon/2026-06-16/
END:VEVENT
BEGIN:VEVENT
DTSTART;TZID=America/New_York:20260721T113000
DTEND;TZID=America/New_York:20260721T130000
DTSTAMP:20260423T132332
CREATED:20260401T203513Z
LAST-MODIFIED:20260401T203516Z
UID:10009742-1784633400-1784638800@murdockbaptistchurch.org
SUMMARY:Women's Ministry / Connection Luncheon
DESCRIPTION:The Connection is a MBC Ministry to ALL widows\, and single or divorced ladies over the age of 60 years young. To reserve your seat please call the church office at 941-627-6352.
URL:https://murdockbaptistchurch.org/event/womens-ministry-connection-luncheon/2026-07-21/
END:VEVENT
BEGIN:VEVENT
DTSTART;TZID=America/New_York:20260818T113000
DTEND;TZID=America/New_York:20260818T130000
DTSTAMP:20260423T132332
CREATED:20260401T203513Z
LAST-MODIFIED:20260401T203516Z
UID:10009743-1787052600-1787058000@murdockbaptistchurch.org
SUMMARY:Women's Ministry / Connection Luncheon
DESCRIPTION:The Connection is a MBC Ministry to ALL widows\, and single or divorced ladies over the age of 60 years young. To reserve your seat please call the church office at 941-627-6352.
URL:https://murdockbaptistchurch.org/event/womens-ministry-connection-luncheon/2026-08-18/
END:VEVENT
BEGIN:VEVENT
DTSTART;TZID=America/New_York:20260915T113000
DTEND;TZID=America/New_York:20260915T130000
DTSTAMP:20260423T132332
CREATED:20260401T203513Z
LAST-MODIFIED:20260401T203516Z
UID:10009744-1789471800-1789477200@murdockbaptistchurch.org
SUMMARY:Women's Ministry / Connection Luncheon
DESCRIPTION:The Connection is a MBC Ministry to ALL widows\, and single or divorced ladies over the age of 60 years young. To reserve your seat please call the church office at 941-627-6352.
URL:https://murdockbaptistchurch.org/event/womens-ministry-connection-luncheon/2026-09-15/
END:VEVENT
BEGIN:VEVENT
DTSTART;TZID=America/New_York:20261020T113000
DTEND;TZID=America/New_York:20261020T130000
DTSTAMP:20260423T132332
CREATED:20260401T203513Z
LAST-MODIFIED:20260401T203516Z
UID:10009745-1792495800-1792501200@murdockbaptistchurch.org
SUMMARY:Women's Ministry / Connection Luncheon
DESCRIPTION:The Connection is a MBC Ministry to ALL widows\, and single or divorced ladies over the age of 60 years young. To reserve your seat please call the church office at 941-627-6352.
URL:https://murdockbaptistchurch.org/event/womens-ministry-connection-luncheon/2026-10-20/
END:VEVENT
BEGIN:VEVENT
DTSTART;TZID=America/New_York:20261117T113000
DTEND;TZID=America/New_York:20261117T130000
DTSTAMP:20260423T132332
CREATED:20260401T203513Z
LAST-MODIFIED:20260401T203516Z
UID:10009746-1794915000-1794920400@murdockbaptistchurch.org
SUMMARY:Women's Ministry / Connection Luncheon
DESCRIPTION:The Connection is a MBC Ministry to ALL widows\, and single or divorced ladies over the age of 60 years young. To reserve your seat please call the church office at 941-627-6352.
URL:https://murdockbaptistchurch.org/event/womens-ministry-connection-luncheon/2026-11-17/
END:VEVENT
BEGIN:VEVENT
DTSTART;TZID=America/New_York:20261215T113000
DTEND;TZID=America/New_York:20261215T130000
DTSTAMP:20260423T132332
CREATED:20260401T203513Z
LAST-MODIFIED:20260401T203516Z
UID:10009747-1797334200-1797339600@murdockbaptistchurch.org
SUMMARY:Women's Ministry / Connection Luncheon
DESCRIPTION:The Connection is a MBC Ministry to ALL widows\, and single or divorced ladies over the age of 60 years young. To reserve your seat please call the church office at 941-627-6352.
URL:https://murdockbaptistchurch.org/event/womens-ministry-connection-luncheon/2026-12-15/
END:VEVENT
BEGIN:VEVENT
DTSTART;TZID=America/New_York:20270119T113000
DTEND;TZID=America/New_York:20270119T130000
DTSTAMP:20260423T132332
CREATED:20260401T203513Z
LAST-MODIFIED:20260401T203516Z
UID:10009748-1800358200-1800363600@murdockbaptistchurch.org
SUMMARY:Women's Ministry / Connection Luncheon
DESCRIPTION:The Connection is a MBC Ministry to ALL widows\, and single or divorced ladies over the age of 60 years young. To reserve your seat please call the church office at 941-627-6352.
URL:https://murdockbaptistchurch.org/event/womens-ministry-connection-luncheon/2027-01-19/
END:VEVENT
BEGIN:VEVENT
DTSTART;TZID=America/New_York:20270216T113000
DTEND;TZID=America/New_York:20270216T130000
DTSTAMP:20260423T132332
CREATED:20260401T203513Z
LAST-MODIFIED:20260401T203516Z
UID:10009749-1802777400-1802782800@murdockbaptistchurch.org
SUMMARY:Women's Ministry / Connection Luncheon
DESCRIPTION:The Connection is a MBC Ministry to ALL widows\, and single or divorced ladies over the age of 60 years young. To reserve your seat please call the church office at 941-627-6352.
URL:https://murdockbaptistchurch.org/event/womens-ministry-connection-luncheon/2027-02-16/
END:VEVENT
BEGIN:VEVENT
DTSTART;TZID=America/New_York:20270316T113000
DTEND;TZID=America/New_York:20270316T130000
DTSTAMP:20260423T132332
CREATED:20260401T203513Z
LAST-MODIFIED:20260401T203516Z
UID:10009750-1805196600-1805202000@murdockbaptistchurch.org
SUMMARY:Women's Ministry / Connection Luncheon
DESCRIPTION:The Connection is a MBC Ministry to ALL widows\, and single or divorced ladies over the age of 60 years young. To reserve your seat please call the church office at 941-627-6352.
URL:https://murdockbaptistchurch.org/event/womens-ministry-connection-luncheon/2027-03-16/
END:VEVENT
BEGIN:VEVENT
DTSTART;TZID=America/New_York:20270420T113000
DTEND;TZID=America/New_York:20270420T130000
DTSTAMP:20260423T132332
CREATED:20260401T203513Z
LAST-MODIFIED:20260401T203516Z
UID:10009751-1808220600-1808226000@murdockbaptistchurch.org
SUMMARY:Women's Ministry / Connection Luncheon
DESCRIPTION:The Connection is a MBC Ministry to ALL widows\, and single or divorced ladies over the age of 60 years young. To reserve your seat please call the church office at 941-627-6352.
URL:https://murdockbaptistchurch.org/event/womens-ministry-connection-luncheon/2027-04-20/
END:VEVENT
BEGIN:VEVENT
DTSTART;TZID=America/New_York:20270518T113000
DTEND;TZID=America/New_York:20270518T130000
DTSTAMP:20260423T132332
CREATED:20260401T203513Z
LAST-MODIFIED:20260401T203516Z
UID:10009752-1810639800-1810645200@murdockbaptistchurch.org
SUMMARY:Women's Ministry / Connection Luncheon
DESCRIPTION:The Connection is a MBC Ministry to ALL widows\, and single or divorced ladies over the age of 60 years young. To reserve your seat please call the church office at 941-627-6352.
URL:https://murdockbaptistchurch.org/event/womens-ministry-connection-luncheon/2027-05-18/
END:VEVENT
BEGIN:VEVENT
DTSTART;TZID=America/New_York:20270615T113000
DTEND;TZID=America/New_York:20270615T130000
DTSTAMP:20260423T132332
CREATED:20260401T203513Z
LAST-MODIFIED:20260401T203516Z
UID:10009753-1813059000-1813064400@murdockbaptistchurch.org
SUMMARY:Women's Ministry / Connection Luncheon
DESCRIPTION:The Connection is a MBC Ministry to ALL widows\, and single or divorced ladies over the age of 60 years young. To reserve your seat please call the church office at 941-627-6352.
URL:https://murdockbaptistchurch.org/event/womens-ministry-connection-luncheon/2027-06-15/
END:VEVENT
BEGIN:VEVENT
DTSTART;TZID=America/New_York:20270720T113000
DTEND;TZID=America/New_York:20270720T130000
DTSTAMP:20260423T132332
CREATED:20260401T203513Z
LAST-MODIFIED:20260401T203516Z
UID:10009754-1816083000-1816088400@murdockbaptistchurch.org
SUMMARY:Women's Ministry / Connection Luncheon
DESCRIPTION:The Connection is a MBC Ministry to ALL widows\, and single or divorced ladies over the age of 60 years young. To reserve your seat please call the church office at 941-627-6352.
URL:https://murdockbaptistchurch.org/event/womens-ministry-connection-luncheon/2027-07-20/
END:VEVENT
BEGIN:VEVENT
DTSTART;TZID=America/New_York:20270817T113000
DTEND;TZID=America/New_York:20270817T130000
DTSTAMP:20260423T132332
CREATED:20260401T203513Z
LAST-MODIFIED:20260401T203516Z
UID:10009755-1818502200-1818507600@murdockbaptistchurch.org
SUMMARY:Women's Ministry / Connection Luncheon
DESCRIPTION:The Connection is a MBC Ministry to ALL widows\, and single or divorced ladies over the age of 60 years young. To reserve your seat please call the church office at 941-627-6352.
URL:https://murdockbaptistchurch.org/event/womens-ministry-connection-luncheon/2027-08-17/
END:VEVENT
BEGIN:VEVENT
DTSTART;TZID=America/New_York:20270921T113000
DTEND;TZID=America/New_York:20270921T130000
DTSTAMP:20260423T132332
CREATED:20260401T203513Z
LAST-MODIFIED:20260401T203516Z
UID:10009756-1821526200-1821531600@murdockbaptistchurch.org
SUMMARY:Women's Ministry / Connection Luncheon
DESCRIPTION:The Connection is a MBC Ministry to ALL widows\, and single or divorced ladies over the age of 60 years young. To reserve your seat please call the church office at 941-627-6352.
URL:https://murdockbaptistchurch.org/event/womens-ministry-connection-luncheon/2027-09-21/
END:VEVENT
BEGIN:VEVENT
DTSTART;TZID=America/New_York:20271019T113000
DTEND;TZID=America/New_York:20271019T130000
DTSTAMP:20260423T132332
CREATED:20260401T203513Z
LAST-MODIFIED:20260401T203516Z
UID:10009757-1823945400-1823950800@murdockbaptistchurch.org
SUMMARY:Women's Ministry / Connection Luncheon
DESCRIPTION:The Connection is a MBC Ministry to ALL widows\, and single or divorced ladies over the age of 60 years young. To reserve your seat please call the church office at 941-627-6352.
URL:https://murdockbaptistchurch.org/event/womens-ministry-connection-luncheon/2027-10-19/
END:VEVENT
BEGIN:VEVENT
DTSTART;TZID=America/New_York:20271116T113000
DTEND;TZID=America/New_York:20271116T130000
DTSTAMP:20260423T132332
CREATED:20260401T203513Z
LAST-MODIFIED:20260401T203516Z
UID:10009758-1826364600-1826370000@murdockbaptistchurch.org
SUMMARY:Women's Ministry / Connection Luncheon
DESCRIPTION:The Connection is a MBC Ministry to ALL widows\, and single or divorced ladies over the age of 60 years young. To reserve your seat please call the church office at 941-627-6352.
URL:https://murdockbaptistchurch.org/event/womens-ministry-connection-luncheon/2027-11-16/
END:VEVENT
BEGIN:VEVENT
DTSTART;TZID=America/New_York:20271221T113000
DTEND;TZID=America/New_York:20271221T130000
DTSTAMP:20260423T132332
CREATED:20260401T203513Z
LAST-MODIFIED:20260401T203516Z
UID:10009759-1829388600-1829394000@murdockbaptistchurch.org
SUMMARY:Women's Ministry / Connection Luncheon
DESCRIPTION:The Connection is a MBC Ministry to ALL widows\, and single or divorced ladies over the age of 60 years young. To reserve your seat please call the church office at 941-627-6352.
URL:https://murdockbaptistchurch.org/event/womens-ministry-connection-luncheon/2027-12-21/
END:VEVENT
BEGIN:VEVENT
DTSTART;TZID=America/New_York:20280118T113000
DTEND;TZID=America/New_York:20280118T130000
DTSTAMP:20260423T132332
CREATED:20260401T203513Z
LAST-MODIFIED:20260401T203516Z
UID:10009760-1831807800-1831813200@murdockbaptistchurch.org
SUMMARY:Women's Ministry / Connection Luncheon
DESCRIPTION:The Connection is a MBC Ministry to ALL widows\, and single or divorced ladies over the age of 60 years young. To reserve your seat please call the church office at 941-627-6352.
URL:https://murdockbaptistchurch.org/event/womens-ministry-connection-luncheon/2028-01-18/
END:VEVENT
BEGIN:VEVENT
DTSTART;TZID=America/New_York:20280215T113000
DTEND;TZID=America/New_York:20280215T130000
DTSTAMP:20260423T132332
CREATED:20260401T203513Z
LAST-MODIFIED:20260401T203516Z
UID:10009761-1834227000-1834232400@murdockbaptistchurch.org
SUMMARY:Women's Ministry / Connection Luncheon
DESCRIPTION:The Connection is a MBC Ministry to ALL widows\, and single or divorced ladies over the age of 60 years young. To reserve your seat please call the church office at 941-627-6352.
URL:https://murdockbaptistchurch.org/event/womens-ministry-connection-luncheon/2028-02-15/
END:VEVENT
BEGIN:VEVENT
DTSTART;TZID=America/New_York:20280321T113000
DTEND;TZID=America/New_York:20280321T130000
DTSTAMP:20260423T132332
CREATED:20260401T203513Z
LAST-MODIFIED:20260401T203516Z
UID:10009762-1837251000-1837256400@murdockbaptistchurch.org
SUMMARY:Women's Ministry / Connection Luncheon
DESCRIPTION:The Connection is a MBC Ministry to ALL widows\, and single or divorced ladies over the age of 60 years young. To reserve your seat please call the church office at 941-627-6352.
URL:https://murdockbaptistchurch.org/event/womens-ministry-connection-luncheon/2028-03-21/
END:VEVENT
BEGIN:VEVENT
DTSTART;TZID=America/New_York:20280418T113000
DTEND;TZID=America/New_York:20280418T130000
DTSTAMP:20260423T132332
CREATED:20260401T203513Z
LAST-MODIFIED:20260401T203516Z
UID:10009763-1839670200-1839675600@murdockbaptistchurch.org
SUMMARY:Women's Ministry / Connection Luncheon
DESCRIPTION:The Connection is a MBC Ministry to ALL widows\, and single or divorced ladies over the age of 60 years young. To reserve your seat please call the church office at 941-627-6352.
URL:https://murdockbaptistchurch.org/event/womens-ministry-connection-luncheon/2028-04-18/
END:VEVENT
BEGIN:VEVENT
DTSTART;TZID=America/New_York:20280516T113000
DTEND;TZID=America/New_York:20280516T130000
DTSTAMP:20260423T132332
CREATED:20260401T203513Z
LAST-MODIFIED:20260401T203516Z
UID:10009764-1842089400-1842094800@murdockbaptistchurch.org
SUMMARY:Women's Ministry / Connection Luncheon
DESCRIPTION:The Connection is a MBC Ministry to ALL widows\, and single or divorced ladies over the age of 60 years young. To reserve your seat please call the church office at 941-627-6352.
URL:https://murdockbaptistchurch.org/event/womens-ministry-connection-luncheon/2028-05-16/
END:VEVENT
BEGIN:VEVENT
DTSTART;TZID=America/New_York:20280620T113000
DTEND;TZID=America/New_York:20280620T130000
DTSTAMP:20260423T132332
CREATED:20260401T203513Z
LAST-MODIFIED:20260401T203516Z
UID:10009765-1845113400-1845118800@murdockbaptistchurch.org
SUMMARY:Women's Ministry / Connection Luncheon
DESCRIPTION:The Connection is a MBC Ministry to ALL widows\, and single or divorced ladies over the age of 60 years young. To reserve your seat please call the church office at 941-627-6352.
URL:https://murdockbaptistchurch.org/event/womens-ministry-connection-luncheon/2028-06-20/
END:VEVENT
BEGIN:VEVENT
DTSTART;TZID=America/New_York:20280718T113000
DTEND;TZID=America/New_York:20280718T130000
DTSTAMP:20260423T132332
CREATED:20260401T203513Z
LAST-MODIFIED:20260401T203516Z
UID:10009766-1847532600-1847538000@murdockbaptistchurch.org
SUMMARY:Women's Ministry / Connection Luncheon
DESCRIPTION:The Connection is a MBC Ministry to ALL widows\, and single or divorced ladies over the age of 60 years young. To reserve your seat please call the church office at 941-627-6352.
URL:https://murdockbaptistchurch.org/event/womens-ministry-connection-luncheon/2028-07-18/
END:VEVENT
BEGIN:VEVENT
DTSTART;TZID=America/New_York:20280815T113000
DTEND;TZID=America/New_York:20280815T130000
DTSTAMP:20260423T132332
CREATED:20260401T203513Z
LAST-MODIFIED:20260401T203516Z
UID:10009767-1849951800-1849957200@murdockbaptistchurch.org
SUMMARY:Women's Ministry / Connection Luncheon
DESCRIPTION:The Connection is a MBC Ministry to ALL widows\, and single or divorced ladies over the age of 60 years young. To reserve your seat please call the church office at 941-627-6352.
URL:https://murdockbaptistchurch.org/event/womens-ministry-connection-luncheon/2028-08-15/
END:VEVENT
BEGIN:VEVENT
DTSTART;TZID=America/New_York:20280919T113000
DTEND;TZID=America/New_York:20280919T130000
DTSTAMP:20260423T132332
CREATED:20260401T203513Z
LAST-MODIFIED:20260401T203516Z
UID:10009768-1852975800-1852981200@murdockbaptistchurch.org
SUMMARY:Women's Ministry / Connection Luncheon
DESCRIPTION:The Connection is a MBC Ministry to ALL widows\, and single or divorced ladies over the age of 60 years young. To reserve your seat please call the church office at 941-627-6352.
URL:https://murdockbaptistchurch.org/event/womens-ministry-connection-luncheon/2028-09-19/
END:VEVENT
BEGIN:VEVENT
DTSTART;TZID=America/New_York:20281017T113000
DTEND;TZID=America/New_York:20281017T130000
DTSTAMP:20260423T132332
CREATED:20260401T203513Z
LAST-MODIFIED:20260401T203516Z
UID:10009769-1855395000-1855400400@murdockbaptistchurch.org
SUMMARY:Women's Ministry / Connection Luncheon
DESCRIPTION:The Connection is a MBC Ministry to ALL widows\, and single or divorced ladies over the age of 60 years young. To reserve your seat please call the church office at 941-627-6352.
URL:https://murdockbaptistchurch.org/event/womens-ministry-connection-luncheon/2028-10-17/
END:VEVENT
END:VCALENDAR