BEGIN:VCALENDAR
VERSION:2.0
PRODID:-//Murdock Baptist Church - ECPv6.15.20//NONSGML v1.0//EN
CALSCALE:GREGORIAN
METHOD:PUBLISH
X-WR-CALNAME:Murdock Baptist Church
X-ORIGINAL-URL:https://murdockbaptistchurch.org
X-WR-CALDESC:Events for Murdock Baptist Church
REFRESH-INTERVAL;VALUE=DURATION:PT1H
X-Robots-Tag:noindex
X-PUBLISHED-TTL:PT1H
BEGIN:VTIMEZONE
TZID:America/New_York
BEGIN:DAYLIGHT
TZOFFSETFROM:-0500
TZOFFSETTO:-0400
TZNAME:EDT
DTSTART:20250309T070000
END:DAYLIGHT
BEGIN:STANDARD
TZOFFSETFROM:-0400
TZOFFSETTO:-0500
TZNAME:EST
DTSTART:20251102T060000
END:STANDARD
BEGIN:DAYLIGHT
TZOFFSETFROM:-0500
TZOFFSETTO:-0400
TZNAME:EDT
DTSTART:20260308T070000
END:DAYLIGHT
BEGIN:STANDARD
TZOFFSETFROM:-0400
TZOFFSETTO:-0500
TZNAME:EST
DTSTART:20261101T060000
END:STANDARD
BEGIN:DAYLIGHT
TZOFFSETFROM:-0500
TZOFFSETTO:-0400
TZNAME:EDT
DTSTART:20270314T070000
END:DAYLIGHT
BEGIN:STANDARD
TZOFFSETFROM:-0400
TZOFFSETTO:-0500
TZNAME:EST
DTSTART:20271107T060000
END:STANDARD
BEGIN:DAYLIGHT
TZOFFSETFROM:-0500
TZOFFSETTO:-0400
TZNAME:EDT
DTSTART:20280312T070000
END:DAYLIGHT
BEGIN:STANDARD
TZOFFSETFROM:-0400
TZOFFSETTO:-0500
TZNAME:EST
DTSTART:20281105T060000
END:STANDARD
BEGIN:DAYLIGHT
TZOFFSETFROM:-0500
TZOFFSETTO:-0400
TZNAME:EDT
DTSTART:20290311T070000
END:DAYLIGHT
BEGIN:STANDARD
TZOFFSETFROM:-0400
TZOFFSETTO:-0500
TZNAME:EST
DTSTART:20291104T060000
END:STANDARD
END:VTIMEZONE
BEGIN:VEVENT
DTSTART;TZID=America/New_York:20260515T180000
DTEND;TZID=America/New_York:20260515T190000
DTSTAMP:20260423T132325
CREATED:20260401T191612Z
LAST-MODIFIED:20260401T191615Z
UID:10009680-1778868000-1778871600@murdockbaptistchurch.org
SUMMARY:Women's Ministry - Total Body Worship!
DESCRIPTION:Join Tina Melik & Nancy Cowan as they lead us in movement\, drumming and a good workout. They’ll also share a devotion\, and we’ll worship together with uplifting praise music.  Come and bring a friend!  There is no cost.
URL:https://murdockbaptistchurch.org/event/womens-ministry-total-body-worship/2026-05-15/
END:VEVENT
BEGIN:VEVENT
DTSTART;TZID=America/New_York:20260619T180000
DTEND;TZID=America/New_York:20260619T190000
DTSTAMP:20260423T132325
CREATED:20260401T191612Z
LAST-MODIFIED:20260401T191615Z
UID:10009681-1781892000-1781895600@murdockbaptistchurch.org
SUMMARY:Women's Ministry - Total Body Worship!
DESCRIPTION:Join Tina Melik & Nancy Cowan as they lead us in movement\, drumming and a good workout. They’ll also share a devotion\, and we’ll worship together with uplifting praise music.  Come and bring a friend!  There is no cost.
URL:https://murdockbaptistchurch.org/event/womens-ministry-total-body-worship/2026-06-19/
END:VEVENT
BEGIN:VEVENT
DTSTART;TZID=America/New_York:20260717T180000
DTEND;TZID=America/New_York:20260717T190000
DTSTAMP:20260423T132325
CREATED:20260401T191612Z
LAST-MODIFIED:20260401T191615Z
UID:10009682-1784311200-1784314800@murdockbaptistchurch.org
SUMMARY:Women's Ministry - Total Body Worship!
DESCRIPTION:Join Tina Melik & Nancy Cowan as they lead us in movement\, drumming and a good workout. They’ll also share a devotion\, and we’ll worship together with uplifting praise music.  Come and bring a friend!  There is no cost.
URL:https://murdockbaptistchurch.org/event/womens-ministry-total-body-worship/2026-07-17/
END:VEVENT
BEGIN:VEVENT
DTSTART;TZID=America/New_York:20260821T180000
DTEND;TZID=America/New_York:20260821T190000
DTSTAMP:20260423T132325
CREATED:20260401T191612Z
LAST-MODIFIED:20260401T191615Z
UID:10009683-1787335200-1787338800@murdockbaptistchurch.org
SUMMARY:Women's Ministry - Total Body Worship!
DESCRIPTION:Join Tina Melik & Nancy Cowan as they lead us in movement\, drumming and a good workout. They’ll also share a devotion\, and we’ll worship together with uplifting praise music.  Come and bring a friend!  There is no cost.
URL:https://murdockbaptistchurch.org/event/womens-ministry-total-body-worship/2026-08-21/
END:VEVENT
BEGIN:VEVENT
DTSTART;TZID=America/New_York:20260918T180000
DTEND;TZID=America/New_York:20260918T190000
DTSTAMP:20260423T132325
CREATED:20260401T191612Z
LAST-MODIFIED:20260401T191615Z
UID:10009684-1789754400-1789758000@murdockbaptistchurch.org
SUMMARY:Women's Ministry - Total Body Worship!
DESCRIPTION:Join Tina Melik & Nancy Cowan as they lead us in movement\, drumming and a good workout. They’ll also share a devotion\, and we’ll worship together with uplifting praise music.  Come and bring a friend!  There is no cost.
URL:https://murdockbaptistchurch.org/event/womens-ministry-total-body-worship/2026-09-18/
END:VEVENT
BEGIN:VEVENT
DTSTART;TZID=America/New_York:20261016T180000
DTEND;TZID=America/New_York:20261016T190000
DTSTAMP:20260423T132325
CREATED:20260401T191612Z
LAST-MODIFIED:20260401T191615Z
UID:10009685-1792173600-1792177200@murdockbaptistchurch.org
SUMMARY:Women's Ministry - Total Body Worship!
DESCRIPTION:Join Tina Melik & Nancy Cowan as they lead us in movement\, drumming and a good workout. They’ll also share a devotion\, and we’ll worship together with uplifting praise music.  Come and bring a friend!  There is no cost.
URL:https://murdockbaptistchurch.org/event/womens-ministry-total-body-worship/2026-10-16/
END:VEVENT
BEGIN:VEVENT
DTSTART;TZID=America/New_York:20261120T180000
DTEND;TZID=America/New_York:20261120T190000
DTSTAMP:20260423T132325
CREATED:20260401T191612Z
LAST-MODIFIED:20260401T191615Z
UID:10009686-1795197600-1795201200@murdockbaptistchurch.org
SUMMARY:Women's Ministry - Total Body Worship!
DESCRIPTION:Join Tina Melik & Nancy Cowan as they lead us in movement\, drumming and a good workout. They’ll also share a devotion\, and we’ll worship together with uplifting praise music.  Come and bring a friend!  There is no cost.
URL:https://murdockbaptistchurch.org/event/womens-ministry-total-body-worship/2026-11-20/
END:VEVENT
BEGIN:VEVENT
DTSTART;TZID=America/New_York:20261218T180000
DTEND;TZID=America/New_York:20261218T190000
DTSTAMP:20260423T132325
CREATED:20260401T191612Z
LAST-MODIFIED:20260401T191615Z
UID:10009687-1797616800-1797620400@murdockbaptistchurch.org
SUMMARY:Women's Ministry - Total Body Worship!
DESCRIPTION:Join Tina Melik & Nancy Cowan as they lead us in movement\, drumming and a good workout. They’ll also share a devotion\, and we’ll worship together with uplifting praise music.  Come and bring a friend!  There is no cost.
URL:https://murdockbaptistchurch.org/event/womens-ministry-total-body-worship/2026-12-18/
END:VEVENT
BEGIN:VEVENT
DTSTART;TZID=America/New_York:20270115T180000
DTEND;TZID=America/New_York:20270115T190000
DTSTAMP:20260423T132325
CREATED:20260401T191612Z
LAST-MODIFIED:20260401T191615Z
UID:10009688-1800036000-1800039600@murdockbaptistchurch.org
SUMMARY:Women's Ministry - Total Body Worship!
DESCRIPTION:Join Tina Melik & Nancy Cowan as they lead us in movement\, drumming and a good workout. They’ll also share a devotion\, and we’ll worship together with uplifting praise music.  Come and bring a friend!  There is no cost.
URL:https://murdockbaptistchurch.org/event/womens-ministry-total-body-worship/2027-01-15/
END:VEVENT
BEGIN:VEVENT
DTSTART;TZID=America/New_York:20270219T180000
DTEND;TZID=America/New_York:20270219T190000
DTSTAMP:20260423T132325
CREATED:20260401T191612Z
LAST-MODIFIED:20260401T191615Z
UID:10009689-1803060000-1803063600@murdockbaptistchurch.org
SUMMARY:Women's Ministry - Total Body Worship!
DESCRIPTION:Join Tina Melik & Nancy Cowan as they lead us in movement\, drumming and a good workout. They’ll also share a devotion\, and we’ll worship together with uplifting praise music.  Come and bring a friend!  There is no cost.
URL:https://murdockbaptistchurch.org/event/womens-ministry-total-body-worship/2027-02-19/
END:VEVENT
BEGIN:VEVENT
DTSTART;TZID=America/New_York:20270319T180000
DTEND;TZID=America/New_York:20270319T190000
DTSTAMP:20260423T132325
CREATED:20260401T191612Z
LAST-MODIFIED:20260401T191615Z
UID:10009690-1805479200-1805482800@murdockbaptistchurch.org
SUMMARY:Women's Ministry - Total Body Worship!
DESCRIPTION:Join Tina Melik & Nancy Cowan as they lead us in movement\, drumming and a good workout. They’ll also share a devotion\, and we’ll worship together with uplifting praise music.  Come and bring a friend!  There is no cost.
URL:https://murdockbaptistchurch.org/event/womens-ministry-total-body-worship/2027-03-19/
END:VEVENT
BEGIN:VEVENT
DTSTART;TZID=America/New_York:20270416T180000
DTEND;TZID=America/New_York:20270416T190000
DTSTAMP:20260423T132325
CREATED:20260401T191612Z
LAST-MODIFIED:20260401T191615Z
UID:10009691-1807898400-1807902000@murdockbaptistchurch.org
SUMMARY:Women's Ministry - Total Body Worship!
DESCRIPTION:Join Tina Melik & Nancy Cowan as they lead us in movement\, drumming and a good workout. They’ll also share a devotion\, and we’ll worship together with uplifting praise music.  Come and bring a friend!  There is no cost.
URL:https://murdockbaptistchurch.org/event/womens-ministry-total-body-worship/2027-04-16/
END:VEVENT
BEGIN:VEVENT
DTSTART;TZID=America/New_York:20270521T180000
DTEND;TZID=America/New_York:20270521T190000
DTSTAMP:20260423T132325
CREATED:20260401T191612Z
LAST-MODIFIED:20260401T191615Z
UID:10009692-1810922400-1810926000@murdockbaptistchurch.org
SUMMARY:Women's Ministry - Total Body Worship!
DESCRIPTION:Join Tina Melik & Nancy Cowan as they lead us in movement\, drumming and a good workout. They’ll also share a devotion\, and we’ll worship together with uplifting praise music.  Come and bring a friend!  There is no cost.
URL:https://murdockbaptistchurch.org/event/womens-ministry-total-body-worship/2027-05-21/
END:VEVENT
BEGIN:VEVENT
DTSTART;TZID=America/New_York:20270618T180000
DTEND;TZID=America/New_York:20270618T190000
DTSTAMP:20260423T132325
CREATED:20260401T191612Z
LAST-MODIFIED:20260401T191615Z
UID:10009693-1813341600-1813345200@murdockbaptistchurch.org
SUMMARY:Women's Ministry - Total Body Worship!
DESCRIPTION:Join Tina Melik & Nancy Cowan as they lead us in movement\, drumming and a good workout. They’ll also share a devotion\, and we’ll worship together with uplifting praise music.  Come and bring a friend!  There is no cost.
URL:https://murdockbaptistchurch.org/event/womens-ministry-total-body-worship/2027-06-18/
END:VEVENT
BEGIN:VEVENT
DTSTART;TZID=America/New_York:20270716T180000
DTEND;TZID=America/New_York:20270716T190000
DTSTAMP:20260423T132325
CREATED:20260401T191612Z
LAST-MODIFIED:20260401T191615Z
UID:10009694-1815760800-1815764400@murdockbaptistchurch.org
SUMMARY:Women's Ministry - Total Body Worship!
DESCRIPTION:Join Tina Melik & Nancy Cowan as they lead us in movement\, drumming and a good workout. They’ll also share a devotion\, and we’ll worship together with uplifting praise music.  Come and bring a friend!  There is no cost.
URL:https://murdockbaptistchurch.org/event/womens-ministry-total-body-worship/2027-07-16/
END:VEVENT
BEGIN:VEVENT
DTSTART;TZID=America/New_York:20270820T180000
DTEND;TZID=America/New_York:20270820T190000
DTSTAMP:20260423T132325
CREATED:20260401T191612Z
LAST-MODIFIED:20260401T191615Z
UID:10009695-1818784800-1818788400@murdockbaptistchurch.org
SUMMARY:Women's Ministry - Total Body Worship!
DESCRIPTION:Join Tina Melik & Nancy Cowan as they lead us in movement\, drumming and a good workout. They’ll also share a devotion\, and we’ll worship together with uplifting praise music.  Come and bring a friend!  There is no cost.
URL:https://murdockbaptistchurch.org/event/womens-ministry-total-body-worship/2027-08-20/
END:VEVENT
BEGIN:VEVENT
DTSTART;TZID=America/New_York:20270917T180000
DTEND;TZID=America/New_York:20270917T190000
DTSTAMP:20260423T132325
CREATED:20260401T191612Z
LAST-MODIFIED:20260401T191615Z
UID:10009696-1821204000-1821207600@murdockbaptistchurch.org
SUMMARY:Women's Ministry - Total Body Worship!
DESCRIPTION:Join Tina Melik & Nancy Cowan as they lead us in movement\, drumming and a good workout. They’ll also share a devotion\, and we’ll worship together with uplifting praise music.  Come and bring a friend!  There is no cost.
URL:https://murdockbaptistchurch.org/event/womens-ministry-total-body-worship/2027-09-17/
END:VEVENT
BEGIN:VEVENT
DTSTART;TZID=America/New_York:20271015T180000
DTEND;TZID=America/New_York:20271015T190000
DTSTAMP:20260423T132325
CREATED:20260401T191612Z
LAST-MODIFIED:20260401T191615Z
UID:10009697-1823623200-1823626800@murdockbaptistchurch.org
SUMMARY:Women's Ministry - Total Body Worship!
DESCRIPTION:Join Tina Melik & Nancy Cowan as they lead us in movement\, drumming and a good workout. They’ll also share a devotion\, and we’ll worship together with uplifting praise music.  Come and bring a friend!  There is no cost.
URL:https://murdockbaptistchurch.org/event/womens-ministry-total-body-worship/2027-10-15/
END:VEVENT
BEGIN:VEVENT
DTSTART;TZID=America/New_York:20271119T180000
DTEND;TZID=America/New_York:20271119T190000
DTSTAMP:20260423T132325
CREATED:20260401T191612Z
LAST-MODIFIED:20260401T191615Z
UID:10009698-1826647200-1826650800@murdockbaptistchurch.org
SUMMARY:Women's Ministry - Total Body Worship!
DESCRIPTION:Join Tina Melik & Nancy Cowan as they lead us in movement\, drumming and a good workout. They’ll also share a devotion\, and we’ll worship together with uplifting praise music.  Come and bring a friend!  There is no cost.
URL:https://murdockbaptistchurch.org/event/womens-ministry-total-body-worship/2027-11-19/
END:VEVENT
BEGIN:VEVENT
DTSTART;TZID=America/New_York:20271217T180000
DTEND;TZID=America/New_York:20271217T190000
DTSTAMP:20260423T132325
CREATED:20260401T191612Z
LAST-MODIFIED:20260401T191615Z
UID:10009699-1829066400-1829070000@murdockbaptistchurch.org
SUMMARY:Women's Ministry - Total Body Worship!
DESCRIPTION:Join Tina Melik & Nancy Cowan as they lead us in movement\, drumming and a good workout. They’ll also share a devotion\, and we’ll worship together with uplifting praise music.  Come and bring a friend!  There is no cost.
URL:https://murdockbaptistchurch.org/event/womens-ministry-total-body-worship/2027-12-17/
END:VEVENT
BEGIN:VEVENT
DTSTART;TZID=America/New_York:20280121T180000
DTEND;TZID=America/New_York:20280121T190000
DTSTAMP:20260423T132325
CREATED:20260401T191612Z
LAST-MODIFIED:20260401T191615Z
UID:10009700-1832090400-1832094000@murdockbaptistchurch.org
SUMMARY:Women's Ministry - Total Body Worship!
DESCRIPTION:Join Tina Melik & Nancy Cowan as they lead us in movement\, drumming and a good workout. They’ll also share a devotion\, and we’ll worship together with uplifting praise music.  Come and bring a friend!  There is no cost.
URL:https://murdockbaptistchurch.org/event/womens-ministry-total-body-worship/2028-01-21/
END:VEVENT
BEGIN:VEVENT
DTSTART;TZID=America/New_York:20280218T180000
DTEND;TZID=America/New_York:20280218T190000
DTSTAMP:20260423T132325
CREATED:20260401T191612Z
LAST-MODIFIED:20260401T191615Z
UID:10009701-1834509600-1834513200@murdockbaptistchurch.org
SUMMARY:Women's Ministry - Total Body Worship!
DESCRIPTION:Join Tina Melik & Nancy Cowan as they lead us in movement\, drumming and a good workout. They’ll also share a devotion\, and we’ll worship together with uplifting praise music.  Come and bring a friend!  There is no cost.
URL:https://murdockbaptistchurch.org/event/womens-ministry-total-body-worship/2028-02-18/
END:VEVENT
BEGIN:VEVENT
DTSTART;TZID=America/New_York:20280317T180000
DTEND;TZID=America/New_York:20280317T190000
DTSTAMP:20260423T132325
CREATED:20260401T191612Z
LAST-MODIFIED:20260401T191615Z
UID:10009702-1836928800-1836932400@murdockbaptistchurch.org
SUMMARY:Women's Ministry - Total Body Worship!
DESCRIPTION:Join Tina Melik & Nancy Cowan as they lead us in movement\, drumming and a good workout. They’ll also share a devotion\, and we’ll worship together with uplifting praise music.  Come and bring a friend!  There is no cost.
URL:https://murdockbaptistchurch.org/event/womens-ministry-total-body-worship/2028-03-17/
END:VEVENT
BEGIN:VEVENT
DTSTART;TZID=America/New_York:20280421T180000
DTEND;TZID=America/New_York:20280421T190000
DTSTAMP:20260423T132325
CREATED:20260401T191612Z
LAST-MODIFIED:20260401T191615Z
UID:10009703-1839952800-1839956400@murdockbaptistchurch.org
SUMMARY:Women's Ministry - Total Body Worship!
DESCRIPTION:Join Tina Melik & Nancy Cowan as they lead us in movement\, drumming and a good workout. They’ll also share a devotion\, and we’ll worship together with uplifting praise music.  Come and bring a friend!  There is no cost.
URL:https://murdockbaptistchurch.org/event/womens-ministry-total-body-worship/2028-04-21/
END:VEVENT
BEGIN:VEVENT
DTSTART;TZID=America/New_York:20280519T180000
DTEND;TZID=America/New_York:20280519T190000
DTSTAMP:20260423T132325
CREATED:20260401T191612Z
LAST-MODIFIED:20260401T191615Z
UID:10009704-1842372000-1842375600@murdockbaptistchurch.org
SUMMARY:Women's Ministry - Total Body Worship!
DESCRIPTION:Join Tina Melik & Nancy Cowan as they lead us in movement\, drumming and a good workout. They’ll also share a devotion\, and we’ll worship together with uplifting praise music.  Come and bring a friend!  There is no cost.
URL:https://murdockbaptistchurch.org/event/womens-ministry-total-body-worship/2028-05-19/
END:VEVENT
BEGIN:VEVENT
DTSTART;TZID=America/New_York:20280616T180000
DTEND;TZID=America/New_York:20280616T190000
DTSTAMP:20260423T132325
CREATED:20260401T191612Z
LAST-MODIFIED:20260401T191615Z
UID:10009705-1844791200-1844794800@murdockbaptistchurch.org
SUMMARY:Women's Ministry - Total Body Worship!
DESCRIPTION:Join Tina Melik & Nancy Cowan as they lead us in movement\, drumming and a good workout. They’ll also share a devotion\, and we’ll worship together with uplifting praise music.  Come and bring a friend!  There is no cost.
URL:https://murdockbaptistchurch.org/event/womens-ministry-total-body-worship/2028-06-16/
END:VEVENT
BEGIN:VEVENT
DTSTART;TZID=America/New_York:20280721T180000
DTEND;TZID=America/New_York:20280721T190000
DTSTAMP:20260423T132325
CREATED:20260401T191612Z
LAST-MODIFIED:20260401T191615Z
UID:10009706-1847815200-1847818800@murdockbaptistchurch.org
SUMMARY:Women's Ministry - Total Body Worship!
DESCRIPTION:Join Tina Melik & Nancy Cowan as they lead us in movement\, drumming and a good workout. They’ll also share a devotion\, and we’ll worship together with uplifting praise music.  Come and bring a friend!  There is no cost.
URL:https://murdockbaptistchurch.org/event/womens-ministry-total-body-worship/2028-07-21/
END:VEVENT
BEGIN:VEVENT
DTSTART;TZID=America/New_York:20280818T180000
DTEND;TZID=America/New_York:20280818T190000
DTSTAMP:20260423T132325
CREATED:20260401T191612Z
LAST-MODIFIED:20260401T191615Z
UID:10009707-1850234400-1850238000@murdockbaptistchurch.org
SUMMARY:Women's Ministry - Total Body Worship!
DESCRIPTION:Join Tina Melik & Nancy Cowan as they lead us in movement\, drumming and a good workout. They’ll also share a devotion\, and we’ll worship together with uplifting praise music.  Come and bring a friend!  There is no cost.
URL:https://murdockbaptistchurch.org/event/womens-ministry-total-body-worship/2028-08-18/
END:VEVENT
BEGIN:VEVENT
DTSTART;TZID=America/New_York:20280915T180000
DTEND;TZID=America/New_York:20280915T190000
DTSTAMP:20260423T132325
CREATED:20260401T191612Z
LAST-MODIFIED:20260401T191615Z
UID:10009708-1852653600-1852657200@murdockbaptistchurch.org
SUMMARY:Women's Ministry - Total Body Worship!
DESCRIPTION:Join Tina Melik & Nancy Cowan as they lead us in movement\, drumming and a good workout. They’ll also share a devotion\, and we’ll worship together with uplifting praise music.  Come and bring a friend!  There is no cost.
URL:https://murdockbaptistchurch.org/event/womens-ministry-total-body-worship/2028-09-15/
END:VEVENT
BEGIN:VEVENT
DTSTART;TZID=America/New_York:20281020T180000
DTEND;TZID=America/New_York:20281020T190000
DTSTAMP:20260423T132325
CREATED:20260401T191612Z
LAST-MODIFIED:20260401T191615Z
UID:10009709-1855677600-1855681200@murdockbaptistchurch.org
SUMMARY:Women's Ministry - Total Body Worship!
DESCRIPTION:Join Tina Melik & Nancy Cowan as they lead us in movement\, drumming and a good workout. They’ll also share a devotion\, and we’ll worship together with uplifting praise music.  Come and bring a friend!  There is no cost.
URL:https://murdockbaptistchurch.org/event/womens-ministry-total-body-worship/2028-10-20/
END:VEVENT
END:VCALENDAR