BEGIN:VCALENDAR
VERSION:2.0
PRODID:-//Murdock Baptist Church - ECPv6.15.20//NONSGML v1.0//EN
CALSCALE:GREGORIAN
METHOD:PUBLISH
X-WR-CALNAME:Murdock Baptist Church
X-ORIGINAL-URL:https://murdockbaptistchurch.org
X-WR-CALDESC:Events for Murdock Baptist Church
REFRESH-INTERVAL;VALUE=DURATION:PT1H
X-Robots-Tag:noindex
X-PUBLISHED-TTL:PT1H
BEGIN:VTIMEZONE
TZID:America/New_York
BEGIN:DAYLIGHT
TZOFFSETFROM:-0500
TZOFFSETTO:-0400
TZNAME:EDT
DTSTART:20250309T070000
END:DAYLIGHT
BEGIN:STANDARD
TZOFFSETFROM:-0400
TZOFFSETTO:-0500
TZNAME:EST
DTSTART:20251102T060000
END:STANDARD
BEGIN:DAYLIGHT
TZOFFSETFROM:-0500
TZOFFSETTO:-0400
TZNAME:EDT
DTSTART:20260308T070000
END:DAYLIGHT
BEGIN:STANDARD
TZOFFSETFROM:-0400
TZOFFSETTO:-0500
TZNAME:EST
DTSTART:20261101T060000
END:STANDARD
BEGIN:DAYLIGHT
TZOFFSETFROM:-0500
TZOFFSETTO:-0400
TZNAME:EDT
DTSTART:20270314T070000
END:DAYLIGHT
BEGIN:STANDARD
TZOFFSETFROM:-0400
TZOFFSETTO:-0500
TZNAME:EST
DTSTART:20271107T060000
END:STANDARD
END:VTIMEZONE
BEGIN:VEVENT
DTSTART;TZID=America/New_York:20260426T110000
DTEND;TZID=America/New_York:20260426T120000
DTSTAMP:20260423T115919
CREATED:20251223T211141Z
LAST-MODIFIED:20251223T211220Z
UID:10009498-1777201200-1777204800@murdockbaptistchurch.org
SUMMARY:Stepping Up Life Group
DESCRIPTION:Led by Jack Pipp \n\n\n\nYoung families stepping up! A discussion centered small group of married couples with preschool and school age children. \n\n\n\nIf interested\, please feel free to contact: Jack Pipp\, 941-204-8622 or at jack39pipp@gmail.com.
URL:https://murdockbaptistchurch.org/event/stepping-up-life-group-copy/2026-04-26/
LOCATION:Room 107\, 18375 Cochran Boulevard\, Port Charlotte\, Florida\, 33948\, United States
CATEGORIES:Life Groups,Stepping Up
ATTACH;FMTTYPE=image/jpeg:https://murdockbaptistchurch.org/wp-content/uploads/2023/01/steppping-up-event-calendar.jpg
END:VEVENT
BEGIN:VEVENT
DTSTART;TZID=America/New_York:20260503T110000
DTEND;TZID=America/New_York:20260503T120000
DTSTAMP:20260423T115919
CREATED:20251223T211141Z
LAST-MODIFIED:20251223T211220Z
UID:10009499-1777806000-1777809600@murdockbaptistchurch.org
SUMMARY:Stepping Up Life Group
DESCRIPTION:Led by Jack Pipp \n\n\n\nYoung families stepping up! A discussion centered small group of married couples with preschool and school age children. \n\n\n\nIf interested\, please feel free to contact: Jack Pipp\, 941-204-8622 or at jack39pipp@gmail.com.
URL:https://murdockbaptistchurch.org/event/stepping-up-life-group-copy/2026-05-03/
LOCATION:Room 107\, 18375 Cochran Boulevard\, Port Charlotte\, Florida\, 33948\, United States
CATEGORIES:Life Groups,Stepping Up
ATTACH;FMTTYPE=image/jpeg:https://murdockbaptistchurch.org/wp-content/uploads/2023/01/steppping-up-event-calendar.jpg
END:VEVENT
BEGIN:VEVENT
DTSTART;TZID=America/New_York:20260510T110000
DTEND;TZID=America/New_York:20260510T120000
DTSTAMP:20260423T115919
CREATED:20251223T211141Z
LAST-MODIFIED:20251223T211220Z
UID:10009500-1778410800-1778414400@murdockbaptistchurch.org
SUMMARY:Stepping Up Life Group
DESCRIPTION:Led by Jack Pipp \n\n\n\nYoung families stepping up! A discussion centered small group of married couples with preschool and school age children. \n\n\n\nIf interested\, please feel free to contact: Jack Pipp\, 941-204-8622 or at jack39pipp@gmail.com.
URL:https://murdockbaptistchurch.org/event/stepping-up-life-group-copy/2026-05-10/
LOCATION:Room 107\, 18375 Cochran Boulevard\, Port Charlotte\, Florida\, 33948\, United States
CATEGORIES:Life Groups,Stepping Up
ATTACH;FMTTYPE=image/jpeg:https://murdockbaptistchurch.org/wp-content/uploads/2023/01/steppping-up-event-calendar.jpg
END:VEVENT
BEGIN:VEVENT
DTSTART;TZID=America/New_York:20260517T110000
DTEND;TZID=America/New_York:20260517T120000
DTSTAMP:20260423T115919
CREATED:20251223T211141Z
LAST-MODIFIED:20251223T211220Z
UID:10009501-1779015600-1779019200@murdockbaptistchurch.org
SUMMARY:Stepping Up Life Group
DESCRIPTION:Led by Jack Pipp \n\n\n\nYoung families stepping up! A discussion centered small group of married couples with preschool and school age children. \n\n\n\nIf interested\, please feel free to contact: Jack Pipp\, 941-204-8622 or at jack39pipp@gmail.com.
URL:https://murdockbaptistchurch.org/event/stepping-up-life-group-copy/2026-05-17/
LOCATION:Room 107\, 18375 Cochran Boulevard\, Port Charlotte\, Florida\, 33948\, United States
CATEGORIES:Life Groups,Stepping Up
ATTACH;FMTTYPE=image/jpeg:https://murdockbaptistchurch.org/wp-content/uploads/2023/01/steppping-up-event-calendar.jpg
END:VEVENT
BEGIN:VEVENT
DTSTART;TZID=America/New_York:20260524T110000
DTEND;TZID=America/New_York:20260524T120000
DTSTAMP:20260423T115920
CREATED:20251223T211141Z
LAST-MODIFIED:20251223T211220Z
UID:10009502-1779620400-1779624000@murdockbaptistchurch.org
SUMMARY:Stepping Up Life Group
DESCRIPTION:Led by Jack Pipp \n\n\n\nYoung families stepping up! A discussion centered small group of married couples with preschool and school age children. \n\n\n\nIf interested\, please feel free to contact: Jack Pipp\, 941-204-8622 or at jack39pipp@gmail.com.
URL:https://murdockbaptistchurch.org/event/stepping-up-life-group-copy/2026-05-24/
LOCATION:Room 107\, 18375 Cochran Boulevard\, Port Charlotte\, Florida\, 33948\, United States
CATEGORIES:Life Groups,Stepping Up
ATTACH;FMTTYPE=image/jpeg:https://murdockbaptistchurch.org/wp-content/uploads/2023/01/steppping-up-event-calendar.jpg
END:VEVENT
BEGIN:VEVENT
DTSTART;TZID=America/New_York:20260531T110000
DTEND;TZID=America/New_York:20260531T120000
DTSTAMP:20260423T115920
CREATED:20251223T211141Z
LAST-MODIFIED:20251223T211220Z
UID:10009503-1780225200-1780228800@murdockbaptistchurch.org
SUMMARY:Stepping Up Life Group
DESCRIPTION:Led by Jack Pipp \n\n\n\nYoung families stepping up! A discussion centered small group of married couples with preschool and school age children. \n\n\n\nIf interested\, please feel free to contact: Jack Pipp\, 941-204-8622 or at jack39pipp@gmail.com.
URL:https://murdockbaptistchurch.org/event/stepping-up-life-group-copy/2026-05-31/
LOCATION:Room 107\, 18375 Cochran Boulevard\, Port Charlotte\, Florida\, 33948\, United States
CATEGORIES:Life Groups,Stepping Up
ATTACH;FMTTYPE=image/jpeg:https://murdockbaptistchurch.org/wp-content/uploads/2023/01/steppping-up-event-calendar.jpg
END:VEVENT
BEGIN:VEVENT
DTSTART;TZID=America/New_York:20260607T110000
DTEND;TZID=America/New_York:20260607T120000
DTSTAMP:20260423T115920
CREATED:20251223T211141Z
LAST-MODIFIED:20251223T211220Z
UID:10009504-1780830000-1780833600@murdockbaptistchurch.org
SUMMARY:Stepping Up Life Group
DESCRIPTION:Led by Jack Pipp \n\n\n\nYoung families stepping up! A discussion centered small group of married couples with preschool and school age children. \n\n\n\nIf interested\, please feel free to contact: Jack Pipp\, 941-204-8622 or at jack39pipp@gmail.com.
URL:https://murdockbaptistchurch.org/event/stepping-up-life-group-copy/2026-06-07/
LOCATION:Room 107\, 18375 Cochran Boulevard\, Port Charlotte\, Florida\, 33948\, United States
CATEGORIES:Life Groups,Stepping Up
ATTACH;FMTTYPE=image/jpeg:https://murdockbaptistchurch.org/wp-content/uploads/2023/01/steppping-up-event-calendar.jpg
END:VEVENT
BEGIN:VEVENT
DTSTART;TZID=America/New_York:20260614T110000
DTEND;TZID=America/New_York:20260614T120000
DTSTAMP:20260423T115920
CREATED:20251223T211141Z
LAST-MODIFIED:20251223T211220Z
UID:10009505-1781434800-1781438400@murdockbaptistchurch.org
SUMMARY:Stepping Up Life Group
DESCRIPTION:Led by Jack Pipp \n\n\n\nYoung families stepping up! A discussion centered small group of married couples with preschool and school age children. \n\n\n\nIf interested\, please feel free to contact: Jack Pipp\, 941-204-8622 or at jack39pipp@gmail.com.
URL:https://murdockbaptistchurch.org/event/stepping-up-life-group-copy/2026-06-14/
LOCATION:Room 107\, 18375 Cochran Boulevard\, Port Charlotte\, Florida\, 33948\, United States
CATEGORIES:Life Groups,Stepping Up
ATTACH;FMTTYPE=image/jpeg:https://murdockbaptistchurch.org/wp-content/uploads/2023/01/steppping-up-event-calendar.jpg
END:VEVENT
BEGIN:VEVENT
DTSTART;TZID=America/New_York:20260621T110000
DTEND;TZID=America/New_York:20260621T120000
DTSTAMP:20260423T115920
CREATED:20251223T211141Z
LAST-MODIFIED:20251223T211220Z
UID:10009506-1782039600-1782043200@murdockbaptistchurch.org
SUMMARY:Stepping Up Life Group
DESCRIPTION:Led by Jack Pipp \n\n\n\nYoung families stepping up! A discussion centered small group of married couples with preschool and school age children. \n\n\n\nIf interested\, please feel free to contact: Jack Pipp\, 941-204-8622 or at jack39pipp@gmail.com.
URL:https://murdockbaptistchurch.org/event/stepping-up-life-group-copy/2026-06-21/
LOCATION:Room 107\, 18375 Cochran Boulevard\, Port Charlotte\, Florida\, 33948\, United States
CATEGORIES:Life Groups,Stepping Up
ATTACH;FMTTYPE=image/jpeg:https://murdockbaptistchurch.org/wp-content/uploads/2023/01/steppping-up-event-calendar.jpg
END:VEVENT
BEGIN:VEVENT
DTSTART;TZID=America/New_York:20260628T110000
DTEND;TZID=America/New_York:20260628T120000
DTSTAMP:20260423T115920
CREATED:20251223T211141Z
LAST-MODIFIED:20251223T211220Z
UID:10009507-1782644400-1782648000@murdockbaptistchurch.org
SUMMARY:Stepping Up Life Group
DESCRIPTION:Led by Jack Pipp \n\n\n\nYoung families stepping up! A discussion centered small group of married couples with preschool and school age children. \n\n\n\nIf interested\, please feel free to contact: Jack Pipp\, 941-204-8622 or at jack39pipp@gmail.com.
URL:https://murdockbaptistchurch.org/event/stepping-up-life-group-copy/2026-06-28/
LOCATION:Room 107\, 18375 Cochran Boulevard\, Port Charlotte\, Florida\, 33948\, United States
CATEGORIES:Life Groups,Stepping Up
ATTACH;FMTTYPE=image/jpeg:https://murdockbaptistchurch.org/wp-content/uploads/2023/01/steppping-up-event-calendar.jpg
END:VEVENT
BEGIN:VEVENT
DTSTART;TZID=America/New_York:20260705T110000
DTEND;TZID=America/New_York:20260705T120000
DTSTAMP:20260423T115920
CREATED:20251223T211141Z
LAST-MODIFIED:20251223T211220Z
UID:10009508-1783249200-1783252800@murdockbaptistchurch.org
SUMMARY:Stepping Up Life Group
DESCRIPTION:Led by Jack Pipp \n\n\n\nYoung families stepping up! A discussion centered small group of married couples with preschool and school age children. \n\n\n\nIf interested\, please feel free to contact: Jack Pipp\, 941-204-8622 or at jack39pipp@gmail.com.
URL:https://murdockbaptistchurch.org/event/stepping-up-life-group-copy/2026-07-05/
LOCATION:Room 107\, 18375 Cochran Boulevard\, Port Charlotte\, Florida\, 33948\, United States
CATEGORIES:Life Groups,Stepping Up
ATTACH;FMTTYPE=image/jpeg:https://murdockbaptistchurch.org/wp-content/uploads/2023/01/steppping-up-event-calendar.jpg
END:VEVENT
BEGIN:VEVENT
DTSTART;TZID=America/New_York:20260712T110000
DTEND;TZID=America/New_York:20260712T120000
DTSTAMP:20260423T115920
CREATED:20251223T211141Z
LAST-MODIFIED:20251223T211220Z
UID:10009509-1783854000-1783857600@murdockbaptistchurch.org
SUMMARY:Stepping Up Life Group
DESCRIPTION:Led by Jack Pipp \n\n\n\nYoung families stepping up! A discussion centered small group of married couples with preschool and school age children. \n\n\n\nIf interested\, please feel free to contact: Jack Pipp\, 941-204-8622 or at jack39pipp@gmail.com.
URL:https://murdockbaptistchurch.org/event/stepping-up-life-group-copy/2026-07-12/
LOCATION:Room 107\, 18375 Cochran Boulevard\, Port Charlotte\, Florida\, 33948\, United States
CATEGORIES:Life Groups,Stepping Up
ATTACH;FMTTYPE=image/jpeg:https://murdockbaptistchurch.org/wp-content/uploads/2023/01/steppping-up-event-calendar.jpg
END:VEVENT
BEGIN:VEVENT
DTSTART;TZID=America/New_York:20260719T110000
DTEND;TZID=America/New_York:20260719T120000
DTSTAMP:20260423T115920
CREATED:20251223T211141Z
LAST-MODIFIED:20251223T211220Z
UID:10009510-1784458800-1784462400@murdockbaptistchurch.org
SUMMARY:Stepping Up Life Group
DESCRIPTION:Led by Jack Pipp \n\n\n\nYoung families stepping up! A discussion centered small group of married couples with preschool and school age children. \n\n\n\nIf interested\, please feel free to contact: Jack Pipp\, 941-204-8622 or at jack39pipp@gmail.com.
URL:https://murdockbaptistchurch.org/event/stepping-up-life-group-copy/2026-07-19/
LOCATION:Room 107\, 18375 Cochran Boulevard\, Port Charlotte\, Florida\, 33948\, United States
CATEGORIES:Life Groups,Stepping Up
ATTACH;FMTTYPE=image/jpeg:https://murdockbaptistchurch.org/wp-content/uploads/2023/01/steppping-up-event-calendar.jpg
END:VEVENT
BEGIN:VEVENT
DTSTART;TZID=America/New_York:20260726T110000
DTEND;TZID=America/New_York:20260726T120000
DTSTAMP:20260423T115920
CREATED:20251223T211141Z
LAST-MODIFIED:20251223T211220Z
UID:10009511-1785063600-1785067200@murdockbaptistchurch.org
SUMMARY:Stepping Up Life Group
DESCRIPTION:Led by Jack Pipp \n\n\n\nYoung families stepping up! A discussion centered small group of married couples with preschool and school age children. \n\n\n\nIf interested\, please feel free to contact: Jack Pipp\, 941-204-8622 or at jack39pipp@gmail.com.
URL:https://murdockbaptistchurch.org/event/stepping-up-life-group-copy/2026-07-26/
LOCATION:Room 107\, 18375 Cochran Boulevard\, Port Charlotte\, Florida\, 33948\, United States
CATEGORIES:Life Groups,Stepping Up
ATTACH;FMTTYPE=image/jpeg:https://murdockbaptistchurch.org/wp-content/uploads/2023/01/steppping-up-event-calendar.jpg
END:VEVENT
BEGIN:VEVENT
DTSTART;TZID=America/New_York:20260802T110000
DTEND;TZID=America/New_York:20260802T120000
DTSTAMP:20260423T115920
CREATED:20251223T211141Z
LAST-MODIFIED:20251223T211220Z
UID:10009512-1785668400-1785672000@murdockbaptistchurch.org
SUMMARY:Stepping Up Life Group
DESCRIPTION:Led by Jack Pipp \n\n\n\nYoung families stepping up! A discussion centered small group of married couples with preschool and school age children. \n\n\n\nIf interested\, please feel free to contact: Jack Pipp\, 941-204-8622 or at jack39pipp@gmail.com.
URL:https://murdockbaptistchurch.org/event/stepping-up-life-group-copy/2026-08-02/
LOCATION:Room 107\, 18375 Cochran Boulevard\, Port Charlotte\, Florida\, 33948\, United States
CATEGORIES:Life Groups,Stepping Up
ATTACH;FMTTYPE=image/jpeg:https://murdockbaptistchurch.org/wp-content/uploads/2023/01/steppping-up-event-calendar.jpg
END:VEVENT
BEGIN:VEVENT
DTSTART;TZID=America/New_York:20260809T110000
DTEND;TZID=America/New_York:20260809T120000
DTSTAMP:20260423T115920
CREATED:20251223T211141Z
LAST-MODIFIED:20251223T211220Z
UID:10009513-1786273200-1786276800@murdockbaptistchurch.org
SUMMARY:Stepping Up Life Group
DESCRIPTION:Led by Jack Pipp \n\n\n\nYoung families stepping up! A discussion centered small group of married couples with preschool and school age children. \n\n\n\nIf interested\, please feel free to contact: Jack Pipp\, 941-204-8622 or at jack39pipp@gmail.com.
URL:https://murdockbaptistchurch.org/event/stepping-up-life-group-copy/2026-08-09/
LOCATION:Room 107\, 18375 Cochran Boulevard\, Port Charlotte\, Florida\, 33948\, United States
CATEGORIES:Life Groups,Stepping Up
ATTACH;FMTTYPE=image/jpeg:https://murdockbaptistchurch.org/wp-content/uploads/2023/01/steppping-up-event-calendar.jpg
END:VEVENT
BEGIN:VEVENT
DTSTART;TZID=America/New_York:20260816T110000
DTEND;TZID=America/New_York:20260816T120000
DTSTAMP:20260423T115920
CREATED:20251223T211141Z
LAST-MODIFIED:20251223T211220Z
UID:10009514-1786878000-1786881600@murdockbaptistchurch.org
SUMMARY:Stepping Up Life Group
DESCRIPTION:Led by Jack Pipp \n\n\n\nYoung families stepping up! A discussion centered small group of married couples with preschool and school age children. \n\n\n\nIf interested\, please feel free to contact: Jack Pipp\, 941-204-8622 or at jack39pipp@gmail.com.
URL:https://murdockbaptistchurch.org/event/stepping-up-life-group-copy/2026-08-16/
LOCATION:Room 107\, 18375 Cochran Boulevard\, Port Charlotte\, Florida\, 33948\, United States
CATEGORIES:Life Groups,Stepping Up
ATTACH;FMTTYPE=image/jpeg:https://murdockbaptistchurch.org/wp-content/uploads/2023/01/steppping-up-event-calendar.jpg
END:VEVENT
BEGIN:VEVENT
DTSTART;TZID=America/New_York:20260823T110000
DTEND;TZID=America/New_York:20260823T120000
DTSTAMP:20260423T115920
CREATED:20251223T211141Z
LAST-MODIFIED:20251223T211220Z
UID:10009515-1787482800-1787486400@murdockbaptistchurch.org
SUMMARY:Stepping Up Life Group
DESCRIPTION:Led by Jack Pipp \n\n\n\nYoung families stepping up! A discussion centered small group of married couples with preschool and school age children. \n\n\n\nIf interested\, please feel free to contact: Jack Pipp\, 941-204-8622 or at jack39pipp@gmail.com.
URL:https://murdockbaptistchurch.org/event/stepping-up-life-group-copy/2026-08-23/
LOCATION:Room 107\, 18375 Cochran Boulevard\, Port Charlotte\, Florida\, 33948\, United States
CATEGORIES:Life Groups,Stepping Up
ATTACH;FMTTYPE=image/jpeg:https://murdockbaptistchurch.org/wp-content/uploads/2023/01/steppping-up-event-calendar.jpg
END:VEVENT
BEGIN:VEVENT
DTSTART;TZID=America/New_York:20260830T110000
DTEND;TZID=America/New_York:20260830T120000
DTSTAMP:20260423T115920
CREATED:20251223T211141Z
LAST-MODIFIED:20251223T211220Z
UID:10009516-1788087600-1788091200@murdockbaptistchurch.org
SUMMARY:Stepping Up Life Group
DESCRIPTION:Led by Jack Pipp \n\n\n\nYoung families stepping up! A discussion centered small group of married couples with preschool and school age children. \n\n\n\nIf interested\, please feel free to contact: Jack Pipp\, 941-204-8622 or at jack39pipp@gmail.com.
URL:https://murdockbaptistchurch.org/event/stepping-up-life-group-copy/2026-08-30/
LOCATION:Room 107\, 18375 Cochran Boulevard\, Port Charlotte\, Florida\, 33948\, United States
CATEGORIES:Life Groups,Stepping Up
ATTACH;FMTTYPE=image/jpeg:https://murdockbaptistchurch.org/wp-content/uploads/2023/01/steppping-up-event-calendar.jpg
END:VEVENT
BEGIN:VEVENT
DTSTART;TZID=America/New_York:20260906T110000
DTEND;TZID=America/New_York:20260906T120000
DTSTAMP:20260423T115920
CREATED:20251223T211141Z
LAST-MODIFIED:20251223T211220Z
UID:10009517-1788692400-1788696000@murdockbaptistchurch.org
SUMMARY:Stepping Up Life Group
DESCRIPTION:Led by Jack Pipp \n\n\n\nYoung families stepping up! A discussion centered small group of married couples with preschool and school age children. \n\n\n\nIf interested\, please feel free to contact: Jack Pipp\, 941-204-8622 or at jack39pipp@gmail.com.
URL:https://murdockbaptistchurch.org/event/stepping-up-life-group-copy/2026-09-06/
LOCATION:Room 107\, 18375 Cochran Boulevard\, Port Charlotte\, Florida\, 33948\, United States
CATEGORIES:Life Groups,Stepping Up
ATTACH;FMTTYPE=image/jpeg:https://murdockbaptistchurch.org/wp-content/uploads/2023/01/steppping-up-event-calendar.jpg
END:VEVENT
BEGIN:VEVENT
DTSTART;TZID=America/New_York:20260913T110000
DTEND;TZID=America/New_York:20260913T120000
DTSTAMP:20260423T115920
CREATED:20251223T211141Z
LAST-MODIFIED:20251223T211220Z
UID:10009518-1789297200-1789300800@murdockbaptistchurch.org
SUMMARY:Stepping Up Life Group
DESCRIPTION:Led by Jack Pipp \n\n\n\nYoung families stepping up! A discussion centered small group of married couples with preschool and school age children. \n\n\n\nIf interested\, please feel free to contact: Jack Pipp\, 941-204-8622 or at jack39pipp@gmail.com.
URL:https://murdockbaptistchurch.org/event/stepping-up-life-group-copy/2026-09-13/
LOCATION:Room 107\, 18375 Cochran Boulevard\, Port Charlotte\, Florida\, 33948\, United States
CATEGORIES:Life Groups,Stepping Up
ATTACH;FMTTYPE=image/jpeg:https://murdockbaptistchurch.org/wp-content/uploads/2023/01/steppping-up-event-calendar.jpg
END:VEVENT
BEGIN:VEVENT
DTSTART;TZID=America/New_York:20260920T110000
DTEND;TZID=America/New_York:20260920T120000
DTSTAMP:20260423T115920
CREATED:20251223T211141Z
LAST-MODIFIED:20251223T211220Z
UID:10009519-1789902000-1789905600@murdockbaptistchurch.org
SUMMARY:Stepping Up Life Group
DESCRIPTION:Led by Jack Pipp \n\n\n\nYoung families stepping up! A discussion centered small group of married couples with preschool and school age children. \n\n\n\nIf interested\, please feel free to contact: Jack Pipp\, 941-204-8622 or at jack39pipp@gmail.com.
URL:https://murdockbaptistchurch.org/event/stepping-up-life-group-copy/2026-09-20/
LOCATION:Room 107\, 18375 Cochran Boulevard\, Port Charlotte\, Florida\, 33948\, United States
CATEGORIES:Life Groups,Stepping Up
ATTACH;FMTTYPE=image/jpeg:https://murdockbaptistchurch.org/wp-content/uploads/2023/01/steppping-up-event-calendar.jpg
END:VEVENT
BEGIN:VEVENT
DTSTART;TZID=America/New_York:20260927T110000
DTEND;TZID=America/New_York:20260927T120000
DTSTAMP:20260423T115920
CREATED:20251223T211141Z
LAST-MODIFIED:20251223T211220Z
UID:10009520-1790506800-1790510400@murdockbaptistchurch.org
SUMMARY:Stepping Up Life Group
DESCRIPTION:Led by Jack Pipp \n\n\n\nYoung families stepping up! A discussion centered small group of married couples with preschool and school age children. \n\n\n\nIf interested\, please feel free to contact: Jack Pipp\, 941-204-8622 or at jack39pipp@gmail.com.
URL:https://murdockbaptistchurch.org/event/stepping-up-life-group-copy/2026-09-27/
LOCATION:Room 107\, 18375 Cochran Boulevard\, Port Charlotte\, Florida\, 33948\, United States
CATEGORIES:Life Groups,Stepping Up
ATTACH;FMTTYPE=image/jpeg:https://murdockbaptistchurch.org/wp-content/uploads/2023/01/steppping-up-event-calendar.jpg
END:VEVENT
BEGIN:VEVENT
DTSTART;TZID=America/New_York:20261004T110000
DTEND;TZID=America/New_York:20261004T120000
DTSTAMP:20260423T115920
CREATED:20251223T211141Z
LAST-MODIFIED:20251223T211220Z
UID:10009521-1791111600-1791115200@murdockbaptistchurch.org
SUMMARY:Stepping Up Life Group
DESCRIPTION:Led by Jack Pipp \n\n\n\nYoung families stepping up! A discussion centered small group of married couples with preschool and school age children. \n\n\n\nIf interested\, please feel free to contact: Jack Pipp\, 941-204-8622 or at jack39pipp@gmail.com.
URL:https://murdockbaptistchurch.org/event/stepping-up-life-group-copy/2026-10-04/
LOCATION:Room 107\, 18375 Cochran Boulevard\, Port Charlotte\, Florida\, 33948\, United States
CATEGORIES:Life Groups,Stepping Up
ATTACH;FMTTYPE=image/jpeg:https://murdockbaptistchurch.org/wp-content/uploads/2023/01/steppping-up-event-calendar.jpg
END:VEVENT
BEGIN:VEVENT
DTSTART;TZID=America/New_York:20261011T110000
DTEND;TZID=America/New_York:20261011T120000
DTSTAMP:20260423T115920
CREATED:20251223T211141Z
LAST-MODIFIED:20251223T211220Z
UID:10009522-1791716400-1791720000@murdockbaptistchurch.org
SUMMARY:Stepping Up Life Group
DESCRIPTION:Led by Jack Pipp \n\n\n\nYoung families stepping up! A discussion centered small group of married couples with preschool and school age children. \n\n\n\nIf interested\, please feel free to contact: Jack Pipp\, 941-204-8622 or at jack39pipp@gmail.com.
URL:https://murdockbaptistchurch.org/event/stepping-up-life-group-copy/2026-10-11/
LOCATION:Room 107\, 18375 Cochran Boulevard\, Port Charlotte\, Florida\, 33948\, United States
CATEGORIES:Life Groups,Stepping Up
ATTACH;FMTTYPE=image/jpeg:https://murdockbaptistchurch.org/wp-content/uploads/2023/01/steppping-up-event-calendar.jpg
END:VEVENT
BEGIN:VEVENT
DTSTART;TZID=America/New_York:20261018T110000
DTEND;TZID=America/New_York:20261018T120000
DTSTAMP:20260423T115920
CREATED:20251223T211141Z
LAST-MODIFIED:20251223T211220Z
UID:10009523-1792321200-1792324800@murdockbaptistchurch.org
SUMMARY:Stepping Up Life Group
DESCRIPTION:Led by Jack Pipp \n\n\n\nYoung families stepping up! A discussion centered small group of married couples with preschool and school age children. \n\n\n\nIf interested\, please feel free to contact: Jack Pipp\, 941-204-8622 or at jack39pipp@gmail.com.
URL:https://murdockbaptistchurch.org/event/stepping-up-life-group-copy/2026-10-18/
LOCATION:Room 107\, 18375 Cochran Boulevard\, Port Charlotte\, Florida\, 33948\, United States
CATEGORIES:Life Groups,Stepping Up
ATTACH;FMTTYPE=image/jpeg:https://murdockbaptistchurch.org/wp-content/uploads/2023/01/steppping-up-event-calendar.jpg
END:VEVENT
BEGIN:VEVENT
DTSTART;TZID=America/New_York:20261025T110000
DTEND;TZID=America/New_York:20261025T120000
DTSTAMP:20260423T115920
CREATED:20251223T211141Z
LAST-MODIFIED:20251223T211220Z
UID:10009524-1792926000-1792929600@murdockbaptistchurch.org
SUMMARY:Stepping Up Life Group
DESCRIPTION:Led by Jack Pipp \n\n\n\nYoung families stepping up! A discussion centered small group of married couples with preschool and school age children. \n\n\n\nIf interested\, please feel free to contact: Jack Pipp\, 941-204-8622 or at jack39pipp@gmail.com.
URL:https://murdockbaptistchurch.org/event/stepping-up-life-group-copy/2026-10-25/
LOCATION:Room 107\, 18375 Cochran Boulevard\, Port Charlotte\, Florida\, 33948\, United States
CATEGORIES:Life Groups,Stepping Up
ATTACH;FMTTYPE=image/jpeg:https://murdockbaptistchurch.org/wp-content/uploads/2023/01/steppping-up-event-calendar.jpg
END:VEVENT
BEGIN:VEVENT
DTSTART;TZID=America/New_York:20261101T110000
DTEND;TZID=America/New_York:20261101T120000
DTSTAMP:20260423T115920
CREATED:20251223T211141Z
LAST-MODIFIED:20251223T211220Z
UID:10009525-1793530800-1793534400@murdockbaptistchurch.org
SUMMARY:Stepping Up Life Group
DESCRIPTION:Led by Jack Pipp \n\n\n\nYoung families stepping up! A discussion centered small group of married couples with preschool and school age children. \n\n\n\nIf interested\, please feel free to contact: Jack Pipp\, 941-204-8622 or at jack39pipp@gmail.com.
URL:https://murdockbaptistchurch.org/event/stepping-up-life-group-copy/2026-11-01/
LOCATION:Room 107\, 18375 Cochran Boulevard\, Port Charlotte\, Florida\, 33948\, United States
CATEGORIES:Life Groups,Stepping Up
ATTACH;FMTTYPE=image/jpeg:https://murdockbaptistchurch.org/wp-content/uploads/2023/01/steppping-up-event-calendar.jpg
END:VEVENT
BEGIN:VEVENT
DTSTART;TZID=America/New_York:20261108T110000
DTEND;TZID=America/New_York:20261108T120000
DTSTAMP:20260423T115920
CREATED:20251223T211141Z
LAST-MODIFIED:20251223T211220Z
UID:10009526-1794135600-1794139200@murdockbaptistchurch.org
SUMMARY:Stepping Up Life Group
DESCRIPTION:Led by Jack Pipp \n\n\n\nYoung families stepping up! A discussion centered small group of married couples with preschool and school age children. \n\n\n\nIf interested\, please feel free to contact: Jack Pipp\, 941-204-8622 or at jack39pipp@gmail.com.
URL:https://murdockbaptistchurch.org/event/stepping-up-life-group-copy/2026-11-08/
LOCATION:Room 107\, 18375 Cochran Boulevard\, Port Charlotte\, Florida\, 33948\, United States
CATEGORIES:Life Groups,Stepping Up
ATTACH;FMTTYPE=image/jpeg:https://murdockbaptistchurch.org/wp-content/uploads/2023/01/steppping-up-event-calendar.jpg
END:VEVENT
BEGIN:VEVENT
DTSTART;TZID=America/New_York:20261115T110000
DTEND;TZID=America/New_York:20261115T120000
DTSTAMP:20260423T115920
CREATED:20251223T211141Z
LAST-MODIFIED:20251223T211220Z
UID:10009527-1794740400-1794744000@murdockbaptistchurch.org
SUMMARY:Stepping Up Life Group
DESCRIPTION:Led by Jack Pipp \n\n\n\nYoung families stepping up! A discussion centered small group of married couples with preschool and school age children. \n\n\n\nIf interested\, please feel free to contact: Jack Pipp\, 941-204-8622 or at jack39pipp@gmail.com.
URL:https://murdockbaptistchurch.org/event/stepping-up-life-group-copy/2026-11-15/
LOCATION:Room 107\, 18375 Cochran Boulevard\, Port Charlotte\, Florida\, 33948\, United States
CATEGORIES:Life Groups,Stepping Up
ATTACH;FMTTYPE=image/jpeg:https://murdockbaptistchurch.org/wp-content/uploads/2023/01/steppping-up-event-calendar.jpg
END:VEVENT
END:VCALENDAR