BEGIN:VCALENDAR
VERSION:2.0
PRODID:-//Murdock Baptist Church - ECPv6.15.20//NONSGML v1.0//EN
CALSCALE:GREGORIAN
METHOD:PUBLISH
X-WR-CALNAME:Murdock Baptist Church
X-ORIGINAL-URL:https://murdockbaptistchurch.org
X-WR-CALDESC:Events for Murdock Baptist Church
REFRESH-INTERVAL;VALUE=DURATION:PT1H
X-Robots-Tag:noindex
X-PUBLISHED-TTL:PT1H
BEGIN:VTIMEZONE
TZID:America/New_York
BEGIN:DAYLIGHT
TZOFFSETFROM:-0500
TZOFFSETTO:-0400
TZNAME:EDT
DTSTART:20240310T070000
END:DAYLIGHT
BEGIN:STANDARD
TZOFFSETFROM:-0400
TZOFFSETTO:-0500
TZNAME:EST
DTSTART:20241103T060000
END:STANDARD
BEGIN:DAYLIGHT
TZOFFSETFROM:-0500
TZOFFSETTO:-0400
TZNAME:EDT
DTSTART:20250309T070000
END:DAYLIGHT
BEGIN:STANDARD
TZOFFSETFROM:-0400
TZOFFSETTO:-0500
TZNAME:EST
DTSTART:20251102T060000
END:STANDARD
BEGIN:DAYLIGHT
TZOFFSETFROM:-0500
TZOFFSETTO:-0400
TZNAME:EDT
DTSTART:20260308T070000
END:DAYLIGHT
BEGIN:STANDARD
TZOFFSETFROM:-0400
TZOFFSETTO:-0500
TZNAME:EST
DTSTART:20261101T060000
END:STANDARD
END:VTIMEZONE
BEGIN:VTIMEZONE
TZID:UTC
BEGIN:STANDARD
TZOFFSETFROM:+0000
TZOFFSETTO:+0000
TZNAME:UTC
DTSTART:20240101T000000
END:STANDARD
END:VTIMEZONE
BEGIN:VEVENT
DTSTART;TZID=America/New_York:20250630T081500
DTEND;TZID=America/New_York:20250704T170000
DTSTAMP:20260424T033019
CREATED:20250328T174349Z
LAST-MODIFIED:20260418T032127Z
UID:10008757-1751271300-1751648400@murdockbaptistchurch.org
SUMMARY:WinShape Camps: The Ultimate Day Camp for Kids
DESCRIPTION:WinShape Camps is returning to the campus of Family Christian Academy in Port Charlotte\, June 30th – July 4th\, 2025. $205 per child\, completed kindergarden – 5th grade.  \n\n\n\nFor more information scan the QR code or go to www.winshapeportcharlotte.com.
URL:https://murdockbaptistchurch.org/event/winshape-camps-the-ultimate-day-camp-for-kids/
LOCATION:Family Christian Academy\, 20035 Quesada Avenue\, Port Charlotte\, 33952\, United States
CATEGORIES:Children's Ministry,Ministries,Outside Events,Preschool Ministry,Special Events,Student Ministry,Winshape
ATTACH;FMTTYPE=image/webp:https://murdockbaptistchurch.org/wp-content/uploads/2024/03/winshape-camp12.webp
END:VEVENT
BEGIN:VEVENT
DTSTART;TZID=America/New_York:20250701T180000
DTEND;TZID=America/New_York:20250701T190000
DTSTAMP:20260424T033019
CREATED:20240923T132823Z
LAST-MODIFIED:20240923T132842Z
UID:10008736-1751392800-1751396400@murdockbaptistchurch.org
SUMMARY:Men's Tuesday Bible Study
DESCRIPTION:Men\, join us for bible study on Tuesday evenings.
URL:https://murdockbaptistchurch.org/event/mens-tuesday-bible-study/2025-07-01/
LOCATION:Building A\, Room 106-107
CATEGORIES:Barnabas Men’s Group,Bible Study - In-person,Ministries
ATTACH;FMTTYPE=image/jpeg:https://murdockbaptistchurch.org/wp-content/uploads/2022/12/mens-ministry-page.jpg
END:VEVENT
BEGIN:VEVENT
DTSTART;TZID=America/New_York:20250706T080000
DTEND;TZID=America/New_York:20250706T090000
DTSTAMP:20260424T033019
CREATED:20230522T190032Z
LAST-MODIFIED:20240919T215351Z
UID:10008536-1751788800-1751792400@murdockbaptistchurch.org
SUMMARY:Climbing Higher Life Group
DESCRIPTION:Led by Terry Shippy \n\n\n\nThis class offers a discussion-driven\, critical-thinking approach to the exploration of specific books of the Bible. \n\n\n\nWe are a joy filled\, supportive group of adults from all walks and age groups! \n\n\n\nIf interested in joining\, please feel free to contact Terry Shippy\, 1-941-716-4221 or at shippy@comcast.net.
URL:https://murdockbaptistchurch.org/event/climbing-higher-life-group-2/2025-07-06/
LOCATION:Rooms 103/104
CATEGORIES:Climbing Higher,Life Groups
ATTACH;FMTTYPE=image/jpeg:https://murdockbaptistchurch.org/wp-content/uploads/2023/01/climbing-higher-life-group3-copy.jpg
END:VEVENT
BEGIN:VEVENT
DTSTART;TZID=America/New_York:20250706T083000
DTEND;TZID=America/New_York:20250706T110000
DTSTAMP:20260424T033019
CREATED:20230912T141357Z
LAST-MODIFIED:20230912T141410Z
UID:10006015-1751790600-1751799600@murdockbaptistchurch.org
SUMMARY:Jesus Loves You Ministry Donation Trailer Here!
DESCRIPTION:JLY is a mobile outreach to the homeless.  Their donation trailer is on the church campus the 1st Sunday of the month before and after service.  They accept items of all kinds. (Clean clothing\, housewares\, gardening tools\, pictures\, linens\, small furniture\, etc.)
URL:https://murdockbaptistchurch.org/event/jesus-loves-you-ministry-donation-trailer-here-3/2025-07-06/
CATEGORIES:Jesus Loves You Ministry,Special Events
ATTACH;FMTTYPE=image/jpeg:https://murdockbaptistchurch.org/wp-content/uploads/2023/05/Jesus-loves-you-ministry-1.jpg
END:VEVENT
BEGIN:VEVENT
DTSTART;TZID=America/New_York:20250706T110000
DTEND;TZID=America/New_York:20250706T113000
DTSTAMP:20260424T033019
CREATED:20250623T192804Z
LAST-MODIFIED:20250623T192815Z
UID:10008856-1751799600-1751801400@murdockbaptistchurch.org
SUMMARY:Cuba Interest Meetings
DESCRIPTION:We are going back to Camajuani\, Cuba on November 15 through the 22nd. At this meeting\, we will discuss the trip details\, including children’s\, women’s\, and preaching ministries\, pre-arranged house visits\, food\, sleeping arrangements\, costs\, travel logistics\, and any other aspects of the trip you may have questions about. Attendance does not obligate you in any way – you are welcome to join us even if you’re simply curious about Cuba missions.  \n\n\n\nAt this meeting\, you may pick up an application which will be due on August 3\, 2025. Questions? Call or text Gordon Caldwell (941) 661-0446.
URL:https://murdockbaptistchurch.org/event/cuba-interest-meetings/2025-07-06/1/
LOCATION:Main Building A\, Fellowship Hall\, 18375 Cochran Boulevard\, Port Charlotte\, Florida\, 33948\, United States
CATEGORIES:Special Events
ATTACH;FMTTYPE=image/png:https://murdockbaptistchurch.org/wp-content/uploads/2024/06/cuba-report.png
END:VEVENT
BEGIN:VEVENT
DTSTART;TZID=UTC:20250706T110000
DTEND;TZID=UTC:20250706T120000
DTSTAMP:20260424T033019
CREATED:20221213T234818Z
LAST-MODIFIED:20250728T195225Z
UID:10001093-1751799600-1751803200@murdockbaptistchurch.org
SUMMARY:New Members Class
DESCRIPTION:Are you interested in becoming a member? Or perhaps you have questions? Join us today after service in the Sanctuary for this informative class.
URL:https://murdockbaptistchurch.org/event/new-members-class/2025-07-06/
CATEGORIES:New Members,Special Events
ATTACH;FMTTYPE=image/jpeg:https://murdockbaptistchurch.org/wp-content/uploads/2023/05/church-members.jpg
END:VEVENT
BEGIN:VEVENT
DTSTART;TZID=America/New_York:20250706T110000
DTEND;TZID=America/New_York:20250706T120000
DTSTAMP:20260424T033019
CREATED:20230104T205541Z
LAST-MODIFIED:20240919T220440Z
UID:10008640-1751799600-1751803200@murdockbaptistchurch.org
SUMMARY:"God's Garden" Life Group
DESCRIPTION:Led by Lori Lynch \n\n\n\nWomen of different ages\, circumstances and life stages joining together to explore God’s Word and “Grow in HIS Love”. \n\n\n\nIsiah 61:11 \n\n\n\nCome see what God wants to say to you. \n\n\n\nIf interested in joining\, feel free to contact Lori Lynch\, 1-941-628-8805 or at LynchL12000@icloud.com.
URL:https://murdockbaptistchurch.org/event/gods-garden-life-group/2025-07-06/
LOCATION:Building A\, Room 106-107
CATEGORIES:God's Garden,Life Groups
ATTACH;FMTTYPE=image/jpeg:https://murdockbaptistchurch.org/wp-content/uploads/2023/01/gods-garden-calendar-event.jpg
END:VEVENT
BEGIN:VEVENT
DTSTART;TZID=America/New_York:20250706T110000
DTEND;TZID=America/New_York:20250706T120000
DTSTAMP:20260424T033019
CREATED:20230104T214220Z
LAST-MODIFIED:20240919T215944Z
UID:10008588-1751799600-1751803200@murdockbaptistchurch.org
SUMMARY:Armored Disciples Life Group
DESCRIPTION:Led by Troy Dueboay \n\n\n\nFor younger couples and others wanting to grow in the grace and knowledge of our Lord and Savior.  \n\n\n\n2 Peter 3:18  \n\n\n\nIf interested please feel free to contact: Troy Dueboay\, 9441-661-1883 or at quietmanduke3@hotmail.com.
URL:https://murdockbaptistchurch.org/event/armored-disciples-life-group/2025-07-06/
LOCATION:Main Building\, Room #105
CATEGORIES:Armored Disciples,Life Groups
ATTACH;FMTTYPE=image/jpeg:https://murdockbaptistchurch.org/wp-content/uploads/2023/08/lifegroup-armored-discipleshero2.jpg
END:VEVENT
BEGIN:VEVENT
DTSTART;TZID=America/New_York:20250706T120000
DTEND;TZID=America/New_York:20250706T123000
DTSTAMP:20260424T033019
CREATED:20250623T192804Z
LAST-MODIFIED:20250623T192815Z
UID:10008857-1751803200-1751805000@murdockbaptistchurch.org
SUMMARY:Cuba Interest Meetings
DESCRIPTION:We are going back to Camajuani\, Cuba on November 15 through the 22nd. At this meeting\, we will discuss the trip details\, including children’s\, women’s\, and preaching ministries\, pre-arranged house visits\, food\, sleeping arrangements\, costs\, travel logistics\, and any other aspects of the trip you may have questions about. Attendance does not obligate you in any way – you are welcome to join us even if you’re simply curious about Cuba missions.  \n\n\n\nAt this meeting\, you may pick up an application which will be due on August 3\, 2025. Questions? Call or text Gordon Caldwell (941) 661-0446.
URL:https://murdockbaptistchurch.org/event/cuba-interest-meetings/2025-07-06/2/
LOCATION:Main Building A\, Fellowship Hall\, 18375 Cochran Boulevard\, Port Charlotte\, Florida\, 33948\, United States
CATEGORIES:Special Events
ATTACH;FMTTYPE=image/png:https://murdockbaptistchurch.org/wp-content/uploads/2024/06/cuba-report.png
END:VEVENT
BEGIN:VEVENT
DTSTART;TZID=America/New_York:20250706T170000
DTEND;TZID=America/New_York:20250706T193000
DTSTAMP:20260424T033019
CREATED:20250205T022517Z
LAST-MODIFIED:20250205T024239Z
UID:10008754-1751821200-1751830200@murdockbaptistchurch.org
SUMMARY:NextGen Sunday Night Worship
DESCRIPTION:Held on the first Sunday of every month from 5:00 PM to 7:30 PM\, this exciting event brings together middle schoolers\, high schoolers\, and college students for a powerful evening of Bible study\, musical worship\, food\, and fellowship. Whether you’re new to the faith or have been walking with Jesus for years\, there’s a place for you here. \n\n\n\nLearn More\n\n\n\nHow to Get Involved\n\n\n\nGot questions or want to learn more? Reach out to Bryan Skupin\, our dedicated leader\, for more information and how you can get plugged in. He’d love to help you take the next step in your faith journey. \n\n\n\nContact Bryan at bryan@murdockbaptistchurch.com. \n\n\n\nCome join us on the first Sunday of the month for an evening of worship\, learning\, and fellowship. We can’t wait to see you there!
URL:https://murdockbaptistchurch.org/event/nextgen-sunday-night-worship-2/2025-07-06/
LOCATION:Student Building B\, 18375 Cochran Boulevard\, Port Charlotte\, Florida\, 33948\, United States
CATEGORIES:Special Events,Student Ministry
ATTACH;FMTTYPE=image/webp:https://murdockbaptistchurch.org/wp-content/uploads/2025/02/NextGen1.webp
END:VEVENT
BEGIN:VEVENT
DTSTART;TZID=America/New_York:20250707T080000
DTEND;TZID=America/New_York:20250707T090000
DTSTAMP:20260424T033019
CREATED:20231016T160555Z
LAST-MODIFIED:20240919T220716Z
UID:10008693-1751875200-1751878800@murdockbaptistchurch.org
SUMMARY:Barnabas Men's Group
DESCRIPTION:Join us for our Monday morning sermon debrief. \n\n\nWe look forward to seeing you there!
URL:https://murdockbaptistchurch.org/event/barnabas-mens-group-2/2025-07-07/
LOCATION:Fellowship Hall
CATEGORIES:Barnabas Men’s Group,Ministries
ATTACH;FMTTYPE=image/jpeg:https://murdockbaptistchurch.org/wp-content/uploads/2023/01/mens-bible.jpg
END:VEVENT
BEGIN:VEVENT
DTSTART;TZID=America/New_York:20250708T140000
DTEND;TZID=America/New_York:20250708T153000
DTSTAMP:20260424T033019
CREATED:20240603T181850Z
LAST-MODIFIED:20240603T182159Z
UID:10008133-1751983200-1751988600@murdockbaptistchurch.org
SUMMARY:Neuro-Challenge (Parkinson's Support Group)
DESCRIPTION:Student Building
URL:https://murdockbaptistchurch.org/event/neuro-challenge-parkinsons-support-group/2025-07-08/
END:VEVENT
BEGIN:VEVENT
DTSTART;TZID=America/New_York:20250708T180000
DTEND;TZID=America/New_York:20250708T190000
DTSTAMP:20260424T033019
CREATED:20240923T132823Z
LAST-MODIFIED:20240923T132842Z
UID:10008737-1751997600-1752001200@murdockbaptistchurch.org
SUMMARY:Men's Tuesday Bible Study
DESCRIPTION:Men\, join us for bible study on Tuesday evenings.
URL:https://murdockbaptistchurch.org/event/mens-tuesday-bible-study/2025-07-08/
LOCATION:Building A\, Room 106-107
CATEGORIES:Barnabas Men’s Group,Bible Study - In-person,Ministries
ATTACH;FMTTYPE=image/jpeg:https://murdockbaptistchurch.org/wp-content/uploads/2022/12/mens-ministry-page.jpg
END:VEVENT
BEGIN:VEVENT
DTSTART;TZID=America/New_York:20250713T080000
DTEND;TZID=America/New_York:20250713T090000
DTSTAMP:20260424T033019
CREATED:20230522T190032Z
LAST-MODIFIED:20240919T215351Z
UID:10008537-1752393600-1752397200@murdockbaptistchurch.org
SUMMARY:Climbing Higher Life Group
DESCRIPTION:Led by Terry Shippy \n\n\n\nThis class offers a discussion-driven\, critical-thinking approach to the exploration of specific books of the Bible. \n\n\n\nWe are a joy filled\, supportive group of adults from all walks and age groups! \n\n\n\nIf interested in joining\, please feel free to contact Terry Shippy\, 1-941-716-4221 or at shippy@comcast.net.
URL:https://murdockbaptistchurch.org/event/climbing-higher-life-group-2/2025-07-13/
LOCATION:Rooms 103/104
CATEGORIES:Climbing Higher,Life Groups
ATTACH;FMTTYPE=image/jpeg:https://murdockbaptistchurch.org/wp-content/uploads/2023/01/climbing-higher-life-group3-copy.jpg
END:VEVENT
BEGIN:VEVENT
DTSTART;TZID=America/New_York:20250713T110000
DTEND;TZID=America/New_York:20250713T120000
DTSTAMP:20260424T033019
CREATED:20230104T205541Z
LAST-MODIFIED:20240919T220440Z
UID:10008641-1752404400-1752408000@murdockbaptistchurch.org
SUMMARY:"God's Garden" Life Group
DESCRIPTION:Led by Lori Lynch \n\n\n\nWomen of different ages\, circumstances and life stages joining together to explore God’s Word and “Grow in HIS Love”. \n\n\n\nIsiah 61:11 \n\n\n\nCome see what God wants to say to you. \n\n\n\nIf interested in joining\, feel free to contact Lori Lynch\, 1-941-628-8805 or at LynchL12000@icloud.com.
URL:https://murdockbaptistchurch.org/event/gods-garden-life-group/2025-07-13/
LOCATION:Building A\, Room 106-107
CATEGORIES:God's Garden,Life Groups
ATTACH;FMTTYPE=image/jpeg:https://murdockbaptistchurch.org/wp-content/uploads/2023/01/gods-garden-calendar-event.jpg
END:VEVENT
BEGIN:VEVENT
DTSTART;TZID=America/New_York:20250713T110000
DTEND;TZID=America/New_York:20250713T120000
DTSTAMP:20260424T033019
CREATED:20230104T214220Z
LAST-MODIFIED:20240919T215944Z
UID:10008589-1752404400-1752408000@murdockbaptistchurch.org
SUMMARY:Armored Disciples Life Group
DESCRIPTION:Led by Troy Dueboay \n\n\n\nFor younger couples and others wanting to grow in the grace and knowledge of our Lord and Savior.  \n\n\n\n2 Peter 3:18  \n\n\n\nIf interested please feel free to contact: Troy Dueboay\, 9441-661-1883 or at quietmanduke3@hotmail.com.
URL:https://murdockbaptistchurch.org/event/armored-disciples-life-group/2025-07-13/
LOCATION:Main Building\, Room #105
CATEGORIES:Armored Disciples,Life Groups
ATTACH;FMTTYPE=image/jpeg:https://murdockbaptistchurch.org/wp-content/uploads/2023/08/lifegroup-armored-discipleshero2.jpg
END:VEVENT
BEGIN:VEVENT
DTSTART;TZID=America/New_York:20250714T080000
DTEND;TZID=America/New_York:20250714T090000
DTSTAMP:20260424T033019
CREATED:20231016T160555Z
LAST-MODIFIED:20240919T220716Z
UID:10008694-1752480000-1752483600@murdockbaptistchurch.org
SUMMARY:Barnabas Men's Group
DESCRIPTION:Join us for our Monday morning sermon debrief. \n\n\nWe look forward to seeing you there!
URL:https://murdockbaptistchurch.org/event/barnabas-mens-group-2/2025-07-14/
LOCATION:Fellowship Hall
CATEGORIES:Barnabas Men’s Group,Ministries
ATTACH;FMTTYPE=image/jpeg:https://murdockbaptistchurch.org/wp-content/uploads/2023/01/mens-bible.jpg
END:VEVENT
BEGIN:VEVENT
DTSTART;TZID=America/New_York:20250715T180000
DTEND;TZID=America/New_York:20250715T190000
DTSTAMP:20260424T033019
CREATED:20240923T132823Z
LAST-MODIFIED:20240923T132842Z
UID:10008738-1752602400-1752606000@murdockbaptistchurch.org
SUMMARY:Men's Tuesday Bible Study
DESCRIPTION:Men\, join us for bible study on Tuesday evenings.
URL:https://murdockbaptistchurch.org/event/mens-tuesday-bible-study/2025-07-15/
LOCATION:Building A\, Room 106-107
CATEGORIES:Barnabas Men’s Group,Bible Study - In-person,Ministries
ATTACH;FMTTYPE=image/jpeg:https://murdockbaptistchurch.org/wp-content/uploads/2022/12/mens-ministry-page.jpg
END:VEVENT
BEGIN:VEVENT
DTSTART;TZID=America/New_York:20250720T080000
DTEND;TZID=America/New_York:20250720T090000
DTSTAMP:20260424T033019
CREATED:20230522T190032Z
LAST-MODIFIED:20240919T215351Z
UID:10008538-1752998400-1753002000@murdockbaptistchurch.org
SUMMARY:Climbing Higher Life Group
DESCRIPTION:Led by Terry Shippy \n\n\n\nThis class offers a discussion-driven\, critical-thinking approach to the exploration of specific books of the Bible. \n\n\n\nWe are a joy filled\, supportive group of adults from all walks and age groups! \n\n\n\nIf interested in joining\, please feel free to contact Terry Shippy\, 1-941-716-4221 or at shippy@comcast.net.
URL:https://murdockbaptistchurch.org/event/climbing-higher-life-group-2/2025-07-20/
LOCATION:Rooms 103/104
CATEGORIES:Climbing Higher,Life Groups
ATTACH;FMTTYPE=image/jpeg:https://murdockbaptistchurch.org/wp-content/uploads/2023/01/climbing-higher-life-group3-copy.jpg
END:VEVENT
BEGIN:VEVENT
DTSTART;TZID=America/New_York:20250720T110000
DTEND;TZID=America/New_York:20250720T120000
DTSTAMP:20260424T033019
CREATED:20230104T205541Z
LAST-MODIFIED:20240919T220440Z
UID:10008642-1753009200-1753012800@murdockbaptistchurch.org
SUMMARY:"God's Garden" Life Group
DESCRIPTION:Led by Lori Lynch \n\n\n\nWomen of different ages\, circumstances and life stages joining together to explore God’s Word and “Grow in HIS Love”. \n\n\n\nIsiah 61:11 \n\n\n\nCome see what God wants to say to you. \n\n\n\nIf interested in joining\, feel free to contact Lori Lynch\, 1-941-628-8805 or at LynchL12000@icloud.com.
URL:https://murdockbaptistchurch.org/event/gods-garden-life-group/2025-07-20/
LOCATION:Building A\, Room 106-107
CATEGORIES:God's Garden,Life Groups
ATTACH;FMTTYPE=image/jpeg:https://murdockbaptistchurch.org/wp-content/uploads/2023/01/gods-garden-calendar-event.jpg
END:VEVENT
BEGIN:VEVENT
DTSTART;TZID=America/New_York:20250720T110000
DTEND;TZID=America/New_York:20250720T120000
DTSTAMP:20260424T033019
CREATED:20230104T214220Z
LAST-MODIFIED:20240919T215944Z
UID:10008590-1753009200-1753012800@murdockbaptistchurch.org
SUMMARY:Armored Disciples Life Group
DESCRIPTION:Led by Troy Dueboay \n\n\n\nFor younger couples and others wanting to grow in the grace and knowledge of our Lord and Savior.  \n\n\n\n2 Peter 3:18  \n\n\n\nIf interested please feel free to contact: Troy Dueboay\, 9441-661-1883 or at quietmanduke3@hotmail.com.
URL:https://murdockbaptistchurch.org/event/armored-disciples-life-group/2025-07-20/
LOCATION:Main Building\, Room #105
CATEGORIES:Armored Disciples,Life Groups
ATTACH;FMTTYPE=image/jpeg:https://murdockbaptistchurch.org/wp-content/uploads/2023/08/lifegroup-armored-discipleshero2.jpg
END:VEVENT
BEGIN:VEVENT
DTSTART;TZID=America/New_York:20250721T080000
DTEND;TZID=America/New_York:20250721T090000
DTSTAMP:20260424T033019
CREATED:20231016T160555Z
LAST-MODIFIED:20240919T220716Z
UID:10008695-1753084800-1753088400@murdockbaptistchurch.org
SUMMARY:Barnabas Men's Group
DESCRIPTION:Join us for our Monday morning sermon debrief. \n\n\nWe look forward to seeing you there!
URL:https://murdockbaptistchurch.org/event/barnabas-mens-group-2/2025-07-21/
LOCATION:Fellowship Hall
CATEGORIES:Barnabas Men’s Group,Ministries
ATTACH;FMTTYPE=image/jpeg:https://murdockbaptistchurch.org/wp-content/uploads/2023/01/mens-bible.jpg
END:VEVENT
BEGIN:VEVENT
DTSTART;TZID=America/New_York:20250722T180000
DTEND;TZID=America/New_York:20250722T190000
DTSTAMP:20260424T033019
CREATED:20240923T132823Z
LAST-MODIFIED:20240923T132842Z
UID:10008739-1753207200-1753210800@murdockbaptistchurch.org
SUMMARY:Men's Tuesday Bible Study
DESCRIPTION:Men\, join us for bible study on Tuesday evenings.
URL:https://murdockbaptistchurch.org/event/mens-tuesday-bible-study/2025-07-22/
LOCATION:Building A\, Room 106-107
CATEGORIES:Barnabas Men’s Group,Bible Study - In-person,Ministries
ATTACH;FMTTYPE=image/jpeg:https://murdockbaptistchurch.org/wp-content/uploads/2022/12/mens-ministry-page.jpg
END:VEVENT
BEGIN:VEVENT
DTSTART;TZID=America/New_York:20250726T080000
DTEND;TZID=America/New_York:20250726T100000
DTSTAMP:20260424T033019
CREATED:20250507T143219Z
LAST-MODIFIED:20250507T183406Z
UID:10008769-1753516800-1753524000@murdockbaptistchurch.org
SUMMARY:Men's Saturday Morning Prayer Gathering
DESCRIPTION:A time dedicated to prayer\, worship & fellowship!
URL:https://murdockbaptistchurch.org/event/saturday-morning-prayer-gathering/2025-07-26/
CATEGORIES:Barnabas Men’s Group,Men's Ministry,Ministries,Special Events
END:VEVENT
BEGIN:VEVENT
DTSTART;TZID=America/New_York:20250727T080000
DTEND;TZID=America/New_York:20250727T090000
DTSTAMP:20260424T033019
CREATED:20230522T190032Z
LAST-MODIFIED:20240919T215351Z
UID:10008539-1753603200-1753606800@murdockbaptistchurch.org
SUMMARY:Climbing Higher Life Group
DESCRIPTION:Led by Terry Shippy \n\n\n\nThis class offers a discussion-driven\, critical-thinking approach to the exploration of specific books of the Bible. \n\n\n\nWe are a joy filled\, supportive group of adults from all walks and age groups! \n\n\n\nIf interested in joining\, please feel free to contact Terry Shippy\, 1-941-716-4221 or at shippy@comcast.net.
URL:https://murdockbaptistchurch.org/event/climbing-higher-life-group-2/2025-07-27/
LOCATION:Rooms 103/104
CATEGORIES:Climbing Higher,Life Groups
ATTACH;FMTTYPE=image/jpeg:https://murdockbaptistchurch.org/wp-content/uploads/2023/01/climbing-higher-life-group3-copy.jpg
END:VEVENT
BEGIN:VEVENT
DTSTART;TZID=America/New_York:20250727T110000
DTEND;TZID=America/New_York:20250727T120000
DTSTAMP:20260424T033019
CREATED:20230104T205541Z
LAST-MODIFIED:20240919T220440Z
UID:10008643-1753614000-1753617600@murdockbaptistchurch.org
SUMMARY:"God's Garden" Life Group
DESCRIPTION:Led by Lori Lynch \n\n\n\nWomen of different ages\, circumstances and life stages joining together to explore God’s Word and “Grow in HIS Love”. \n\n\n\nIsiah 61:11 \n\n\n\nCome see what God wants to say to you. \n\n\n\nIf interested in joining\, feel free to contact Lori Lynch\, 1-941-628-8805 or at LynchL12000@icloud.com.
URL:https://murdockbaptistchurch.org/event/gods-garden-life-group/2025-07-27/
LOCATION:Building A\, Room 106-107
CATEGORIES:God's Garden,Life Groups
ATTACH;FMTTYPE=image/jpeg:https://murdockbaptistchurch.org/wp-content/uploads/2023/01/gods-garden-calendar-event.jpg
END:VEVENT
BEGIN:VEVENT
DTSTART;TZID=America/New_York:20250727T110000
DTEND;TZID=America/New_York:20250727T120000
DTSTAMP:20260424T033019
CREATED:20230104T214220Z
LAST-MODIFIED:20240919T215944Z
UID:10008591-1753614000-1753617600@murdockbaptistchurch.org
SUMMARY:Armored Disciples Life Group
DESCRIPTION:Led by Troy Dueboay \n\n\n\nFor younger couples and others wanting to grow in the grace and knowledge of our Lord and Savior.  \n\n\n\n2 Peter 3:18  \n\n\n\nIf interested please feel free to contact: Troy Dueboay\, 9441-661-1883 or at quietmanduke3@hotmail.com.
URL:https://murdockbaptistchurch.org/event/armored-disciples-life-group/2025-07-27/
LOCATION:Main Building\, Room #105
CATEGORIES:Armored Disciples,Life Groups
ATTACH;FMTTYPE=image/jpeg:https://murdockbaptistchurch.org/wp-content/uploads/2023/08/lifegroup-armored-discipleshero2.jpg
END:VEVENT
BEGIN:VEVENT
DTSTART;TZID=America/New_York:20250727T163000
DTEND;TZID=America/New_York:20250727T183000
DTSTAMP:20260424T033019
CREATED:20250721T140523Z
LAST-MODIFIED:20250721T140537Z
UID:10008858-1753633800-1753641000@murdockbaptistchurch.org
SUMMARY:Family Fellowship for Parents\, Kids & Young Adults
DESCRIPTION:Join us for a Potluck supper in the Feloowship Hall.
URL:https://murdockbaptistchurch.org/event/family-fellowship-for-parents-kids-young-adults-3/
LOCATION:Student Buildings B & C
CATEGORIES:Special Events
ATTACH;FMTTYPE=image/jpeg:https://murdockbaptistchurch.org/wp-content/uploads/2023/05/potluck.jpg
END:VEVENT
END:VCALENDAR