BEGIN:VCALENDAR
VERSION:2.0
PRODID:-//Murdock Baptist Church - ECPv6.15.20//NONSGML v1.0//EN
CALSCALE:GREGORIAN
METHOD:PUBLISH
X-ORIGINAL-URL:https://murdockbaptistchurch.org
X-WR-CALDESC:Events for Murdock Baptist Church
REFRESH-INTERVAL;VALUE=DURATION:PT1H
X-Robots-Tag:noindex
X-PUBLISHED-TTL:PT1H
BEGIN:VTIMEZONE
TZID:America/New_York
BEGIN:DAYLIGHT
TZOFFSETFROM:-0500
TZOFFSETTO:-0400
TZNAME:EDT
DTSTART:20230312T070000
END:DAYLIGHT
BEGIN:STANDARD
TZOFFSETFROM:-0400
TZOFFSETTO:-0500
TZNAME:EST
DTSTART:20231105T060000
END:STANDARD
BEGIN:DAYLIGHT
TZOFFSETFROM:-0500
TZOFFSETTO:-0400
TZNAME:EDT
DTSTART:20240310T070000
END:DAYLIGHT
BEGIN:STANDARD
TZOFFSETFROM:-0400
TZOFFSETTO:-0500
TZNAME:EST
DTSTART:20241103T060000
END:STANDARD
BEGIN:DAYLIGHT
TZOFFSETFROM:-0500
TZOFFSETTO:-0400
TZNAME:EDT
DTSTART:20250309T070000
END:DAYLIGHT
BEGIN:STANDARD
TZOFFSETFROM:-0400
TZOFFSETTO:-0500
TZNAME:EST
DTSTART:20251102T060000
END:STANDARD
END:VTIMEZONE
BEGIN:VTIMEZONE
TZID:UTC
BEGIN:STANDARD
TZOFFSETFROM:+0000
TZOFFSETTO:+0000
TZNAME:UTC
DTSTART:20230101T000000
END:STANDARD
END:VTIMEZONE
BEGIN:VEVENT
DTSTART;TZID=America/New_York:20241201T080000
DTEND;TZID=America/New_York:20241201T090000
DTSTAMP:20260424T162255
CREATED:20230522T190032Z
LAST-MODIFIED:20240919T215351Z
UID:10008505-1733040000-1733043600@murdockbaptistchurch.org
SUMMARY:Climbing Higher Life Group
DESCRIPTION:Led by Terry Shippy \n\n\n\nThis class offers a discussion-driven\, critical-thinking approach to the exploration of specific books of the Bible. \n\n\n\nWe are a joy filled\, supportive group of adults from all walks and age groups! \n\n\n\nIf interested in joining\, please feel free to contact Terry Shippy\, 1-941-716-4221 or at shippy@comcast.net.
URL:https://murdockbaptistchurch.org/event/climbing-higher-life-group-2/2024-12-01/
LOCATION:Rooms 103/104
CATEGORIES:Climbing Higher,Life Groups
ATTACH;FMTTYPE=image/jpeg:https://murdockbaptistchurch.org/wp-content/uploads/2023/01/climbing-higher-life-group3-copy.jpg
END:VEVENT
BEGIN:VEVENT
DTSTART;TZID=America/New_York:20241201T083000
DTEND;TZID=America/New_York:20241201T110000
DTSTAMP:20260424T162255
CREATED:20230912T141357Z
LAST-MODIFIED:20230912T141410Z
UID:10006008-1733041800-1733050800@murdockbaptistchurch.org
SUMMARY:Jesus Loves You Ministry Donation Trailer Here!
DESCRIPTION:JLY is a mobile outreach to the homeless.  Their donation trailer is on the church campus the 1st Sunday of the month before and after service.  They accept items of all kinds. (Clean clothing\, housewares\, gardening tools\, pictures\, linens\, small furniture\, etc.)
URL:https://murdockbaptistchurch.org/event/jesus-loves-you-ministry-donation-trailer-here-3/2024-12-01/
CATEGORIES:Jesus Loves You Ministry,Special Events
ATTACH;FMTTYPE=image/jpeg:https://murdockbaptistchurch.org/wp-content/uploads/2023/05/Jesus-loves-you-ministry-1.jpg
END:VEVENT
BEGIN:VEVENT
DTSTART;TZID=UTC:20241201T110000
DTEND;TZID=UTC:20241201T120000
DTSTAMP:20260424T162255
CREATED:20221213T234818Z
LAST-MODIFIED:20250728T195225Z
UID:10001086-1733050800-1733054400@murdockbaptistchurch.org
SUMMARY:New Members Class
DESCRIPTION:Are you interested in becoming a member? Or perhaps you have questions? Join us today after service in the Sanctuary for this informative class.
URL:https://murdockbaptistchurch.org/event/new-members-class/2024-12-01/
CATEGORIES:New Members,Special Events
ATTACH;FMTTYPE=image/jpeg:https://murdockbaptistchurch.org/wp-content/uploads/2023/05/church-members.jpg
END:VEVENT
BEGIN:VEVENT
DTSTART;TZID=America/New_York:20241201T110000
DTEND;TZID=America/New_York:20241201T120000
DTSTAMP:20260424T162255
CREATED:20230104T205541Z
LAST-MODIFIED:20240919T220440Z
UID:10008609-1733050800-1733054400@murdockbaptistchurch.org
SUMMARY:"God's Garden" Life Group
DESCRIPTION:Led by Lori Lynch \n\n\n\nWomen of different ages\, circumstances and life stages joining together to explore God’s Word and “Grow in HIS Love”. \n\n\n\nIsiah 61:11 \n\n\n\nCome see what God wants to say to you. \n\n\n\nIf interested in joining\, feel free to contact Lori Lynch\, 1-941-628-8805 or at LynchL12000@icloud.com.
URL:https://murdockbaptistchurch.org/event/gods-garden-life-group/2024-12-01/
LOCATION:Building A\, Room 106-107
CATEGORIES:God's Garden,Life Groups
ATTACH;FMTTYPE=image/jpeg:https://murdockbaptistchurch.org/wp-content/uploads/2023/01/gods-garden-calendar-event.jpg
END:VEVENT
BEGIN:VEVENT
DTSTART;TZID=America/New_York:20241201T110000
DTEND;TZID=America/New_York:20241201T120000
DTSTAMP:20260424T162255
CREATED:20230104T214220Z
LAST-MODIFIED:20240919T215944Z
UID:10008557-1733050800-1733054400@murdockbaptistchurch.org
SUMMARY:Armored Disciples Life Group
DESCRIPTION:Led by Troy Dueboay \n\n\n\nFor younger couples and others wanting to grow in the grace and knowledge of our Lord and Savior.  \n\n\n\n2 Peter 3:18  \n\n\n\nIf interested please feel free to contact: Troy Dueboay\, 9441-661-1883 or at quietmanduke3@hotmail.com.
URL:https://murdockbaptistchurch.org/event/armored-disciples-life-group/2024-12-01/
LOCATION:Main Building\, Room #105
CATEGORIES:Armored Disciples,Life Groups
ATTACH;FMTTYPE=image/jpeg:https://murdockbaptistchurch.org/wp-content/uploads/2023/08/lifegroup-armored-discipleshero2.jpg
END:VEVENT
BEGIN:VEVENT
DTSTART;TZID=America/New_York:20241201T110000
DTEND;TZID=America/New_York:20241201T120000
DTSTAMP:20260424T162255
CREATED:20240301T031638Z
LAST-MODIFIED:20240919T215651Z
UID:10007682-1733050800-1733054400@murdockbaptistchurch.org
SUMMARY:Overcomers Life Group (NEW)
DESCRIPTION:You are invited to a newly organized class named Overcomers (formerly Good Grief). We will be looking at the Old Testament book of Proverbs for 7 weeks. The study is titled\, “Finding Old Answers to New Questions”. All are welcomed.
URL:https://murdockbaptistchurch.org/event/overcomers-life-group-new/2024-12-01/
LOCATION:Room 103\, 18375 Cochran Boulevard\, Port Charlotte\, Florida\, 33948\, United States
CATEGORIES:Good Grief,Life Groups,Special Events
END:VEVENT
BEGIN:VEVENT
DTSTART;TZID=America/New_York:20241201T110000
DTEND;TZID=America/New_York:20241201T120000
DTSTAMP:20260424T162255
CREATED:20240708T190011Z
LAST-MODIFIED:20240923T133143Z
UID:10008247-1733050800-1733054400@murdockbaptistchurch.org
SUMMARY:NextGen Life Group
DESCRIPTION:For students in 6th through 12th grade. Sign in and name tags are required.
URL:https://murdockbaptistchurch.org/event/nextgen-life-group/2024-12-01/
LOCATION:Student Building B\, 18375 Cochran Boulevard\, Port Charlotte\, Florida\, 33948\, United States
CATEGORIES:Life Groups,Ministries,Student Ministry
ATTACH;FMTTYPE=image/jpeg:https://murdockbaptistchurch.org/wp-content/uploads/2023/06/student-trip-slider4.jpg
END:VEVENT
BEGIN:VEVENT
DTSTART;TZID=America/New_York:20241202T080000
DTEND;TZID=America/New_York:20241202T090000
DTSTAMP:20260424T162255
CREATED:20231016T160555Z
LAST-MODIFIED:20240919T220716Z
UID:10008662-1733126400-1733130000@murdockbaptistchurch.org
SUMMARY:Barnabas Men's Group
DESCRIPTION:Join us for our Monday morning sermon debrief. \n\n\nWe look forward to seeing you there!
URL:https://murdockbaptistchurch.org/event/barnabas-mens-group-2/2024-12-02/
LOCATION:Fellowship Hall
CATEGORIES:Barnabas Men’s Group,Ministries
ATTACH;FMTTYPE=image/jpeg:https://murdockbaptistchurch.org/wp-content/uploads/2023/01/mens-bible.jpg
END:VEVENT
BEGIN:VEVENT
DTSTART;TZID=America/New_York:20241202T124500
DTEND;TZID=America/New_York:20241202T141500
DTSTAMP:20260424T162255
CREATED:20240603T180348Z
LAST-MODIFIED:20240603T180401Z
UID:10008066-1733143500-1733148900@murdockbaptistchurch.org
SUMMARY:Prayer Shawl Ministry
DESCRIPTION:Do you like to knit\, crochet and fellowship? Join us on the 1st & 3rd Monday of each month.Our shawls are made and given to comfort those who are going through a tough time. Whether it bepersonal or family illness\, loss of loved one\, or a multitude of reasons\, to let them know God loves them and that we are praying for them.
URL:https://murdockbaptistchurch.org/event/prayer-shawl-ministry-2/2024-12-02/
END:VEVENT
BEGIN:VEVENT
DTSTART;TZID=America/New_York:20241203T180000
DTEND;TZID=America/New_York:20241203T190000
DTSTAMP:20260424T162255
CREATED:20240923T132823Z
LAST-MODIFIED:20240923T132842Z
UID:10008706-1733248800-1733252400@murdockbaptistchurch.org
SUMMARY:Men's Tuesday Bible Study
DESCRIPTION:Men\, join us for bible study on Tuesday evenings.
URL:https://murdockbaptistchurch.org/event/mens-tuesday-bible-study/2024-12-03/
LOCATION:Building A\, Room 106-107
CATEGORIES:Barnabas Men’s Group,Bible Study - In-person,Ministries
ATTACH;FMTTYPE=image/jpeg:https://murdockbaptistchurch.org/wp-content/uploads/2022/12/mens-ministry-page.jpg
END:VEVENT
BEGIN:VEVENT
DTSTART;TZID=America/New_York:20241204T174500
DTEND;TZID=America/New_York:20241204T191500
DTSTAMP:20260424T162255
CREATED:20240521T171313Z
LAST-MODIFIED:20240521T171331Z
UID:10007971-1733334300-1733339700@murdockbaptistchurch.org
SUMMARY:AWANA Club
DESCRIPTION:AWANA is a discipleship program that helps build a Biblical foundation for preschoolers\, ages 3-5\, and children\, K-5th grade. AWANA stands for Approved Workman Are Not Ashamed. AWANA clubs are an exciting program for kids to learn about God’s love and His plan for our lives. Trained adults with clear background checks lead all of our clubs. A typical club night consists of reciting Bible verses\, age graded Bible study and game time.
URL:https://murdockbaptistchurch.org/event/awana-club-30/2024-12-04/
LOCATION:Student Building B\, 18375 Cochran Boulevard\, Port Charlotte\, Florida\, 33948\, United States
CATEGORIES:Children's Ministry,Preschool Ministry
ATTACH;FMTTYPE=image/webp:https://murdockbaptistchurch.org/wp-content/uploads/2022/11/d6ed55_0e6f115b0f814ee19d9aabf8aec7d401_mv2_d_3129_1281_s_2.webp
END:VEVENT
BEGIN:VEVENT
DTSTART;TZID=America/New_York:20241207T110000
DTEND;TZID=America/New_York:20241207T120000
DTSTAMP:20260424T162255
CREATED:20241122T032043Z
LAST-MODIFIED:20241123T151946Z
UID:10008746-1733569200-1733572800@murdockbaptistchurch.org
SUMMARY:Jingle Jam
DESCRIPTION:This Christmas\, get ready to experience a Christmas like no other! Can you imagine a Christmas party big enough for your whole family? A Christmas party with singing\, dancing\, games\, drama\, activities and more! A party where you will experience the true meaning of Christmas through sounds\, sights\, touch\, tastes\, and even…smells? \n\n\n\n\nRegister Online
URL:https://murdockbaptistchurch.org/event/jingle-jam/
LOCATION:Student Building B\, 18375 Cochran Boulevard\, Port Charlotte\, Florida\, 33948\, United States
CATEGORIES:Holiday Celebrations,Special Events
ATTACH;FMTTYPE=image/jpeg:https://murdockbaptistchurch.org/wp-content/uploads/2024/11/jingle-jam-scaled.jpg
END:VEVENT
BEGIN:VEVENT
DTSTART;TZID=America/New_York:20241208T080000
DTEND;TZID=America/New_York:20241208T090000
DTSTAMP:20260424T162255
CREATED:20230522T190032Z
LAST-MODIFIED:20240919T215351Z
UID:10008506-1733644800-1733648400@murdockbaptistchurch.org
SUMMARY:Climbing Higher Life Group
DESCRIPTION:Led by Terry Shippy \n\n\n\nThis class offers a discussion-driven\, critical-thinking approach to the exploration of specific books of the Bible. \n\n\n\nWe are a joy filled\, supportive group of adults from all walks and age groups! \n\n\n\nIf interested in joining\, please feel free to contact Terry Shippy\, 1-941-716-4221 or at shippy@comcast.net.
URL:https://murdockbaptistchurch.org/event/climbing-higher-life-group-2/2024-12-08/
LOCATION:Rooms 103/104
CATEGORIES:Climbing Higher,Life Groups
ATTACH;FMTTYPE=image/jpeg:https://murdockbaptistchurch.org/wp-content/uploads/2023/01/climbing-higher-life-group3-copy.jpg
END:VEVENT
BEGIN:VEVENT
DTSTART;TZID=America/New_York:20241208T110000
DTEND;TZID=America/New_York:20241208T113000
DTSTAMP:20260424T162255
CREATED:20241202T032140Z
LAST-MODIFIED:20241202T032208Z
UID:10008747-1733655600-1733657400@murdockbaptistchurch.org
SUMMARY:Special Called Church Conference
DESCRIPTION:A special called church conference will be held immediately following service for the consideration of the 2025 budget.
URL:https://murdockbaptistchurch.org/event/special-called-church-conference-3/
LOCATION:Main Stage\, Worship Center\, 18375 Cochran Boulevard\, Port Charlote\, Florida\, 33948
CATEGORIES:Special Events
END:VEVENT
BEGIN:VEVENT
DTSTART;TZID=America/New_York:20241208T110000
DTEND;TZID=America/New_York:20241208T120000
DTSTAMP:20260424T162255
CREATED:20230104T205541Z
LAST-MODIFIED:20240919T220440Z
UID:10008610-1733655600-1733659200@murdockbaptistchurch.org
SUMMARY:"God's Garden" Life Group
DESCRIPTION:Led by Lori Lynch \n\n\n\nWomen of different ages\, circumstances and life stages joining together to explore God’s Word and “Grow in HIS Love”. \n\n\n\nIsiah 61:11 \n\n\n\nCome see what God wants to say to you. \n\n\n\nIf interested in joining\, feel free to contact Lori Lynch\, 1-941-628-8805 or at LynchL12000@icloud.com.
URL:https://murdockbaptistchurch.org/event/gods-garden-life-group/2024-12-08/
LOCATION:Building A\, Room 106-107
CATEGORIES:God's Garden,Life Groups
ATTACH;FMTTYPE=image/jpeg:https://murdockbaptistchurch.org/wp-content/uploads/2023/01/gods-garden-calendar-event.jpg
END:VEVENT
BEGIN:VEVENT
DTSTART;TZID=America/New_York:20241208T110000
DTEND;TZID=America/New_York:20241208T120000
DTSTAMP:20260424T162255
CREATED:20230104T214220Z
LAST-MODIFIED:20240919T215944Z
UID:10008558-1733655600-1733659200@murdockbaptistchurch.org
SUMMARY:Armored Disciples Life Group
DESCRIPTION:Led by Troy Dueboay \n\n\n\nFor younger couples and others wanting to grow in the grace and knowledge of our Lord and Savior.  \n\n\n\n2 Peter 3:18  \n\n\n\nIf interested please feel free to contact: Troy Dueboay\, 9441-661-1883 or at quietmanduke3@hotmail.com.
URL:https://murdockbaptistchurch.org/event/armored-disciples-life-group/2024-12-08/
LOCATION:Main Building\, Room #105
CATEGORIES:Armored Disciples,Life Groups
ATTACH;FMTTYPE=image/jpeg:https://murdockbaptistchurch.org/wp-content/uploads/2023/08/lifegroup-armored-discipleshero2.jpg
END:VEVENT
BEGIN:VEVENT
DTSTART;TZID=America/New_York:20241208T110000
DTEND;TZID=America/New_York:20241208T120000
DTSTAMP:20260424T162255
CREATED:20240301T031638Z
LAST-MODIFIED:20240919T215651Z
UID:10007683-1733655600-1733659200@murdockbaptistchurch.org
SUMMARY:Overcomers Life Group (NEW)
DESCRIPTION:You are invited to a newly organized class named Overcomers (formerly Good Grief). We will be looking at the Old Testament book of Proverbs for 7 weeks. The study is titled\, “Finding Old Answers to New Questions”. All are welcomed.
URL:https://murdockbaptistchurch.org/event/overcomers-life-group-new/2024-12-08/
LOCATION:Room 103\, 18375 Cochran Boulevard\, Port Charlotte\, Florida\, 33948\, United States
CATEGORIES:Good Grief,Life Groups,Special Events
END:VEVENT
BEGIN:VEVENT
DTSTART;TZID=America/New_York:20241208T110000
DTEND;TZID=America/New_York:20241208T120000
DTSTAMP:20260424T162255
CREATED:20240708T190011Z
LAST-MODIFIED:20240923T133143Z
UID:10008248-1733655600-1733659200@murdockbaptistchurch.org
SUMMARY:NextGen Life Group
DESCRIPTION:For students in 6th through 12th grade. Sign in and name tags are required.
URL:https://murdockbaptistchurch.org/event/nextgen-life-group/2024-12-08/
LOCATION:Student Building B\, 18375 Cochran Boulevard\, Port Charlotte\, Florida\, 33948\, United States
CATEGORIES:Life Groups,Ministries,Student Ministry
ATTACH;FMTTYPE=image/jpeg:https://murdockbaptistchurch.org/wp-content/uploads/2023/06/student-trip-slider4.jpg
END:VEVENT
BEGIN:VEVENT
DTSTART;TZID=America/New_York:20241209T080000
DTEND;TZID=America/New_York:20241209T090000
DTSTAMP:20260424T162255
CREATED:20231016T160555Z
LAST-MODIFIED:20240919T220716Z
UID:10008663-1733731200-1733734800@murdockbaptistchurch.org
SUMMARY:Barnabas Men's Group
DESCRIPTION:Join us for our Monday morning sermon debrief. \n\n\nWe look forward to seeing you there!
URL:https://murdockbaptistchurch.org/event/barnabas-mens-group-2/2024-12-09/
LOCATION:Fellowship Hall
CATEGORIES:Barnabas Men’s Group,Ministries
ATTACH;FMTTYPE=image/jpeg:https://murdockbaptistchurch.org/wp-content/uploads/2023/01/mens-bible.jpg
END:VEVENT
BEGIN:VEVENT
DTSTART;TZID=America/New_York:20241210T140000
DTEND;TZID=America/New_York:20241210T153000
DTSTAMP:20260424T162255
CREATED:20240603T181850Z
LAST-MODIFIED:20240603T182159Z
UID:10008126-1733839200-1733844600@murdockbaptistchurch.org
SUMMARY:Neuro-Challenge (Parkinson's Support Group)
DESCRIPTION:Student Building
URL:https://murdockbaptistchurch.org/event/neuro-challenge-parkinsons-support-group/2024-12-10/
END:VEVENT
BEGIN:VEVENT
DTSTART;TZID=America/New_York:20241210T180000
DTEND;TZID=America/New_York:20241210T190000
DTSTAMP:20260424T162255
CREATED:20240923T132823Z
LAST-MODIFIED:20240923T132842Z
UID:10008707-1733853600-1733857200@murdockbaptistchurch.org
SUMMARY:Men's Tuesday Bible Study
DESCRIPTION:Men\, join us for bible study on Tuesday evenings.
URL:https://murdockbaptistchurch.org/event/mens-tuesday-bible-study/2024-12-10/
LOCATION:Building A\, Room 106-107
CATEGORIES:Barnabas Men’s Group,Bible Study - In-person,Ministries
ATTACH;FMTTYPE=image/jpeg:https://murdockbaptistchurch.org/wp-content/uploads/2022/12/mens-ministry-page.jpg
END:VEVENT
BEGIN:VEVENT
DTSTART;TZID=America/New_York:20241211T174500
DTEND;TZID=America/New_York:20241211T191500
DTSTAMP:20260424T162255
CREATED:20240521T171313Z
LAST-MODIFIED:20240521T171331Z
UID:10007972-1733939100-1733944500@murdockbaptistchurch.org
SUMMARY:AWANA Club
DESCRIPTION:AWANA is a discipleship program that helps build a Biblical foundation for preschoolers\, ages 3-5\, and children\, K-5th grade. AWANA stands for Approved Workman Are Not Ashamed. AWANA clubs are an exciting program for kids to learn about God’s love and His plan for our lives. Trained adults with clear background checks lead all of our clubs. A typical club night consists of reciting Bible verses\, age graded Bible study and game time.
URL:https://murdockbaptistchurch.org/event/awana-club-30/2024-12-11/
LOCATION:Student Building B\, 18375 Cochran Boulevard\, Port Charlotte\, Florida\, 33948\, United States
CATEGORIES:Children's Ministry,Preschool Ministry
ATTACH;FMTTYPE=image/webp:https://murdockbaptistchurch.org/wp-content/uploads/2022/11/d6ed55_0e6f115b0f814ee19d9aabf8aec7d401_mv2_d_3129_1281_s_2.webp
END:VEVENT
BEGIN:VEVENT
DTSTART;TZID=America/New_York:20241212T100000
DTEND;TZID=America/New_York:20241212T120000
DTSTAMP:20260424T162255
CREATED:20240604T140355Z
LAST-MODIFIED:20250507T154232Z
UID:10008188-1733997600-1734004800@murdockbaptistchurch.org
SUMMARY:Ladies Quilting Group
DESCRIPTION:Join the Bobbin Along ladies quilting group on the 2nd & 4th Thursday of each month 10-12 in Building B\, Room A. \n\n\n\n If you’ve always wanted to learn how to quilt or you have been quilting for years\, please join us! For more information contact Debbie Eritz at 234-567-3686.
URL:https://murdockbaptistchurch.org/event/ladies-quilting-group-new/2024-12-12/
LOCATION:Student Building\, Room A\, 18375 Cochran Boulevard\, Port Charlotte\, Florida\, 33948
CATEGORIES:Special Events,Women's Ministry
ATTACH;FMTTYPE=image/jpeg:https://murdockbaptistchurch.org/wp-content/uploads/2024/06/quilting-images.jpg
END:VEVENT
BEGIN:VEVENT
DTSTART;TZID=America/New_York:20241214T180000
DTEND;TZID=America/New_York:20241214T193000
DTSTAMP:20260424T162255
CREATED:20241121T220245Z
LAST-MODIFIED:20241126T190811Z
UID:10008743-1734199200-1734204600@murdockbaptistchurch.org
SUMMARY:THE CAROLS OF CHRISTMAS: a time of singing and storytelling
DESCRIPTION:Everyone likes Christmas music! You are invited to celebrate the season with us at Murdock Baptist Church. Join us as our space is transformed into a giant living room where you are a guest for a memorable Christmas carol sing-a-long. Come for a wonderful trip down memory lane as we celebrate Christmas together. \n\n\n\nAlso available Sunday\, December 15th from 3-4:30 p.m. \n\n\n\nIf you can’t make it in person\, watch the live stream video. \n\n\n\nFree and open to the public!
URL:https://murdockbaptistchurch.org/event/the-carols-of-christmas-a-time-of-singing-and-storytelling-2/
LOCATION:Main Stage\, Worship Center\, 18375 Cochran Boulevard\, Port Charlote\, Florida\, 33948
CATEGORIES:Holiday Celebrations,Special Events
ATTACH;FMTTYPE=image/jpeg:https://murdockbaptistchurch.org/wp-content/uploads/2023/11/xmas-900x600-2.jpg
END:VEVENT
BEGIN:VEVENT
DTSTART;TZID=America/New_York:20241215T080000
DTEND;TZID=America/New_York:20241215T090000
DTSTAMP:20260424T162255
CREATED:20230522T190032Z
LAST-MODIFIED:20240919T215351Z
UID:10008507-1734249600-1734253200@murdockbaptistchurch.org
SUMMARY:Climbing Higher Life Group
DESCRIPTION:Led by Terry Shippy \n\n\n\nThis class offers a discussion-driven\, critical-thinking approach to the exploration of specific books of the Bible. \n\n\n\nWe are a joy filled\, supportive group of adults from all walks and age groups! \n\n\n\nIf interested in joining\, please feel free to contact Terry Shippy\, 1-941-716-4221 or at shippy@comcast.net.
URL:https://murdockbaptistchurch.org/event/climbing-higher-life-group-2/2024-12-15/
LOCATION:Rooms 103/104
CATEGORIES:Climbing Higher,Life Groups
ATTACH;FMTTYPE=image/jpeg:https://murdockbaptistchurch.org/wp-content/uploads/2023/01/climbing-higher-life-group3-copy.jpg
END:VEVENT
BEGIN:VEVENT
DTSTART;TZID=America/New_York:20241215T110000
DTEND;TZID=America/New_York:20241215T120000
DTSTAMP:20260424T162255
CREATED:20230104T205541Z
LAST-MODIFIED:20240919T220440Z
UID:10008611-1734260400-1734264000@murdockbaptistchurch.org
SUMMARY:"God's Garden" Life Group
DESCRIPTION:Led by Lori Lynch \n\n\n\nWomen of different ages\, circumstances and life stages joining together to explore God’s Word and “Grow in HIS Love”. \n\n\n\nIsiah 61:11 \n\n\n\nCome see what God wants to say to you. \n\n\n\nIf interested in joining\, feel free to contact Lori Lynch\, 1-941-628-8805 or at LynchL12000@icloud.com.
URL:https://murdockbaptistchurch.org/event/gods-garden-life-group/2024-12-15/
LOCATION:Building A\, Room 106-107
CATEGORIES:God's Garden,Life Groups
ATTACH;FMTTYPE=image/jpeg:https://murdockbaptistchurch.org/wp-content/uploads/2023/01/gods-garden-calendar-event.jpg
END:VEVENT
BEGIN:VEVENT
DTSTART;TZID=America/New_York:20241215T110000
DTEND;TZID=America/New_York:20241215T120000
DTSTAMP:20260424T162255
CREATED:20230104T214220Z
LAST-MODIFIED:20240919T215944Z
UID:10008559-1734260400-1734264000@murdockbaptistchurch.org
SUMMARY:Armored Disciples Life Group
DESCRIPTION:Led by Troy Dueboay \n\n\n\nFor younger couples and others wanting to grow in the grace and knowledge of our Lord and Savior.  \n\n\n\n2 Peter 3:18  \n\n\n\nIf interested please feel free to contact: Troy Dueboay\, 9441-661-1883 or at quietmanduke3@hotmail.com.
URL:https://murdockbaptistchurch.org/event/armored-disciples-life-group/2024-12-15/
LOCATION:Main Building\, Room #105
CATEGORIES:Armored Disciples,Life Groups
ATTACH;FMTTYPE=image/jpeg:https://murdockbaptistchurch.org/wp-content/uploads/2023/08/lifegroup-armored-discipleshero2.jpg
END:VEVENT
BEGIN:VEVENT
DTSTART;TZID=America/New_York:20241215T110000
DTEND;TZID=America/New_York:20241215T120000
DTSTAMP:20260424T162255
CREATED:20240301T031638Z
LAST-MODIFIED:20240919T215651Z
UID:10007684-1734260400-1734264000@murdockbaptistchurch.org
SUMMARY:Overcomers Life Group (NEW)
DESCRIPTION:You are invited to a newly organized class named Overcomers (formerly Good Grief). We will be looking at the Old Testament book of Proverbs for 7 weeks. The study is titled\, “Finding Old Answers to New Questions”. All are welcomed.
URL:https://murdockbaptistchurch.org/event/overcomers-life-group-new/2024-12-15/
LOCATION:Room 103\, 18375 Cochran Boulevard\, Port Charlotte\, Florida\, 33948\, United States
CATEGORIES:Good Grief,Life Groups,Special Events
END:VEVENT
BEGIN:VEVENT
DTSTART;TZID=America/New_York:20241215T110000
DTEND;TZID=America/New_York:20241215T120000
DTSTAMP:20260424T162255
CREATED:20240708T190011Z
LAST-MODIFIED:20240923T133143Z
UID:10008249-1734260400-1734264000@murdockbaptistchurch.org
SUMMARY:NextGen Life Group
DESCRIPTION:For students in 6th through 12th grade. Sign in and name tags are required.
URL:https://murdockbaptistchurch.org/event/nextgen-life-group/2024-12-15/
LOCATION:Student Building B\, 18375 Cochran Boulevard\, Port Charlotte\, Florida\, 33948\, United States
CATEGORIES:Life Groups,Ministries,Student Ministry
ATTACH;FMTTYPE=image/jpeg:https://murdockbaptistchurch.org/wp-content/uploads/2023/06/student-trip-slider4.jpg
END:VEVENT
BEGIN:VEVENT
DTSTART;TZID=America/New_York:20241215T150000
DTEND;TZID=America/New_York:20241215T163000
DTSTAMP:20260424T162255
CREATED:20241122T030808Z
LAST-MODIFIED:20241122T030827Z
UID:10008745-1734274800-1734280200@murdockbaptistchurch.org
SUMMARY:THE CAROLS OF CHRISTMAS: a time of singing and storytelling
DESCRIPTION:Everyone likes Christmas music! You are invited to celebrate the season with us at Murdock Baptist Church. Join us as our space is transformed into a giant living room where you are a guest for a memorable Christmas carol sing-a-long. Come for a wonderful trip down memory lane as we celebrate Christmas together. \n\n\n\nIf you can’t make it in person\, watch the live stream video. \n\n\n\nFree and open to the public!
URL:https://murdockbaptistchurch.org/event/the-carols-of-christmas-a-time-of-singing-and-storytelling-3/
LOCATION:Main Stage\, Worship Center\, 18375 Cochran Boulevard\, Port Charlote\, Florida\, 33948
CATEGORIES:Holiday Celebrations,Special Events
ATTACH;FMTTYPE=image/jpeg:https://murdockbaptistchurch.org/wp-content/uploads/2023/11/xmas-900x600-2.jpg
END:VEVENT
END:VCALENDAR