BEGIN:VCALENDAR
VERSION:2.0
PRODID:-//Murdock Baptist Church - ECPv6.15.20//NONSGML v1.0//EN
CALSCALE:GREGORIAN
METHOD:PUBLISH
X-WR-CALNAME:Murdock Baptist Church
X-ORIGINAL-URL:https://murdockbaptistchurch.org
X-WR-CALDESC:Events for Murdock Baptist Church
REFRESH-INTERVAL;VALUE=DURATION:PT1H
X-Robots-Tag:noindex
X-PUBLISHED-TTL:PT1H
BEGIN:VTIMEZONE
TZID:America/New_York
BEGIN:DAYLIGHT
TZOFFSETFROM:-0500
TZOFFSETTO:-0400
TZNAME:EDT
DTSTART:20240310T070000
END:DAYLIGHT
BEGIN:STANDARD
TZOFFSETFROM:-0400
TZOFFSETTO:-0500
TZNAME:EST
DTSTART:20241103T060000
END:STANDARD
BEGIN:DAYLIGHT
TZOFFSETFROM:-0500
TZOFFSETTO:-0400
TZNAME:EDT
DTSTART:20250309T070000
END:DAYLIGHT
BEGIN:STANDARD
TZOFFSETFROM:-0400
TZOFFSETTO:-0500
TZNAME:EST
DTSTART:20251102T060000
END:STANDARD
BEGIN:DAYLIGHT
TZOFFSETFROM:-0500
TZOFFSETTO:-0400
TZNAME:EDT
DTSTART:20260308T070000
END:DAYLIGHT
BEGIN:STANDARD
TZOFFSETFROM:-0400
TZOFFSETTO:-0500
TZNAME:EST
DTSTART:20261101T060000
END:STANDARD
END:VTIMEZONE
BEGIN:VEVENT
DTSTART;TZID=America/New_York:20250202T170000
DTEND;TZID=America/New_York:20250202T193000
DTSTAMP:20260425T085706
CREATED:20250205T022517Z
LAST-MODIFIED:20250205T024239Z
UID:10008750-1738515600-1738524600@murdockbaptistchurch.org
SUMMARY:NextGen Sunday Night Worship
DESCRIPTION:Held on the first Sunday of every month from 5:00 PM to 7:30 PM\, this exciting event brings together middle schoolers\, high schoolers\, and college students for a powerful evening of Bible study\, musical worship\, food\, and fellowship. Whether you’re new to the faith or have been walking with Jesus for years\, there’s a place for you here. \n\n\n\nLearn More\n\n\n\nHow to Get Involved\n\n\n\nGot questions or want to learn more? Reach out to Bryan Skupin\, our dedicated leader\, for more information and how you can get plugged in. He’d love to help you take the next step in your faith journey. \n\n\n\nContact Bryan at bryan@murdockbaptistchurch.com. \n\n\n\nCome join us on the first Sunday of the month for an evening of worship\, learning\, and fellowship. We can’t wait to see you there!
URL:https://murdockbaptistchurch.org/event/nextgen-sunday-night-worship-2/2025-02-02/
LOCATION:Student Building B\, 18375 Cochran Boulevard\, Port Charlotte\, Florida\, 33948\, United States
CATEGORIES:Special Events,Student Ministry
ATTACH;FMTTYPE=image/webp:https://murdockbaptistchurch.org/wp-content/uploads/2025/02/NextGen1.webp
END:VEVENT
BEGIN:VEVENT
DTSTART;TZID=America/New_York:20250203T124500
DTEND;TZID=America/New_York:20250203T141500
DTSTAMP:20260425T085706
CREATED:20240603T180348Z
LAST-MODIFIED:20240603T180401Z
UID:10008068-1738586700-1738592100@murdockbaptistchurch.org
SUMMARY:Prayer Shawl Ministry
DESCRIPTION:Do you like to knit\, crochet and fellowship? Join us on the 1st & 3rd Monday of each month.Our shawls are made and given to comfort those who are going through a tough time. Whether it bepersonal or family illness\, loss of loved one\, or a multitude of reasons\, to let them know God loves them and that we are praying for them.
URL:https://murdockbaptistchurch.org/event/prayer-shawl-ministry-2/2025-02-03/
END:VEVENT
BEGIN:VEVENT
DTSTART;TZID=America/New_York:20250211T140000
DTEND;TZID=America/New_York:20250211T153000
DTSTAMP:20260425T085706
CREATED:20240603T181850Z
LAST-MODIFIED:20240603T182159Z
UID:10008128-1739282400-1739287800@murdockbaptistchurch.org
SUMMARY:Neuro-Challenge (Parkinson's Support Group)
DESCRIPTION:Student Building
URL:https://murdockbaptistchurch.org/event/neuro-challenge-parkinsons-support-group/2025-02-11/
END:VEVENT
BEGIN:VEVENT
DTSTART;TZID=America/New_York:20250303T124500
DTEND;TZID=America/New_York:20250303T141500
DTSTAMP:20260425T085706
CREATED:20240603T180348Z
LAST-MODIFIED:20240603T180401Z
UID:10008069-1741005900-1741011300@murdockbaptistchurch.org
SUMMARY:Prayer Shawl Ministry
DESCRIPTION:Do you like to knit\, crochet and fellowship? Join us on the 1st & 3rd Monday of each month.Our shawls are made and given to comfort those who are going through a tough time. Whether it bepersonal or family illness\, loss of loved one\, or a multitude of reasons\, to let them know God loves them and that we are praying for them.
URL:https://murdockbaptistchurch.org/event/prayer-shawl-ministry-2/2025-03-03/
END:VEVENT
BEGIN:VEVENT
DTSTART;TZID=America/New_York:20250311T140000
DTEND;TZID=America/New_York:20250311T153000
DTSTAMP:20260425T085706
CREATED:20240603T181850Z
LAST-MODIFIED:20240603T182159Z
UID:10008129-1741701600-1741707000@murdockbaptistchurch.org
SUMMARY:Neuro-Challenge (Parkinson's Support Group)
DESCRIPTION:Student Building
URL:https://murdockbaptistchurch.org/event/neuro-challenge-parkinsons-support-group/2025-03-11/
END:VEVENT
BEGIN:VEVENT
DTSTART;TZID=America/New_York:20250322T090000
DTEND;TZID=America/New_York:20250322T150000
DTSTAMP:20260425T085706
CREATED:20250203T140823Z
LAST-MODIFIED:20250312T172352Z
UID:10008748-1742634000-1742655600@murdockbaptistchurch.org
SUMMARY:One-Day Seminary for Everyday Believers
DESCRIPTION:How Does It All Fit Together?\n\n\n\n\n\n\n\n\n\nMost Christians don’t have an opportunity to go to seminary …UNTIL NOW! Biblical beliefs are not simply a bunch of independent doctrines; they form an entire worldview system. If you understand the system\, our faith forms a unified whole. And that is the value of seminary training – you learn the unified whole. You can’t learn all the details in a single day\, but you can learn the system. With that\, you have a foundation for learning everything else. Register by scanning the QR code or sign-up in the Fellowship Hall or click the button below. \n\n\n\nRegister Now
URL:https://murdockbaptistchurch.org/event/one-day-seminar-for-everyday-believers/
LOCATION:Main Building A\, Fellowship Hall\, 18375 Cochran Boulevard\, Port Charlotte\, Florida\, 33948\, United States
CATEGORIES:Special Events
ATTACH;FMTTYPE=image/webp:https://murdockbaptistchurch.org/wp-content/uploads/2025/02/482995360_120218615903960502_138154561712819730_n.webp
END:VEVENT
BEGIN:VEVENT
DTSTART;TZID=America/New_York:20250403T180000
DTEND;TZID=America/New_York:20250403T200000
DTSTAMP:20260425T085706
CREATED:20250328T160042Z
LAST-MODIFIED:20250328T160921Z
UID:10008756-1743703200-1743710400@murdockbaptistchurch.org
SUMMARY:Women's Ministry Special Event: "Feast"
DESCRIPTION:Join us for “Feast” a virtual event with Kristi McClelland. Kristi invites us to “feast” with her on God’s Word\, specifically from Luke\, chapter 15. \n\n\n\nHer teaching on this familiar passage is eye opening\, as she unpacks the three parables Jesus told about what Westerners call the lost sheep\, the lost coin and the prodigal son. We will hear a new perspective from the Middle Eastern way of thinking\, and we think it will astound and inspire you. \n\n\n\nTickets are $5 and will be sold after service in the Fellowship Hall. \n\n\n\nCome take your seat at the table and bring a friend!
URL:https://murdockbaptistchurch.org/event/womens-ministry-special-event-feast/
LOCATION:Student Building B\, 18375 Cochran Boulevard\, Port Charlotte\, Florida\, 33948\, United States
CATEGORIES:God's Garden,Ladies Bible Study,Special Events,Women's Ministry
ATTACH;FMTTYPE=image/jpeg:https://murdockbaptistchurch.org/wp-content/uploads/2023/11/kristi-mclelland.jpg
END:VEVENT
BEGIN:VEVENT
DTSTART;TZID=America/New_York:20250407T124500
DTEND;TZID=America/New_York:20250407T141500
DTSTAMP:20260425T085706
CREATED:20240603T180348Z
LAST-MODIFIED:20240603T180401Z
UID:10008070-1744029900-1744035300@murdockbaptistchurch.org
SUMMARY:Prayer Shawl Ministry
DESCRIPTION:Do you like to knit\, crochet and fellowship? Join us on the 1st & 3rd Monday of each month.Our shawls are made and given to comfort those who are going through a tough time. Whether it bepersonal or family illness\, loss of loved one\, or a multitude of reasons\, to let them know God loves them and that we are praying for them.
URL:https://murdockbaptistchurch.org/event/prayer-shawl-ministry-2/2025-04-07/
END:VEVENT
BEGIN:VEVENT
DTSTART;TZID=America/New_York:20250408T140000
DTEND;TZID=America/New_York:20250408T153000
DTSTAMP:20260425T085706
CREATED:20240603T181850Z
LAST-MODIFIED:20240603T182159Z
UID:10008130-1744120800-1744126200@murdockbaptistchurch.org
SUMMARY:Neuro-Challenge (Parkinson's Support Group)
DESCRIPTION:Student Building
URL:https://murdockbaptistchurch.org/event/neuro-challenge-parkinsons-support-group/2025-04-08/
END:VEVENT
BEGIN:VEVENT
DTSTART;TZID=America/New_York:20250412T080000
DTEND;TZID=America/New_York:20250412T170000
DTSTAMP:20260425T085706
CREATED:20250328T180138Z
LAST-MODIFIED:20250328T180153Z
UID:10008758-1744444800-1744477200@murdockbaptistchurch.org
SUMMARY:Disaster Relief
DESCRIPTION:Disaster Relief is an exceptional and much needed crisis ministry available in times of need on the local\, state and national level. Florida Baptist Disaster Relief offers training for every region\, every year. This year’s training for our region 6 will be held on Saturday\, April 12th at First Baptist Church\, Naples\, Fl. \n\n\n\nFor more information about registering go to https://flbaptist.org/dr-volunteer/.  Click on becoming a credentialed DR volunteer or renewing credentials. \n\n\n\nCar pooling sign-up sheet is available in the Fellowship Hall.
URL:https://murdockbaptistchurch.org/event/disaster-relief/
CATEGORIES:Barnabas Men’s Group,Ministries,Outside Events,Special Events,Women's Ministry
ATTACH;FMTTYPE=image/jpeg:https://murdockbaptistchurch.org/wp-content/uploads/2024/02/FBDR.jpg
END:VEVENT
BEGIN:VEVENT
DTSTART;TZID=America/New_York:20250415T003000
DTEND;TZID=America/New_York:20250415T010000
DTSTAMP:20260425T085706
CREATED:20250407T124123Z
LAST-MODIFIED:20250407T124141Z
UID:10008759-1744677000-1744678800@murdockbaptistchurch.org
SUMMARY:Connection Luncheon
DESCRIPTION:The Connection is a MBC Ministry to ALL widows\, and single or divorced ladies over the age of 60 years young. To rserve your seat\, please call the church office at 1-941-627-6352.
URL:https://murdockbaptistchurch.org/event/connection-luncheon-3/
LOCATION:Main Building A\, Fellowship Hall\, 18375 Cochran Boulevard\, Port Charlotte\, Florida\, 33948\, United States
CATEGORIES:God's Garden,Life Groups,Ministries,Special Events,Women's Ministry
ATTACH;FMTTYPE=image/jpeg:https://murdockbaptistchurch.org/wp-content/uploads/2023/11/christmas-luncheon.jpg
END:VEVENT
BEGIN:VEVENT
DTSTART;TZID=America/New_York:20250418T180000
DTEND;TZID=America/New_York:20250418T190000
DTSTAMP:20260425T085706
CREATED:20250407T125046Z
LAST-MODIFIED:20250407T133909Z
UID:10008760-1744999200-1745002800@murdockbaptistchurch.org
SUMMARY:Good Friday Service
DESCRIPTION:Good Friday is called “good” because\, for Christians\, it marks the day Jesus Christ was crucified\, an event that is seen as a pivotal moment of sacrifice and love that leads to salvation and is the foundation for the celebration of Easter Sunday. \n\n\n\nWon’t you join us?
URL:https://murdockbaptistchurch.org/event/good-friday-service-2/
LOCATION:Main Stage\, Worship Center\, 18375 Cochran Boulevard\, Port Charlote\, Florida\, 33948
CATEGORIES:Special Events
ATTACH;FMTTYPE=image/webp:https://murdockbaptistchurch.org/wp-content/uploads/2025/04/jesus-christ-photo-pixabay-com-1180245.webp
END:VEVENT
BEGIN:VEVENT
DTSTART;TZID=America/New_York:20250420T070000
DTEND;TZID=America/New_York:20250420T080000
DTSTAMP:20260425T085706
CREATED:20250407T130049Z
LAST-MODIFIED:20250407T132954Z
UID:10008762-1745132400-1745136000@murdockbaptistchurch.org
SUMMARY:Celebrate Our Risen Savior
DESCRIPTION:Start your Easter Sunday Celebration at our Sunrise Service at 7:00 a.m. at Ollie’s Pond on Bly Avenue off of Collingswood Boulevard. Bring a lawn chair for this 45 minute gathering. Our regular Easter service time on campus will be at 9:30. Plan now to join us to celebrate\, and don’t forget to bring a friend or family member.
URL:https://murdockbaptistchurch.org/event/celebrate-our-risen-savior-2/2025-04-20/1/
LOCATION:Ollie’s Pond\, Bly Avenue\, Port Charlotte\, Florida\, 33948\, United States
CATEGORIES:Holiday Celebrations,Special Events
ATTACH;FMTTYPE=image/webp:https://murdockbaptistchurch.org/wp-content/uploads/2025/04/open-tomb-easter.webp
END:VEVENT
BEGIN:VEVENT
DTSTART;TZID=America/New_York:20250427T163000
DTEND;TZID=America/New_York:20250427T183000
DTSTAMP:20260425T085706
CREATED:20250414T184934Z
LAST-MODIFIED:20250414T184953Z
UID:10008764-1745771400-1745778600@murdockbaptistchurch.org
SUMMARY:Spring Family Fellowship for Parents & Kids
DESCRIPTION:Join us for a Potluck supper in the fellowship Hall\, Sunday\, April 27th from 4:30 – 6:30 p.m.  \n\n\n\nSign-ups are available in the lobby of Buildings B & C
URL:https://murdockbaptistchurch.org/event/spring-family-fellowship-for-parents-kids/
LOCATION:Student Buildings B & C
CATEGORIES:Ministries,Preschool Ministry,Special Events,Student Ministry
ATTACH;FMTTYPE=image/webp:https://murdockbaptistchurch.org/wp-content/uploads/2025/02/NextGen5-copy.webp
END:VEVENT
BEGIN:VEVENT
DTSTART;TZID=America/New_York:20250501T183000
DTEND;TZID=America/New_York:20250501T193000
DTSTAMP:20260425T085706
CREATED:20250428T142242Z
LAST-MODIFIED:20250428T142255Z
UID:10008766-1746124200-1746127800@murdockbaptistchurch.org
SUMMARY:National Day of Prayer
DESCRIPTION:Join in the National Day of Prayer Gathering at Family Church in Port Charlotte\, May 1st at 6:30 p.m.
URL:https://murdockbaptistchurch.org/event/national-day-of-prayer/
LOCATION:Family Church\, 20035 Quesada Avenue\, Port Charlotte\, FL\, 33952
CATEGORIES:Special Events
ATTACH;FMTTYPE=image/webp:https://murdockbaptistchurch.org/wp-content/uploads/2025/04/national-day-of-prayer.webp
END:VEVENT
BEGIN:VEVENT
DTSTART;TZID=America/New_York:20250505T124500
DTEND;TZID=America/New_York:20250505T141500
DTSTAMP:20260425T085706
CREATED:20240603T180348Z
LAST-MODIFIED:20240603T180401Z
UID:10008071-1746449100-1746454500@murdockbaptistchurch.org
SUMMARY:Prayer Shawl Ministry
DESCRIPTION:Do you like to knit\, crochet and fellowship? Join us on the 1st & 3rd Monday of each month.Our shawls are made and given to comfort those who are going through a tough time. Whether it bepersonal or family illness\, loss of loved one\, or a multitude of reasons\, to let them know God loves them and that we are praying for them.
URL:https://murdockbaptistchurch.org/event/prayer-shawl-ministry-2/2025-05-05/
END:VEVENT
BEGIN:VEVENT
DTSTART;TZID=America/New_York:20250506T183000
DTEND;TZID=America/New_York:20250506T203000
DTSTAMP:20260425T085706
CREATED:20250428T140358Z
LAST-MODIFIED:20250428T212836Z
UID:10008765-1746556200-1746563400@murdockbaptistchurch.org
SUMMARY:Imagine School Spring Concert - Hosted by MBC
DESCRIPTION:Imagine School will be performing a Spring Concert here at Murdock Baptist Church. Join us as we partner with our local school. Here is a great opportunity to minister to the students and their families.
URL:https://murdockbaptistchurch.org/event/upcoming-spring-concert-hosted-by-mbc/
LOCATION:Main Stage\, Worship Center\, 18375 Cochran Boulevard\, Port Charlote\, Florida\, 33948
CATEGORIES:Special Events
ATTACH;FMTTYPE=image/jpeg:https://murdockbaptistchurch.org/wp-content/uploads/2024/04/pchs-spring-concert.jpg
END:VEVENT
BEGIN:VEVENT
DTSTART;TZID=America/New_York:20250513T140000
DTEND;TZID=America/New_York:20250513T153000
DTSTAMP:20260425T085706
CREATED:20240603T181850Z
LAST-MODIFIED:20240603T182159Z
UID:10008131-1747144800-1747150200@murdockbaptistchurch.org
SUMMARY:Neuro-Challenge (Parkinson's Support Group)
DESCRIPTION:Student Building
URL:https://murdockbaptistchurch.org/event/neuro-challenge-parkinsons-support-group/2025-05-13/
END:VEVENT
BEGIN:VEVENT
DTSTART;TZID=America/New_York:20250514T170000
DTEND;TZID=America/New_York:20250514T183000
DTSTAMP:20260425T085706
CREATED:20250507T184704Z
LAST-MODIFIED:20250507T184719Z
UID:10008826-1747242000-1747247400@murdockbaptistchurch.org
SUMMARY:AWANA Awards Night
DESCRIPTION:Be part of the celebration! On Wednesday\, May 14th we will gather in the Fellowship Hall to celebrate what the children havce accomplished all year. Everyone is invited! Pizza dinner will be served at 5:15 with the Award Ceremeony to follow.
URL:https://murdockbaptistchurch.org/event/awana-awards-night-2/
LOCATION:Main Building A\, Fellowship Hall\, 18375 Cochran Boulevard\, Port Charlotte\, Florida\, 33948\, United States
CATEGORIES:Children's Ministry,Ministries,Preschool Ministry,Special Events,Student Ministry
ATTACH;FMTTYPE=image/jpeg:https://murdockbaptistchurch.org/wp-content/uploads/2023/05/awana-logo-cropped.jpg
END:VEVENT
BEGIN:VEVENT
DTSTART;TZID=America/New_York:20250524T080000
DTEND;TZID=America/New_York:20250524T100000
DTSTAMP:20260425T085706
CREATED:20250507T143219Z
LAST-MODIFIED:20250507T183406Z
UID:10008767-1748073600-1748080800@murdockbaptistchurch.org
SUMMARY:Men's Saturday Morning Prayer Gathering
DESCRIPTION:A time dedicated to prayer\, worship & fellowship!
URL:https://murdockbaptistchurch.org/event/saturday-morning-prayer-gathering/2025-05-24/
CATEGORIES:Barnabas Men’s Group,Men's Ministry,Ministries,Special Events
END:VEVENT
BEGIN:VEVENT
DTSTART;TZID=America/New_York:20250525T163000
DTEND;TZID=America/New_York:20250525T183000
DTSTAMP:20260425T085706
CREATED:20250512T184900Z
LAST-MODIFIED:20250512T184919Z
UID:10008827-1748190600-1748197800@murdockbaptistchurch.org
SUMMARY:Family Fellowship for Parents\, Kids & Young Adults
DESCRIPTION:Join us for a Potluck supper in the Fellowship Hall. Sign-ups are available in the lobby of Buildings B & C.
URL:https://murdockbaptistchurch.org/event/family-fellowship-for-parents-kids-young-adults/
LOCATION:Main Building A\, Fellowship Hall\, 18375 Cochran Boulevard\, Port Charlotte\, Florida\, 33948\, United States
CATEGORIES:Children's Ministry,Ministries,Preschool Ministry,Special Events,Student Ministry
ATTACH;FMTTYPE=image/webp:https://murdockbaptistchurch.org/wp-content/uploads/2025/02/NextGen5-copy.webp
END:VEVENT
BEGIN:VEVENT
DTSTART;TZID=America/New_York:20250528T180000
DTEND;TZID=America/New_York:20250528T190000
DTSTAMP:20260425T085706
CREATED:20250527T173617Z
LAST-MODIFIED:20250527T173633Z
UID:10008829-1748455200-1748458800@murdockbaptistchurch.org
SUMMARY:Wednesday Night Summer Schedule - Potluck
DESCRIPTION:Join us this Wednesday at 6 p.m. for a potluck fellowship followed by a time of sharing testimonies.  \n\n\n\nSign-up sheet located at the back counter.
URL:https://murdockbaptistchurch.org/event/wednesday-night-summer-schedule-potluck/
LOCATION:Main Building A\, Fellowship Hall\, 18375 Cochran Boulevard\, Port Charlotte\, Florida\, 33948\, United States
CATEGORIES:Special Events
ATTACH;FMTTYPE=image/jpeg:https://murdockbaptistchurch.org/wp-content/uploads/2023/05/potluck.jpg
END:VEVENT
BEGIN:VEVENT
DTSTART;TZID=America/New_York:20250602T124500
DTEND;TZID=America/New_York:20250602T141500
DTSTAMP:20260425T085706
CREATED:20240603T180348Z
LAST-MODIFIED:20240603T180401Z
UID:10008072-1748868300-1748873700@murdockbaptistchurch.org
SUMMARY:Prayer Shawl Ministry
DESCRIPTION:Do you like to knit\, crochet and fellowship? Join us on the 1st & 3rd Monday of each month.Our shawls are made and given to comfort those who are going through a tough time. Whether it bepersonal or family illness\, loss of loved one\, or a multitude of reasons\, to let them know God loves them and that we are praying for them.
URL:https://murdockbaptistchurch.org/event/prayer-shawl-ministry-2/2025-06-02/
END:VEVENT
BEGIN:VEVENT
DTSTART;TZID=America/New_York:20250610T140000
DTEND;TZID=America/New_York:20250610T153000
DTSTAMP:20260425T085706
CREATED:20240603T181850Z
LAST-MODIFIED:20240603T182159Z
UID:10008132-1749564000-1749569400@murdockbaptistchurch.org
SUMMARY:Neuro-Challenge (Parkinson's Support Group)
DESCRIPTION:Student Building
URL:https://murdockbaptistchurch.org/event/neuro-challenge-parkinsons-support-group/2025-06-10/
END:VEVENT
BEGIN:VEVENT
DTSTART;TZID=America/New_York:20250617T113000
DTEND;TZID=America/New_York:20250617T130000
DTSTAMP:20260425T085706
CREATED:20250603T230526Z
LAST-MODIFIED:20250603T230534Z
UID:10008830-1750159800-1750165200@murdockbaptistchurch.org
SUMMARY:Connection Luncheon
DESCRIPTION:The Connection is a MBC Ministry to ALL widows\, and singleor divorced ladies over the age of 60 years young. To reserve your seat\, please call the church office at (941) 627-3652.
URL:https://murdockbaptistchurch.org/event/connection-luncheon-4/
LOCATION:Main Building A\, Fellowship Hall\, 18375 Cochran Boulevard\, Port Charlotte\, Florida\, 33948\, United States
CATEGORIES:Ladies Bible Study,Special Events,Women's Ministry
ATTACH;FMTTYPE=image/jpeg:https://murdockbaptistchurch.org/wp-content/uploads/2023/05/ladies-luncheon.jpg
END:VEVENT
BEGIN:VEVENT
DTSTART;TZID=America/New_York:20250618T180000
DTEND;TZID=America/New_York:20250618T210000
DTSTAMP:20260425T085706
CREATED:20250515T210642Z
LAST-MODIFIED:20250516T041148Z
UID:10008828-1750269600-1750280400@murdockbaptistchurch.org
SUMMARY:Cross Bridge Youth Revival
DESCRIPTION:Five churches have come together to host this event called Cross Bridge Revival. Youth from all churches are invited to attend. Doors open at 5:30 pm food served at 6:00 pm followed by games\, musical worship (led by Faithlife Worship Band)\, teaching and prayer. Pick up at 8:30 pm.
URL:https://murdockbaptistchurch.org/event/cross-bridge-youth-revival/
LOCATION:Movement Church\, 20444 Midway Boulevard\, Port Charlotte\, Florida\, 33952
CATEGORIES:Ministries,Outside Events,Special Events,Student Ministry
END:VEVENT
BEGIN:VEVENT
DTSTART;TZID=America/New_York:20250628T180000
DTEND;TZID=America/New_York:20250628T200000
DTSTAMP:20260425T085706
CREATED:20250623T190537Z
LAST-MODIFIED:20250623T191103Z
UID:10008854-1751133600-1751140800@murdockbaptistchurch.org
SUMMARY:Wednesday Night Summer - MOVIE Night
DESCRIPTION:Join us for movie night this Wednesday at 6 p.m. The heavens are telling the glory of God\, and their expanse declares the work of His hands. \n\n\n\nIndescribable takes us on an image-rich journey through the cosmos\, allowing us to peer into God’s universe to discover the amazing magnitude of His greatness and grace.
URL:https://murdockbaptistchurch.org/event/wednesday-night-summer-movie-night/
LOCATION:Main Building A\, Fellowship Hall\, 18375 Cochran Boulevard\, Port Charlotte\, Florida\, 33948\, United States
CATEGORIES:Special Events
ATTACH;FMTTYPE=image/jpeg:https://murdockbaptistchurch.org/wp-content/uploads/2022/12/FAMILYMOVIENIGHTPROSPERUMC_5E816A00.jpg
END:VEVENT
BEGIN:VEVENT
DTSTART;TZID=America/New_York:20250629T163000
DTEND;TZID=America/New_York:20250629T183000
DTSTAMP:20260425T085706
CREATED:20250623T191720Z
LAST-MODIFIED:20250623T191733Z
UID:10008855-1751214600-1751221800@murdockbaptistchurch.org
SUMMARY:Family Fellowship for Parents\, Kids & Young Adults
DESCRIPTION:Join us for a Potluck supper in the Fellowship Hall\, Sunday\, June 29th from 4:30 – 6:30 p.m. \n\n\n\nSign-ups are available in the lobby of Buildings B & C.
URL:https://murdockbaptistchurch.org/event/family-fellowship-for-parents-kids-young-adults-2/
LOCATION:Main Building A\, Fellowship Hall\, 18375 Cochran Boulevard\, Port Charlotte\, Florida\, 33948\, United States
CATEGORIES:Special Events
ATTACH;FMTTYPE=image/jpeg:https://murdockbaptistchurch.org/wp-content/uploads/2023/05/potluck.jpg
END:VEVENT
BEGIN:VEVENT
DTSTART;TZID=America/New_York:20250630T081500
DTEND;TZID=America/New_York:20250704T170000
DTSTAMP:20260425T085706
CREATED:20250328T174349Z
LAST-MODIFIED:20260418T032127Z
UID:10008757-1751271300-1751648400@murdockbaptistchurch.org
SUMMARY:WinShape Camps: The Ultimate Day Camp for Kids
DESCRIPTION:WinShape Camps is returning to the campus of Family Christian Academy in Port Charlotte\, June 30th – July 4th\, 2025. $205 per child\, completed kindergarden – 5th grade.  \n\n\n\nFor more information scan the QR code or go to www.winshapeportcharlotte.com.
URL:https://murdockbaptistchurch.org/event/winshape-camps-the-ultimate-day-camp-for-kids/
LOCATION:Family Christian Academy\, 20035 Quesada Avenue\, Port Charlotte\, 33952\, United States
CATEGORIES:Children's Ministry,Ministries,Outside Events,Preschool Ministry,Special Events,Student Ministry,Winshape
ATTACH;FMTTYPE=image/webp:https://murdockbaptistchurch.org/wp-content/uploads/2024/03/winshape-camp12.webp
END:VEVENT
BEGIN:VEVENT
DTSTART;TZID=America/New_York:20250706T110000
DTEND;TZID=America/New_York:20250706T113000
DTSTAMP:20260425T085706
CREATED:20250623T192804Z
LAST-MODIFIED:20250623T192815Z
UID:10008856-1751799600-1751801400@murdockbaptistchurch.org
SUMMARY:Cuba Interest Meetings
DESCRIPTION:We are going back to Camajuani\, Cuba on November 15 through the 22nd. At this meeting\, we will discuss the trip details\, including children’s\, women’s\, and preaching ministries\, pre-arranged house visits\, food\, sleeping arrangements\, costs\, travel logistics\, and any other aspects of the trip you may have questions about. Attendance does not obligate you in any way – you are welcome to join us even if you’re simply curious about Cuba missions.  \n\n\n\nAt this meeting\, you may pick up an application which will be due on August 3\, 2025. Questions? Call or text Gordon Caldwell (941) 661-0446.
URL:https://murdockbaptistchurch.org/event/cuba-interest-meetings/2025-07-06/1/
LOCATION:Main Building A\, Fellowship Hall\, 18375 Cochran Boulevard\, Port Charlotte\, Florida\, 33948\, United States
CATEGORIES:Special Events
ATTACH;FMTTYPE=image/png:https://murdockbaptistchurch.org/wp-content/uploads/2024/06/cuba-report.png
END:VEVENT
END:VCALENDAR