BEGIN:VCALENDAR
VERSION:2.0
PRODID:-//Murdock Baptist Church - ECPv6.15.20//NONSGML v1.0//EN
CALSCALE:GREGORIAN
METHOD:PUBLISH
X-ORIGINAL-URL:https://murdockbaptistchurch.org
X-WR-CALDESC:Events for Murdock Baptist Church
REFRESH-INTERVAL;VALUE=DURATION:PT1H
X-Robots-Tag:noindex
X-PUBLISHED-TTL:PT1H
BEGIN:VTIMEZONE
TZID:America/New_York
BEGIN:DAYLIGHT
TZOFFSETFROM:-0500
TZOFFSETTO:-0400
TZNAME:EDT
DTSTART:20250309T070000
END:DAYLIGHT
BEGIN:STANDARD
TZOFFSETFROM:-0400
TZOFFSETTO:-0500
TZNAME:EST
DTSTART:20251102T060000
END:STANDARD
BEGIN:DAYLIGHT
TZOFFSETFROM:-0500
TZOFFSETTO:-0400
TZNAME:EDT
DTSTART:20260308T070000
END:DAYLIGHT
BEGIN:STANDARD
TZOFFSETFROM:-0400
TZOFFSETTO:-0500
TZNAME:EST
DTSTART:20261101T060000
END:STANDARD
BEGIN:DAYLIGHT
TZOFFSETFROM:-0500
TZOFFSETTO:-0400
TZNAME:EDT
DTSTART:20270314T070000
END:DAYLIGHT
BEGIN:STANDARD
TZOFFSETFROM:-0400
TZOFFSETTO:-0500
TZNAME:EST
DTSTART:20271107T060000
END:STANDARD
BEGIN:DAYLIGHT
TZOFFSETFROM:-0500
TZOFFSETTO:-0400
TZNAME:EDT
DTSTART:20280312T070000
END:DAYLIGHT
BEGIN:STANDARD
TZOFFSETFROM:-0400
TZOFFSETTO:-0500
TZNAME:EST
DTSTART:20281105T060000
END:STANDARD
BEGIN:DAYLIGHT
TZOFFSETFROM:-0500
TZOFFSETTO:-0400
TZNAME:EDT
DTSTART:20290311T070000
END:DAYLIGHT
BEGIN:STANDARD
TZOFFSETFROM:-0400
TZOFFSETTO:-0500
TZNAME:EST
DTSTART:20291104T060000
END:STANDARD
END:VTIMEZONE
BEGIN:VTIMEZONE
TZID:UTC
BEGIN:STANDARD
TZOFFSETFROM:+0000
TZOFFSETTO:+0000
TZNAME:UTC
DTSTART:20250101T000000
END:STANDARD
END:VTIMEZONE
BEGIN:VEVENT
DTSTART;TZID=America/New_York:20260519T113000
DTEND;TZID=America/New_York:20260519T130000
DTSTAMP:20260423T181028
CREATED:20260401T203513Z
LAST-MODIFIED:20260401T203516Z
UID:10009740-1779190200-1779195600@murdockbaptistchurch.org
SUMMARY:Women's Ministry / Connection Luncheon
DESCRIPTION:The Connection is a MBC Ministry to ALL widows\, and single or divorced ladies over the age of 60 years young. To reserve your seat please call the church office at 941-627-6352.
URL:https://murdockbaptistchurch.org/event/womens-ministry-connection-luncheon/2026-05-19/
END:VEVENT
BEGIN:VEVENT
DTSTART;TZID=America/New_York:20260519T180000
DTEND;TZID=America/New_York:20260519T190000
DTSTAMP:20260423T181028
CREATED:20250925T134401Z
LAST-MODIFIED:20251014T141510Z
UID:10009093-1779213600-1779217200@murdockbaptistchurch.org
SUMMARY:Men's Tuesday Bible Study
DESCRIPTION:
URL:https://murdockbaptistchurch.org/event/mens-tuesday-bible-study-2/2026-05-19/
LOCATION:Main Building A\, Fellowship Hall\, 18375 Cochran Boulevard\, Port Charlotte\, Florida\, 33948\, United States
CATEGORIES:Barnabas Men’s Group,Men’s Bible Study,Ministries,Special Events
ATTACH;FMTTYPE=image/jpeg:https://murdockbaptistchurch.org/wp-content/uploads/2023/01/mens-bible-study-murdock-baptist-church.jpg
END:VEVENT
BEGIN:VEVENT
DTSTART;TZID=America/New_York:20260523T080000
DTEND;TZID=America/New_York:20260523T100000
DTSTAMP:20260423T181028
CREATED:20260302T183453Z
LAST-MODIFIED:20260302T184524Z
UID:10009609-1779523200-1779530400@murdockbaptistchurch.org
SUMMARY:Men's Prayer & Praise
DESCRIPTION:A time dedicated to prayer\, worship & fellowship!
URL:https://murdockbaptistchurch.org/event/mens-prayer-praise-2/2026-05-23/
LOCATION:Main Building A\, Fellowship Hall\, 18375 Cochran Boulevard\, Port Charlotte\, Florida\, 33948\, United States
CATEGORIES:Barnabas Men’s Group,Men's Ministry,Ministries,Special Events
END:VEVENT
BEGIN:VEVENT
DTSTART;TZID=America/New_York:20260528T100000
DTEND;TZID=America/New_York:20260528T140000
DTSTAMP:20260423T181028
CREATED:20250915T160757Z
LAST-MODIFIED:20251223T214636Z
UID:10008987-1779962400-1779976800@murdockbaptistchurch.org
SUMMARY:Bobbin Along Quilters
DESCRIPTION:This groups meets on the 2nd and 4th Thursday of each month from 10-2 p.m. If you’ve always wanted to learn how to quilt or you have been quilting for years\, please join us! for more information\, contact Debbie Eritz at (234) 567-3686.
URL:https://murdockbaptistchurch.org/event/bobbin-along-quilters-2/2026-05-28/
LOCATION:Room 106\, 18375 Cochran Bloulevard\, Port Charlotte\, Florida\, 33948
CATEGORIES:God's Garden,Ministries,Quilters,Special Events,Women's Ministry
ATTACH;FMTTYPE=image/jpeg:https://murdockbaptistchurch.org/wp-content/uploads/2025/09/quilt.jpg
END:VEVENT
BEGIN:VEVENT
DTSTART;TZID=America/New_York:20260607T083000
DTEND;TZID=America/New_York:20260607T110000
DTSTAMP:20260423T181028
CREATED:20230912T141357Z
LAST-MODIFIED:20230912T141410Z
UID:10006026-1780821000-1780830000@murdockbaptistchurch.org
SUMMARY:Jesus Loves You Ministry Donation Trailer Here!
DESCRIPTION:JLY is a mobile outreach to the homeless.  Their donation trailer is on the church campus the 1st Sunday of the month before and after service.  They accept items of all kinds. (Clean clothing\, housewares\, gardening tools\, pictures\, linens\, small furniture\, etc.)
URL:https://murdockbaptistchurch.org/event/jesus-loves-you-ministry-donation-trailer-here-3/2026-06-07/
CATEGORIES:Jesus Loves You Ministry,Special Events
ATTACH;FMTTYPE=image/jpeg:https://murdockbaptistchurch.org/wp-content/uploads/2023/05/Jesus-loves-you-ministry-1.jpg
END:VEVENT
BEGIN:VEVENT
DTSTART;TZID=UTC:20260607T110000
DTEND;TZID=UTC:20260607T120000
DTSTAMP:20260423T181028
CREATED:20221213T234818Z
LAST-MODIFIED:20250728T195225Z
UID:10001104-1780830000-1780833600@murdockbaptistchurch.org
SUMMARY:New Members Class
DESCRIPTION:Are you interested in becoming a member? Or perhaps you have questions? Join us today after service in the Sanctuary for this informative class.
URL:https://murdockbaptistchurch.org/event/new-members-class/2026-06-07/
CATEGORIES:New Members,Special Events
ATTACH;FMTTYPE=image/jpeg:https://murdockbaptistchurch.org/wp-content/uploads/2023/05/church-members.jpg
END:VEVENT
BEGIN:VEVENT
DTSTART;TZID=America/New_York:20260609T140000
DTEND;TZID=America/New_York:20260609T153000
DTSTAMP:20260423T181028
CREATED:20240603T181850Z
LAST-MODIFIED:20240603T182159Z
UID:10008144-1781013600-1781019000@murdockbaptistchurch.org
SUMMARY:Neuro-Challenge (Parkinson's Support Group)
DESCRIPTION:Student Building
URL:https://murdockbaptistchurch.org/event/neuro-challenge-parkinsons-support-group/2026-06-09/
END:VEVENT
BEGIN:VEVENT
DTSTART;TZID=America/New_York:20260611T100000
DTEND;TZID=America/New_York:20260611T140000
DTSTAMP:20260423T181028
CREATED:20250915T160511Z
LAST-MODIFIED:20250915T161037Z
UID:10008998-1781172000-1781186400@murdockbaptistchurch.org
SUMMARY:Bobbin Along Quilters
DESCRIPTION:This groups meets on the 2nd and 4th Thursday of each month from 10-2 p.m. If you’ve always wanted to learn how to quilt or you have been quilting for years\, please join us! for more information\, contact Debbie Eritz at (234) 567-3686.
URL:https://murdockbaptistchurch.org/event/bobbin-along-quilters/2026-06-11/
CATEGORIES:God's Garden,Ministries,Quilters,Special Events,Women's Ministry
ATTACH;FMTTYPE=image/jpeg:https://murdockbaptistchurch.org/wp-content/uploads/2025/09/quilt.jpg
END:VEVENT
BEGIN:VEVENT
DTSTART;TZID=America/New_York:20260629T081500
DTEND;TZID=America/New_York:20260630T170000
DTSTAMP:20260423T181028
CREATED:20260310T143415Z
LAST-MODIFIED:20260418T032115Z
UID:10009670-1782720900-1782838800@murdockbaptistchurch.org
SUMMARY:WinShape Camps: The Ultimate Day Camp for Kids
DESCRIPTION:WinShape Camps is returning to the campus of Family Christian Academy in Port Charlotte\, June 29th – July 3rd\, 2026. $225 per child\, completed kindergarden – 5th grade. \n\n\n\nBe one of the first 185 campers to register to receive a $40 discount. \n\n\n\n\n\n\n\nFor more information scan the QR code or go to www.winshapeportcharlotte.com. \n\n\n\nLearn more about Winshape
URL:https://murdockbaptistchurch.org/event/winshape-camps-the-ultimate-day-camp-for-kids-2/2026-06-29/
LOCATION:Family Christian Academy\, 20035 Quesada Avenue\, Port Charlotte\, 33952\, United States
CATEGORIES:Children's Ministry,Ministries,Outside Events,Preschool Ministry,Special Events,Student Ministry,Winshape
ATTACH;FMTTYPE=image/webp:https://murdockbaptistchurch.org/wp-content/uploads/2024/03/winshape-camp12.webp
END:VEVENT
BEGIN:VEVENT
DTSTART;TZID=America/New_York:20260714T140000
DTEND;TZID=America/New_York:20260714T153000
DTSTAMP:20260423T181028
CREATED:20240603T181850Z
LAST-MODIFIED:20240603T182159Z
UID:10008145-1784037600-1784043000@murdockbaptistchurch.org
SUMMARY:Neuro-Challenge (Parkinson's Support Group)
DESCRIPTION:Student Building
URL:https://murdockbaptistchurch.org/event/neuro-challenge-parkinsons-support-group/2026-07-14/
END:VEVENT
BEGIN:VEVENT
DTSTART;TZID=America/New_York:20260811T140000
DTEND;TZID=America/New_York:20260811T153000
DTSTAMP:20260423T181028
CREATED:20240603T181850Z
LAST-MODIFIED:20240603T182159Z
UID:10008146-1786456800-1786462200@murdockbaptistchurch.org
SUMMARY:Neuro-Challenge (Parkinson's Support Group)
DESCRIPTION:Student Building
URL:https://murdockbaptistchurch.org/event/neuro-challenge-parkinsons-support-group/2026-08-11/
END:VEVENT
BEGIN:VEVENT
DTSTART;TZID=America/New_York:20260908T140000
DTEND;TZID=America/New_York:20260908T153000
DTSTAMP:20260423T181028
CREATED:20240603T181850Z
LAST-MODIFIED:20240603T182159Z
UID:10008147-1788876000-1788881400@murdockbaptistchurch.org
SUMMARY:Neuro-Challenge (Parkinson's Support Group)
DESCRIPTION:Student Building
URL:https://murdockbaptistchurch.org/event/neuro-challenge-parkinsons-support-group/2026-09-08/
END:VEVENT
BEGIN:VEVENT
DTSTART;TZID=America/New_York:20261013T140000
DTEND;TZID=America/New_York:20261013T153000
DTSTAMP:20260423T181028
CREATED:20240603T181850Z
LAST-MODIFIED:20240603T182159Z
UID:10008148-1791900000-1791905400@murdockbaptistchurch.org
SUMMARY:Neuro-Challenge (Parkinson's Support Group)
DESCRIPTION:Student Building
URL:https://murdockbaptistchurch.org/event/neuro-challenge-parkinsons-support-group/2026-10-13/
END:VEVENT
BEGIN:VEVENT
DTSTART;TZID=America/New_York:20261110T140000
DTEND;TZID=America/New_York:20261110T153000
DTSTAMP:20260423T181028
CREATED:20240603T181850Z
LAST-MODIFIED:20240603T182159Z
UID:10008149-1794319200-1794324600@murdockbaptistchurch.org
SUMMARY:Neuro-Challenge (Parkinson's Support Group)
DESCRIPTION:Student Building
URL:https://murdockbaptistchurch.org/event/neuro-challenge-parkinsons-support-group/2026-11-10/
END:VEVENT
BEGIN:VEVENT
DTSTART;TZID=America/New_York:20261208T140000
DTEND;TZID=America/New_York:20261208T153000
DTSTAMP:20260423T181028
CREATED:20240603T181850Z
LAST-MODIFIED:20240603T182159Z
UID:10008150-1796738400-1796743800@murdockbaptistchurch.org
SUMMARY:Neuro-Challenge (Parkinson's Support Group)
DESCRIPTION:Student Building
URL:https://murdockbaptistchurch.org/event/neuro-challenge-parkinsons-support-group/2026-12-08/
END:VEVENT
BEGIN:VEVENT
DTSTART;TZID=America/New_York:20270112T140000
DTEND;TZID=America/New_York:20270112T153000
DTSTAMP:20260423T181028
CREATED:20240603T181850Z
LAST-MODIFIED:20240603T182159Z
UID:10008151-1799762400-1799767800@murdockbaptistchurch.org
SUMMARY:Neuro-Challenge (Parkinson's Support Group)
DESCRIPTION:Student Building
URL:https://murdockbaptistchurch.org/event/neuro-challenge-parkinsons-support-group/2027-01-12/
END:VEVENT
BEGIN:VEVENT
DTSTART;TZID=America/New_York:20270209T140000
DTEND;TZID=America/New_York:20270209T153000
DTSTAMP:20260423T181028
CREATED:20240603T181850Z
LAST-MODIFIED:20240603T182159Z
UID:10008152-1802181600-1802187000@murdockbaptistchurch.org
SUMMARY:Neuro-Challenge (Parkinson's Support Group)
DESCRIPTION:Student Building
URL:https://murdockbaptistchurch.org/event/neuro-challenge-parkinsons-support-group/2027-02-09/
END:VEVENT
BEGIN:VEVENT
DTSTART;TZID=America/New_York:20270309T140000
DTEND;TZID=America/New_York:20270309T153000
DTSTAMP:20260423T181028
CREATED:20240603T181850Z
LAST-MODIFIED:20240603T182159Z
UID:10008153-1804600800-1804606200@murdockbaptistchurch.org
SUMMARY:Neuro-Challenge (Parkinson's Support Group)
DESCRIPTION:Student Building
URL:https://murdockbaptistchurch.org/event/neuro-challenge-parkinsons-support-group/2027-03-09/
END:VEVENT
BEGIN:VEVENT
DTSTART;TZID=America/New_York:20270413T140000
DTEND;TZID=America/New_York:20270413T153000
DTSTAMP:20260423T181028
CREATED:20240603T181850Z
LAST-MODIFIED:20240603T182159Z
UID:10008154-1807624800-1807630200@murdockbaptistchurch.org
SUMMARY:Neuro-Challenge (Parkinson's Support Group)
DESCRIPTION:Student Building
URL:https://murdockbaptistchurch.org/event/neuro-challenge-parkinsons-support-group/2027-04-13/
END:VEVENT
BEGIN:VEVENT
DTSTART;TZID=America/New_York:20270511T140000
DTEND;TZID=America/New_York:20270511T153000
DTSTAMP:20260423T181028
CREATED:20240603T181850Z
LAST-MODIFIED:20240603T182159Z
UID:10008155-1810044000-1810049400@murdockbaptistchurch.org
SUMMARY:Neuro-Challenge (Parkinson's Support Group)
DESCRIPTION:Student Building
URL:https://murdockbaptistchurch.org/event/neuro-challenge-parkinsons-support-group/2027-05-11/
END:VEVENT
BEGIN:VEVENT
DTSTART;TZID=America/New_York:20270608T140000
DTEND;TZID=America/New_York:20270608T153000
DTSTAMP:20260423T181028
CREATED:20240603T181850Z
LAST-MODIFIED:20240603T182159Z
UID:10008156-1812463200-1812468600@murdockbaptistchurch.org
SUMMARY:Neuro-Challenge (Parkinson's Support Group)
DESCRIPTION:Student Building
URL:https://murdockbaptistchurch.org/event/neuro-challenge-parkinsons-support-group/2027-06-08/
END:VEVENT
BEGIN:VEVENT
DTSTART;TZID=America/New_York:20270713T140000
DTEND;TZID=America/New_York:20270713T153000
DTSTAMP:20260423T181028
CREATED:20240603T181850Z
LAST-MODIFIED:20240603T182159Z
UID:10008157-1815487200-1815492600@murdockbaptistchurch.org
SUMMARY:Neuro-Challenge (Parkinson's Support Group)
DESCRIPTION:Student Building
URL:https://murdockbaptistchurch.org/event/neuro-challenge-parkinsons-support-group/2027-07-13/
END:VEVENT
BEGIN:VEVENT
DTSTART;TZID=America/New_York:20270810T140000
DTEND;TZID=America/New_York:20270810T153000
DTSTAMP:20260423T181028
CREATED:20240603T181850Z
LAST-MODIFIED:20240603T182159Z
UID:10008158-1817906400-1817911800@murdockbaptistchurch.org
SUMMARY:Neuro-Challenge (Parkinson's Support Group)
DESCRIPTION:Student Building
URL:https://murdockbaptistchurch.org/event/neuro-challenge-parkinsons-support-group/2027-08-10/
END:VEVENT
BEGIN:VEVENT
DTSTART;TZID=America/New_York:20270914T140000
DTEND;TZID=America/New_York:20270914T153000
DTSTAMP:20260423T181028
CREATED:20240603T181850Z
LAST-MODIFIED:20240603T182159Z
UID:10008159-1820930400-1820935800@murdockbaptistchurch.org
SUMMARY:Neuro-Challenge (Parkinson's Support Group)
DESCRIPTION:Student Building
URL:https://murdockbaptistchurch.org/event/neuro-challenge-parkinsons-support-group/2027-09-14/
END:VEVENT
BEGIN:VEVENT
DTSTART;TZID=America/New_York:20271012T140000
DTEND;TZID=America/New_York:20271012T153000
DTSTAMP:20260423T181028
CREATED:20240603T181850Z
LAST-MODIFIED:20240603T182159Z
UID:10008160-1823349600-1823355000@murdockbaptistchurch.org
SUMMARY:Neuro-Challenge (Parkinson's Support Group)
DESCRIPTION:Student Building
URL:https://murdockbaptistchurch.org/event/neuro-challenge-parkinsons-support-group/2027-10-12/
END:VEVENT
BEGIN:VEVENT
DTSTART;TZID=America/New_York:20271109T140000
DTEND;TZID=America/New_York:20271109T153000
DTSTAMP:20260423T181028
CREATED:20240603T181850Z
LAST-MODIFIED:20240603T182159Z
UID:10008161-1825768800-1825774200@murdockbaptistchurch.org
SUMMARY:Neuro-Challenge (Parkinson's Support Group)
DESCRIPTION:Student Building
URL:https://murdockbaptistchurch.org/event/neuro-challenge-parkinsons-support-group/2027-11-09/
END:VEVENT
BEGIN:VEVENT
DTSTART;TZID=America/New_York:20271214T140000
DTEND;TZID=America/New_York:20271214T153000
DTSTAMP:20260423T181028
CREATED:20240603T181850Z
LAST-MODIFIED:20240603T182159Z
UID:10008162-1828792800-1828798200@murdockbaptistchurch.org
SUMMARY:Neuro-Challenge (Parkinson's Support Group)
DESCRIPTION:Student Building
URL:https://murdockbaptistchurch.org/event/neuro-challenge-parkinsons-support-group/2027-12-14/
END:VEVENT
BEGIN:VEVENT
DTSTART;TZID=America/New_York:20280111T140000
DTEND;TZID=America/New_York:20280111T153000
DTSTAMP:20260423T181028
CREATED:20240603T181850Z
LAST-MODIFIED:20240603T182159Z
UID:10008163-1831212000-1831217400@murdockbaptistchurch.org
SUMMARY:Neuro-Challenge (Parkinson's Support Group)
DESCRIPTION:Student Building
URL:https://murdockbaptistchurch.org/event/neuro-challenge-parkinsons-support-group/2028-01-11/
END:VEVENT
BEGIN:VEVENT
DTSTART;TZID=America/New_York:20280208T140000
DTEND;TZID=America/New_York:20280208T153000
DTSTAMP:20260423T181028
CREATED:20240603T181850Z
LAST-MODIFIED:20240603T182159Z
UID:10008164-1833631200-1833636600@murdockbaptistchurch.org
SUMMARY:Neuro-Challenge (Parkinson's Support Group)
DESCRIPTION:Student Building
URL:https://murdockbaptistchurch.org/event/neuro-challenge-parkinsons-support-group/2028-02-08/
END:VEVENT
BEGIN:VEVENT
DTSTART;TZID=America/New_York:20280314T140000
DTEND;TZID=America/New_York:20280314T153000
DTSTAMP:20260423T181028
CREATED:20240603T181850Z
LAST-MODIFIED:20240603T182159Z
UID:10008165-1836655200-1836660600@murdockbaptistchurch.org
SUMMARY:Neuro-Challenge (Parkinson's Support Group)
DESCRIPTION:Student Building
URL:https://murdockbaptistchurch.org/event/neuro-challenge-parkinsons-support-group/2028-03-14/
END:VEVENT
END:VCALENDAR