BEGIN:VCALENDAR
VERSION:2.0
PRODID:-//Murdock Baptist Church - ECPv6.15.20//NONSGML v1.0//EN
CALSCALE:GREGORIAN
METHOD:PUBLISH
X-ORIGINAL-URL:https://murdockbaptistchurch.org
X-WR-CALDESC:Events for Murdock Baptist Church
REFRESH-INTERVAL;VALUE=DURATION:PT1H
X-Robots-Tag:noindex
X-PUBLISHED-TTL:PT1H
BEGIN:VTIMEZONE
TZID:America/New_York
BEGIN:DAYLIGHT
TZOFFSETFROM:-0500
TZOFFSETTO:-0400
TZNAME:EDT
DTSTART:20250309T070000
END:DAYLIGHT
BEGIN:STANDARD
TZOFFSETFROM:-0400
TZOFFSETTO:-0500
TZNAME:EST
DTSTART:20251102T060000
END:STANDARD
BEGIN:DAYLIGHT
TZOFFSETFROM:-0500
TZOFFSETTO:-0400
TZNAME:EDT
DTSTART:20260308T070000
END:DAYLIGHT
BEGIN:STANDARD
TZOFFSETFROM:-0400
TZOFFSETTO:-0500
TZNAME:EST
DTSTART:20261101T060000
END:STANDARD
BEGIN:DAYLIGHT
TZOFFSETFROM:-0500
TZOFFSETTO:-0400
TZNAME:EDT
DTSTART:20270314T070000
END:DAYLIGHT
BEGIN:STANDARD
TZOFFSETFROM:-0400
TZOFFSETTO:-0500
TZNAME:EST
DTSTART:20271107T060000
END:STANDARD
END:VTIMEZONE
BEGIN:VTIMEZONE
TZID:UTC
BEGIN:STANDARD
TZOFFSETFROM:+0000
TZOFFSETTO:+0000
TZNAME:UTC
DTSTART:20250101T000000
END:STANDARD
END:VTIMEZONE
BEGIN:VEVENT
DTSTART;TZID=America/New_York:20260215T110000
DTEND;TZID=America/New_York:20260215T120000
DTSTAMP:20260423T200030
CREATED:20251223T204116Z
LAST-MODIFIED:20251223T204623Z
UID:10009181-1771153200-1771156800@murdockbaptistchurch.org
SUMMARY:Ambassadors for Christ Life Group
DESCRIPTION:Led by John Mangione \n\n\n\n2 Corinthians 5:20 tells us that we are Ambassadors for Christ. \n\n\n\nGod can use you to make His appeal to your friends\, family to coworkers\, and neighbors. This class consists of couples and individuals who desire to go deeper in their personal journey. \n\n\n\nIf interested\, please feel free to contact John Mangione\, 941-330-7857 or at amangione46@gmail.com.
URL:https://murdockbaptistchurch.org/event/ambassadors-for-christ-life-group-copy/2026-02-15/
LOCATION:Rooms 104-105\, 18375 Cochran Boulevard\, Port Charlotte\, Florida\, 33948\, United States
CATEGORIES:Ambassadors for Christ,Life Groups
ATTACH;FMTTYPE=image/jpeg:https://murdockbaptistchurch.org/wp-content/uploads/2023/05/ambassadors-slider3.jpg
END:VEVENT
BEGIN:VEVENT
DTSTART;TZID=America/New_York:20260215T110000
DTEND;TZID=America/New_York:20260215T120000
DTSTAMP:20260423T200030
CREATED:20251223T204424Z
LAST-MODIFIED:20251223T204428Z
UID:10009232-1771153200-1771156800@murdockbaptistchurch.org
SUMMARY:Among Friends Life Group
DESCRIPTION:Led by Darryl Denson \n\n\n\nAn interactive Bible study for adults of all ages. There is only one book you can open and the author shows up.  We focus on topical discussion and Bible application. When you are Among Friends\, you’re invited to share and ask questions. \n\n\n\nIf interested in joining\, please feel free to contact Darryl Denson\, 1-941-769-9876 or at sundancebuild@comcast.net.
URL:https://murdockbaptistchurch.org/event/among-friends-life-group-2/2026-02-15/
LOCATION:Rooms 101-102\, 18375 Cochran Boulevard\, Port Charlotte\, Florida\, 33948\, United States
CATEGORIES:Among Friends,Life Groups
ATTACH;FMTTYPE=image/jpeg:https://murdockbaptistchurch.org/wp-content/uploads/2023/01/among-friends1.jpg
END:VEVENT
BEGIN:VEVENT
DTSTART;TZID=America/New_York:20260215T110000
DTEND;TZID=America/New_York:20260215T120000
DTSTAMP:20260423T200030
CREATED:20251223T205043Z
LAST-MODIFIED:20251223T205046Z
UID:10009283-1771153200-1771156800@murdockbaptistchurch.org
SUMMARY:Armored Disciples Life Group
DESCRIPTION:Led by Troy Dueboay \n\n\n\nFor younger couples and others wanting to grow in the grace and knowledge of our Lord and Savior.  \n\n\n\n2 Peter 3:18  \n\n\n\nIf interested please feel free to contact: Troy Dueboay\, 9441-661-1883 or at quietmanduke3@hotmail.com.
URL:https://murdockbaptistchurch.org/event/armored-disciples-life-group-2/2026-02-15/
LOCATION:Main Building\, Room #105
CATEGORIES:Armored Disciples,Life Groups
ATTACH;FMTTYPE=image/jpeg:https://murdockbaptistchurch.org/wp-content/uploads/2023/08/lifegroup-armored-discipleshero2.jpg
END:VEVENT
BEGIN:VEVENT
DTSTART;TZID=America/New_York:20260215T110000
DTEND;TZID=America/New_York:20260215T120000
DTSTAMP:20260423T200030
CREATED:20251223T211141Z
LAST-MODIFIED:20251223T211220Z
UID:10009488-1771153200-1771156800@murdockbaptistchurch.org
SUMMARY:Stepping Up Life Group
DESCRIPTION:Led by Jack Pipp \n\n\n\nYoung families stepping up! A discussion centered small group of married couples with preschool and school age children. \n\n\n\nIf interested\, please feel free to contact: Jack Pipp\, 941-204-8622 or at jack39pipp@gmail.com.
URL:https://murdockbaptistchurch.org/event/stepping-up-life-group-copy/2026-02-15/
LOCATION:Room 107\, 18375 Cochran Boulevard\, Port Charlotte\, Florida\, 33948\, United States
CATEGORIES:Life Groups,Stepping Up
ATTACH;FMTTYPE=image/jpeg:https://murdockbaptistchurch.org/wp-content/uploads/2023/01/steppping-up-event-calendar.jpg
END:VEVENT
BEGIN:VEVENT
DTSTART;TZID=America/New_York:20260215T133000
DTEND;TZID=America/New_York:20260215T143000
DTSTAMP:20260423T200030
CREATED:20260217T162902Z
LAST-MODIFIED:20260217T162907Z
UID:10009596-1771162200-1771165800@murdockbaptistchurch.org
SUMMARY:Sharing Your Testimony
DESCRIPTION:Learn how to share your testimony and give a gospel presentationl We will practice this key skill that will serve you and the Lord for the rest of your life.
URL:https://murdockbaptistchurch.org/event/sharing-your-testimony-2/2026-02-15/
CATEGORIES:Special Events
ATTACH;FMTTYPE=image/jpeg:https://murdockbaptistchurch.org/wp-content/uploads/2023/08/CUBA-Kathy2.jpg
END:VEVENT
BEGIN:VEVENT
DTSTART;TZID=America/New_York:20260216T124500
DTEND;TZID=America/New_York:20260216T141500
DTSTAMP:20260423T200030
CREATED:20250610T203606Z
LAST-MODIFIED:20250610T203648Z
UID:10008020-1771245900-1771251300@murdockbaptistchurch.org
SUMMARY:Prayer Shawl Ministry
DESCRIPTION:Do you like to knit\, crochet and fellowship? Join us on the 1st Monday of each month. \n\n\n\nOur shawls are made and given to comfort those who are going through a tough time. Whether it be personal or family illness\, loss of loved one\, or a multitude of reasons\, to let them know God loves them and that we are praying for them.
URL:https://murdockbaptistchurch.org/event/prayer-shawl-ministry-5/2026-02-16/
LOCATION:Student Building B\, 18375 Cochran Boulevard\, Port Charlotte\, Florida\, 33948\, United States
CATEGORIES:Special Events
ATTACH;FMTTYPE=image/jpeg:https://murdockbaptistchurch.org/wp-content/uploads/2022/11/prayer-shawl.jpg
END:VEVENT
BEGIN:VEVENT
DTSTART;TZID=America/New_York:20260217T180000
DTEND;TZID=America/New_York:20260217T190000
DTSTAMP:20260423T200030
CREATED:20251218T143349Z
LAST-MODIFIED:20251218T143524Z
UID:10009143-1771351200-1771354800@murdockbaptistchurch.org
SUMMARY:Women's Bible Study: Hebrews 1-4
DESCRIPTION:Learn about Jesus’ superiority to all in an exciting study of Hebrews 1-4 that enlightens and enlivens Old Testament law and prophecy. It is a 12 session. Precepts study led by Amy Tipton. \n\n\n\nSign up after service so we can order enough books!
URL:https://murdockbaptistchurch.org/event/womens-bible-study-hebrews-1-4/2026-02-17/
CATEGORIES:God's Garden,Ladies Bible Study,Special Events,Women's Ministry
END:VEVENT
BEGIN:VEVENT
DTSTART;TZID=America/New_York:20260218T180000
DTEND;TZID=America/New_York:20260218T183000
DTSTAMP:20260423T200030
CREATED:20260217T163155Z
LAST-MODIFIED:20260217T163158Z
UID:10009601-1771437600-1771439400@murdockbaptistchurch.org
SUMMARY:Quarterly Church Conference
DESCRIPTION:
URL:https://murdockbaptistchurch.org/event/quarterly-church-conference-6/
LOCATION:Main Building A\, Fellowship Hall\, 18375 Cochran Boulevard\, Port Charlotte\, Florida\, 33948\, United States
CATEGORIES:Quarterly Church Conference,Special Events
ATTACH;FMTTYPE=image/jpeg:https://murdockbaptistchurch.org/wp-content/uploads/2023/05/church-members-murdock-baptist-church.jpg
END:VEVENT
BEGIN:VEVENT
DTSTART;TZID=America/New_York:20260221T090000
DTEND;TZID=America/New_York:20260221T113000
DTSTAMP:20260423T200030
CREATED:20230818T024706Z
LAST-MODIFIED:20260111T232522Z
UID:10006162-1771664400-1771673400@murdockbaptistchurch.org
SUMMARY:SAVE THE DATE: 2026 Walk for THEM
DESCRIPTION:Join us for our 5th annual Walk for THEM fundraising event on Saturday\, February 21st at 9 a.m. at Rotonda Community Park. We are a Christ-Centered ministry serving the homeless of S.W. Florida.  \n\n\n\n\n\n\n\nRegistration is now open at jlywalkforthem.org or by scanning the QR code. \n\n\n\nShow your support by wearing past year’s t-shirts next Sunday! \n\n\n\nCome see us in the Fellowship Hall for more information.
URL:https://murdockbaptistchurch.org/event/save-the-date-2026-walk-for-them/
LOCATION:Rotonda Community Park and Preserve\, 100 Rotonda Boulevard East\, Rotonda West\, Florida\, 33947\, United States
CATEGORIES:Jesus Loves You Ministry,Special Events
ATTACH;FMTTYPE=image/jpeg:https://murdockbaptistchurch.org/wp-content/uploads/2024/05/Ashley-JLY.jpg
END:VEVENT
BEGIN:VEVENT
DTSTART;TZID=America/New_York:20260224T180000
DTEND;TZID=America/New_York:20260224T190000
DTSTAMP:20260423T200030
CREATED:20251218T143349Z
LAST-MODIFIED:20251218T143524Z
UID:10009144-1771956000-1771959600@murdockbaptistchurch.org
SUMMARY:Women's Bible Study: Hebrews 1-4
DESCRIPTION:Learn about Jesus’ superiority to all in an exciting study of Hebrews 1-4 that enlightens and enlivens Old Testament law and prophecy. It is a 12 session. Precepts study led by Amy Tipton. \n\n\n\nSign up after service so we can order enough books!
URL:https://murdockbaptistchurch.org/event/womens-bible-study-hebrews-1-4/2026-02-24/
CATEGORIES:God's Garden,Ladies Bible Study,Special Events,Women's Ministry
END:VEVENT
BEGIN:VEVENT
DTSTART;TZID=America/New_York:20260226T100000
DTEND;TZID=America/New_York:20260226T140000
DTSTAMP:20260423T200030
CREATED:20250915T160757Z
LAST-MODIFIED:20251223T214636Z
UID:10008984-1772100000-1772114400@murdockbaptistchurch.org
SUMMARY:Bobbin Along Quilters
DESCRIPTION:This groups meets on the 2nd and 4th Thursday of each month from 10-2 p.m. If you’ve always wanted to learn how to quilt or you have been quilting for years\, please join us! for more information\, contact Debbie Eritz at (234) 567-3686.
URL:https://murdockbaptistchurch.org/event/bobbin-along-quilters-2/2026-02-26/
LOCATION:Room 106\, 18375 Cochran Bloulevard\, Port Charlotte\, Florida\, 33948
CATEGORIES:God's Garden,Ministries,Quilters,Special Events,Women's Ministry
ATTACH;FMTTYPE=image/jpeg:https://murdockbaptistchurch.org/wp-content/uploads/2025/09/quilt.jpg
END:VEVENT
BEGIN:VEVENT
DTSTART;TZID=America/New_York:20260228T090000
DTEND;TZID=America/New_York:20260228T130000
DTSTAMP:20260423T200030
CREATED:20260108T210607Z
LAST-MODIFIED:20260108T210610Z
UID:10009560-1772269200-1772283600@murdockbaptistchurch.org
SUMMARY:OneBlood Drive
DESCRIPTION:To make an appointment\, please visit oneblood.org/donate-now and use sponsor code 58463.
URL:https://murdockbaptistchurch.org/event/oneblood-drive-7/
CATEGORIES:Special Events
ATTACH;FMTTYPE=image/jpeg:https://murdockbaptistchurch.org/wp-content/uploads/2023/01/bus-e1684521820899.jpg
END:VEVENT
BEGIN:VEVENT
DTSTART;TZID=America/New_York:20260301T083000
DTEND;TZID=America/New_York:20260301T110000
DTSTAMP:20260423T200030
CREATED:20230912T141357Z
LAST-MODIFIED:20230912T141410Z
UID:10006023-1772353800-1772362800@murdockbaptistchurch.org
SUMMARY:Jesus Loves You Ministry Donation Trailer Here!
DESCRIPTION:JLY is a mobile outreach to the homeless.  Their donation trailer is on the church campus the 1st Sunday of the month before and after service.  They accept items of all kinds. (Clean clothing\, housewares\, gardening tools\, pictures\, linens\, small furniture\, etc.)
URL:https://murdockbaptistchurch.org/event/jesus-loves-you-ministry-donation-trailer-here-3/2026-03-01/
CATEGORIES:Jesus Loves You Ministry,Special Events
ATTACH;FMTTYPE=image/jpeg:https://murdockbaptistchurch.org/wp-content/uploads/2023/05/Jesus-loves-you-ministry-1.jpg
END:VEVENT
BEGIN:VEVENT
DTSTART;TZID=UTC:20260301T110000
DTEND;TZID=UTC:20260301T120000
DTSTAMP:20260423T200030
CREATED:20221213T234818Z
LAST-MODIFIED:20250728T195225Z
UID:10001101-1772362800-1772366400@murdockbaptistchurch.org
SUMMARY:New Members Class
DESCRIPTION:Are you interested in becoming a member? Or perhaps you have questions? Join us today after service in the Sanctuary for this informative class.
URL:https://murdockbaptistchurch.org/event/new-members-class/2026-03-01/
CATEGORIES:New Members,Special Events
ATTACH;FMTTYPE=image/jpeg:https://murdockbaptistchurch.org/wp-content/uploads/2023/05/church-members.jpg
END:VEVENT
BEGIN:VEVENT
DTSTART;TZID=America/New_York:20260302T124500
DTEND;TZID=America/New_York:20260302T141500
DTSTAMP:20260423T200030
CREATED:20250610T202909Z
LAST-MODIFIED:20250610T202943Z
UID:10008081-1772455500-1772460900@murdockbaptistchurch.org
SUMMARY:Prayer Shawl Ministry
DESCRIPTION:Do you like to knit\, crochet and fellowship? Join us on the 1st & 3rd Monday of each month.Our shawls are made and given to comfort those who are going through a tough time. Whether it bepersonal or family illness\, loss of loved one\, or a multitude of reasons\, to let them know God loves them and that we are praying for them.
URL:https://murdockbaptistchurch.org/event/prayer-shawl-ministry-4/2026-03-02/
END:VEVENT
BEGIN:VEVENT
DTSTART;TZID=America/New_York:20260303T180000
DTEND;TZID=America/New_York:20260303T190000
DTSTAMP:20260423T200030
CREATED:20251218T143349Z
LAST-MODIFIED:20251218T143524Z
UID:10009145-1772560800-1772564400@murdockbaptistchurch.org
SUMMARY:Women's Bible Study: Hebrews 1-4
DESCRIPTION:Learn about Jesus’ superiority to all in an exciting study of Hebrews 1-4 that enlightens and enlivens Old Testament law and prophecy. It is a 12 session. Precepts study led by Amy Tipton. \n\n\n\nSign up after service so we can order enough books!
URL:https://murdockbaptistchurch.org/event/womens-bible-study-hebrews-1-4/2026-03-03/
CATEGORIES:God's Garden,Ladies Bible Study,Special Events,Women's Ministry
END:VEVENT
BEGIN:VEVENT
DTSTART;TZID=America/New_York:20260304T173000
DTEND;TZID=America/New_York:20260304T190000
DTSTAMP:20260423T200030
CREATED:20260217T164038Z
LAST-MODIFIED:20260217T164041Z
UID:10009602-1772645400-1772650800@murdockbaptistchurch.org
SUMMARY:Welsh Revival\, University of Mobile
DESCRIPTION:Join us on Wednesday\, March 4th for a very special concert with Welsh Revival from the University of Mobile. Welsh Revival is an all-female instrumental traveling ensemble that performs Celtic and folk-styled music.  \n\n\n\nWe will start the evening off with a potluck dinner at 5:30 p.m. A sign-up sheet can be found at the back counter.  \n\n\n\nPlease bring your dish by 5:15 so we can eat promptly at 5:30 p.m. The concert will follow at 6:30 p.m.
URL:https://murdockbaptistchurch.org/event/welsh-revival-university-of-mobile/
LOCATION:Main Building A\, Fellowship Hall\, 18375 Cochran Boulevard\, Port Charlotte\, Florida\, 33948\, United States
CATEGORIES:Special Events
ATTACH;FMTTYPE=image/jpeg:https://murdockbaptistchurch.org/wp-content/uploads/2026/02/welsh-revival.jpg
END:VEVENT
BEGIN:VEVENT
DTSTART;TZID=America/New_York:20260307T090000
DTEND;TZID=America/New_York:20260307T113000
DTSTAMP:20260423T200030
CREATED:20260217T164540Z
LAST-MODIFIED:20260217T164543Z
UID:10009603-1772874000-1772883000@murdockbaptistchurch.org
SUMMARY:Pregnancy Solutions - Walk for Life
DESCRIPTION:Two dates. Two locations. \n\n\n\nMarch 7th at Gilchrist Park\, Punta Gorda \n\n\n\nMarch 1th at Maxine Barritt Park\, Venice \n\n\n\nRegister at pswalkforlife.org.  For more information see us in the Fellowship Hall.
URL:https://murdockbaptistchurch.org/event/pregnancy-solutions-walk-for-life/2026-03-07/
LOCATION:Gilchrist Park\, Punta Gorda\, 400 W. Retta Esplanade\, Punta Gorda\, Florida\, 33950
CATEGORIES:Pregnancy Solutions,Special Events
ATTACH;FMTTYPE=image/jpeg:https://murdockbaptistchurch.org/wp-content/uploads/2023/08/pregnancy-solutions.jpg
END:VEVENT
BEGIN:VEVENT
DTSTART;TZID=America/New_York:20260310T140000
DTEND;TZID=America/New_York:20260310T153000
DTSTAMP:20260423T200030
CREATED:20240603T181850Z
LAST-MODIFIED:20240603T182159Z
UID:10008141-1773151200-1773156600@murdockbaptistchurch.org
SUMMARY:Neuro-Challenge (Parkinson's Support Group)
DESCRIPTION:Student Building
URL:https://murdockbaptistchurch.org/event/neuro-challenge-parkinsons-support-group/2026-03-10/
END:VEVENT
BEGIN:VEVENT
DTSTART;TZID=America/New_York:20260310T180000
DTEND;TZID=America/New_York:20260310T190000
DTSTAMP:20260423T200030
CREATED:20251218T143349Z
LAST-MODIFIED:20251218T143524Z
UID:10009146-1773165600-1773169200@murdockbaptistchurch.org
SUMMARY:Women's Bible Study: Hebrews 1-4
DESCRIPTION:Learn about Jesus’ superiority to all in an exciting study of Hebrews 1-4 that enlightens and enlivens Old Testament law and prophecy. It is a 12 session. Precepts study led by Amy Tipton. \n\n\n\nSign up after service so we can order enough books!
URL:https://murdockbaptistchurch.org/event/womens-bible-study-hebrews-1-4/2026-03-10/
CATEGORIES:God's Garden,Ladies Bible Study,Special Events,Women's Ministry
END:VEVENT
BEGIN:VEVENT
DTSTART;TZID=America/New_York:20260314T090000
DTEND;TZID=America/New_York:20260314T150000
DTSTAMP:20260423T200030
CREATED:20260217T165002Z
LAST-MODIFIED:20260217T165005Z
UID:10009605-1773478800-1773500400@murdockbaptistchurch.org
SUMMARY:Florida Baptist Diaster Relief Training
DESCRIPTION:This year’s training for our region 6 will be held on Saturday\, March 14th at McGregor Baptist Church\, Ft. Myers. \n\n\n\nFor more information on registering go to https://fl.sbcworkspace.com/pub/event/register/55238352
URL:https://murdockbaptistchurch.org/event/florida-baptist-diaster-relief-training/
LOCATION:McGregor Baptist Church\, 3750 Colonial Boulevard\, Fort Myers\, Florida\, 33966
CATEGORIES:Special Events
ATTACH;FMTTYPE=image/jpeg:https://murdockbaptistchurch.org/wp-content/uploads/2023/09/diaster-relief.jpg
END:VEVENT
BEGIN:VEVENT
DTSTART;TZID=America/New_York:20260317T180000
DTEND;TZID=America/New_York:20260317T190000
DTSTAMP:20260423T200030
CREATED:20251218T143349Z
LAST-MODIFIED:20251218T143524Z
UID:10009147-1773770400-1773774000@murdockbaptistchurch.org
SUMMARY:Women's Bible Study: Hebrews 1-4
DESCRIPTION:Learn about Jesus’ superiority to all in an exciting study of Hebrews 1-4 that enlightens and enlivens Old Testament law and prophecy. It is a 12 session. Precepts study led by Amy Tipton. \n\n\n\nSign up after service so we can order enough books!
URL:https://murdockbaptistchurch.org/event/womens-bible-study-hebrews-1-4/2026-03-17/
CATEGORIES:God's Garden,Ladies Bible Study,Special Events,Women's Ministry
END:VEVENT
BEGIN:VEVENT
DTSTART;TZID=America/New_York:20260324T180000
DTEND;TZID=America/New_York:20260324T190000
DTSTAMP:20260423T200030
CREATED:20251218T143349Z
LAST-MODIFIED:20251218T143524Z
UID:10009148-1774375200-1774378800@murdockbaptistchurch.org
SUMMARY:Women's Bible Study: Hebrews 1-4
DESCRIPTION:Learn about Jesus’ superiority to all in an exciting study of Hebrews 1-4 that enlightens and enlivens Old Testament law and prophecy. It is a 12 session. Precepts study led by Amy Tipton. \n\n\n\nSign up after service so we can order enough books!
URL:https://murdockbaptistchurch.org/event/womens-bible-study-hebrews-1-4/2026-03-24/
CATEGORIES:God's Garden,Ladies Bible Study,Special Events,Women's Ministry
END:VEVENT
BEGIN:VEVENT
DTSTART;TZID=America/New_York:20260326T180000
DTEND;TZID=America/New_York:20260326T190000
DTSTAMP:20260423T200030
CREATED:20260222T211341Z
LAST-MODIFIED:20260222T211346Z
UID:10009606-1774548000-1774551600@murdockbaptistchurch.org
SUMMARY:Women of Easter
DESCRIPTION:For Murdock’s Women Only \n\n\n\nPrepare your hearts for Easter and join us for a special evening of “Women of Easter”.  We will make palm crosses\, worship together\, and enjoy a powerful drama as “Three Marys” share their encounters with Jesus. There is no cost\, but please sign up today so we know you’re coming.
URL:https://murdockbaptistchurch.org/event/women-of-easter/
LOCATION:Student Building B\, 18375 Cochran Boulevard\, Port Charlotte\, Florida\, 33948\, United States
CATEGORIES:God's Garden,Ministries,Special Events,Women's Ministry
ATTACH;FMTTYPE=image/jpeg:https://murdockbaptistchurch.org/wp-content/uploads/2023/04/resurrection-day-easter.jpg
END:VEVENT
BEGIN:VEVENT
DTSTART;TZID=America/New_York:20260328T080000
DTEND;TZID=America/New_York:20260328T100000
DTSTAMP:20260423T200030
CREATED:20260302T184811Z
LAST-MODIFIED:20260302T185055Z
UID:10009668-1774684800-1774692000@murdockbaptistchurch.org
SUMMARY:Men's Prayer & Praise
DESCRIPTION:A time dedicated to prayer\, worship & fellowship!
URL:https://murdockbaptistchurch.org/event/mens-prayer-praise-3/
END:VEVENT
BEGIN:VEVENT
DTSTART;TZID=America/New_York:20260331T180000
DTEND;TZID=America/New_York:20260331T190000
DTSTAMP:20260423T200030
CREATED:20251218T143349Z
LAST-MODIFIED:20251218T143524Z
UID:10009149-1774980000-1774983600@murdockbaptistchurch.org
SUMMARY:Women's Bible Study: Hebrews 1-4
DESCRIPTION:Learn about Jesus’ superiority to all in an exciting study of Hebrews 1-4 that enlightens and enlivens Old Testament law and prophecy. It is a 12 session. Precepts study led by Amy Tipton. \n\n\n\nSign up after service so we can order enough books!
URL:https://murdockbaptistchurch.org/event/womens-bible-study-hebrews-1-4/2026-03-31/
CATEGORIES:God's Garden,Ladies Bible Study,Special Events,Women's Ministry
END:VEVENT
BEGIN:VEVENT
DTSTART;TZID=America/New_York:20260403T180000
DTEND;TZID=America/New_York:20260403T190000
DTSTAMP:20260423T200030
CREATED:20260317T122028Z
LAST-MODIFIED:20260317T122033Z
UID:10009675-1775239200-1775242800@murdockbaptistchurch.org
SUMMARY:Good Friday Service
DESCRIPTION:Come as you are\, and invite friends and family to share in this evening of remembrance of Christ’s sacrificial death. By His wounds we are healed.
URL:https://murdockbaptistchurch.org/event/good-friday-service-3/
LOCATION:Main Stage\, Worship Center\, 18375 Cochran Boulevard\, Port Charlote\, Florida\, 33948
CATEGORIES:Holiday Celebrations,Special Events
ATTACH;FMTTYPE=image/jpeg:https://murdockbaptistchurch.org/wp-content/uploads/2025/09/prayers.jpg
END:VEVENT
BEGIN:VEVENT
DTSTART;TZID=America/New_York:20260405T070000
DTEND;TZID=America/New_York:20260405T080000
DTSTAMP:20260423T200030
CREATED:20260317T130258Z
LAST-MODIFIED:20260317T130301Z
UID:10009677-1775372400-1775376000@murdockbaptistchurch.org
SUMMARY:Celebrate our risen Savior!
DESCRIPTION:Start your Easter Sunday celebration at the Sunrise Service at Ollie’s Pond (Bly Ave. off Collingswood Blvd.). Bring a friend and a lawn chair for this 45 minute gathering.
URL:https://murdockbaptistchurch.org/event/celebrate-our-risen-savior-3/
LOCATION:Ollie’s Pond\, Bly Avenue\, Port Charlotte\, Florida\, 33948\, United States
CATEGORIES:Holiday Celebrations,Special Events
ATTACH;FMTTYPE=image/webp:https://murdockbaptistchurch.org/wp-content/uploads/2025/04/open-tomb-easter.webp
END:VEVENT
BEGIN:VEVENT
DTSTART;TZID=America/New_York:20260405T093000
DTEND;TZID=America/New_York:20260405T110000
DTSTAMP:20260423T200030
CREATED:20260317T130825Z
LAST-MODIFIED:20260317T130829Z
UID:10009678-1775381400-1775386800@murdockbaptistchurch.org
SUMMARY:Celebrate our risen Savior - Regular Service
DESCRIPTION:Start your Easter Sunday celebration with our regular Easter service time on campus. Plan now tojoin us to celebrate\, and don’tforget to bring a friend. He is Risen! He is Risen indeed!
URL:https://murdockbaptistchurch.org/event/celebrate-our-risen-savior-regular-service/
LOCATION:Main Stage\, Worship Center\, 18375 Cochran Boulevard\, Port Charlote\, Florida\, 33948
CATEGORIES:Holiday Celebrations,Special Events
ATTACH;FMTTYPE=image/webp:https://murdockbaptistchurch.org/wp-content/uploads/2025/04/open-tomb-easter.webp
END:VEVENT
BEGIN:VEVENT
DTSTART;TZID=America/New_York:20260412T080000
DTEND;TZID=America/New_York:20260412T130000
DTSTAMP:20260423T200030
CREATED:20260408T150847Z
LAST-MODIFIED:20260408T150851Z
UID:10009799-1775980800-1775998800@murdockbaptistchurch.org
SUMMARY:Jesus Loves You Ministry - Donation Trailer
DESCRIPTION:Donation Trailer will be here on Sunday.  Reminder\, only clothing that is clean and in good condition and household items that are in working order.
URL:https://murdockbaptistchurch.org/event/jesus-loves-you-ministry-donation-trailer/
LOCATION:Murdock Baptist Church – Parking Lot\, 18375 Cochran Boulevard\, Port Charlotte\, Florida\, 33948
CATEGORIES:Special Events
ATTACH;FMTTYPE=image/jpeg:https://murdockbaptistchurch.org/wp-content/uploads/2023/11/JLY-Trailer-1.jpg
END:VEVENT
END:VCALENDAR