BEGIN:VCALENDAR
VERSION:2.0
PRODID:-//Murdock Baptist Church - ECPv6.15.20//NONSGML v1.0//EN
CALSCALE:GREGORIAN
METHOD:PUBLISH
X-WR-CALNAME:Murdock Baptist Church
X-ORIGINAL-URL:https://murdockbaptistchurch.org
X-WR-CALDESC:Events for Murdock Baptist Church
REFRESH-INTERVAL;VALUE=DURATION:PT1H
X-Robots-Tag:noindex
X-PUBLISHED-TTL:PT1H
BEGIN:VTIMEZONE
TZID:UTC
BEGIN:STANDARD
TZOFFSETFROM:+0000
TZOFFSETTO:+0000
TZNAME:UTC
DTSTART:20240101T000000
END:STANDARD
END:VTIMEZONE
BEGIN:VTIMEZONE
TZID:America/New_York
BEGIN:DAYLIGHT
TZOFFSETFROM:-0500
TZOFFSETTO:-0400
TZNAME:EDT
DTSTART:20240310T070000
END:DAYLIGHT
BEGIN:STANDARD
TZOFFSETFROM:-0400
TZOFFSETTO:-0500
TZNAME:EST
DTSTART:20241103T060000
END:STANDARD
BEGIN:DAYLIGHT
TZOFFSETFROM:-0500
TZOFFSETTO:-0400
TZNAME:EDT
DTSTART:20250309T070000
END:DAYLIGHT
BEGIN:STANDARD
TZOFFSETFROM:-0400
TZOFFSETTO:-0500
TZNAME:EST
DTSTART:20251102T060000
END:STANDARD
BEGIN:DAYLIGHT
TZOFFSETFROM:-0500
TZOFFSETTO:-0400
TZNAME:EDT
DTSTART:20260308T070000
END:DAYLIGHT
BEGIN:STANDARD
TZOFFSETFROM:-0400
TZOFFSETTO:-0500
TZNAME:EST
DTSTART:20261101T060000
END:STANDARD
BEGIN:DAYLIGHT
TZOFFSETFROM:-0500
TZOFFSETTO:-0400
TZNAME:EDT
DTSTART:20270314T070000
END:DAYLIGHT
BEGIN:STANDARD
TZOFFSETFROM:-0400
TZOFFSETTO:-0500
TZNAME:EST
DTSTART:20271107T060000
END:STANDARD
END:VTIMEZONE
BEGIN:VEVENT
DTSTART;TZID=UTC:20251102T110000
DTEND;TZID=UTC:20251102T120000
DTSTAMP:20260424T033642
CREATED:20221213T234818Z
LAST-MODIFIED:20250728T195225Z
UID:10001097-1762081200-1762084800@murdockbaptistchurch.org
SUMMARY:New Members Class
DESCRIPTION:Are you interested in becoming a member? Or perhaps you have questions? Join us today after service in the Sanctuary for this informative class.
URL:https://murdockbaptistchurch.org/event/new-members-class/2025-11-02/
CATEGORIES:New Members,Special Events
ATTACH;FMTTYPE=image/jpeg:https://murdockbaptistchurch.org/wp-content/uploads/2023/05/church-members.jpg
END:VEVENT
BEGIN:VEVENT
DTSTART;TZID=America/New_York:20251103T124500
DTEND;TZID=America/New_York:20251103T141500
DTSTAMP:20260424T033642
CREATED:20250610T202909Z
LAST-MODIFIED:20250610T202943Z
UID:10008077-1762173900-1762179300@murdockbaptistchurch.org
SUMMARY:Prayer Shawl Ministry
DESCRIPTION:Do you like to knit\, crochet and fellowship? Join us on the 1st & 3rd Monday of each month.Our shawls are made and given to comfort those who are going through a tough time. Whether it bepersonal or family illness\, loss of loved one\, or a multitude of reasons\, to let them know God loves them and that we are praying for them.
URL:https://murdockbaptistchurch.org/event/prayer-shawl-ministry-4/2025-11-03/
END:VEVENT
BEGIN:VEVENT
DTSTART;TZID=America/New_York:20251105T180000
DTEND;TZID=America/New_York:20251105T193000
DTSTAMP:20260424T033642
CREATED:20251008T204153Z
LAST-MODIFIED:20251008T204824Z
UID:10009056-1762365600-1762371000@murdockbaptistchurch.org
SUMMARY:GriefShare - "Surviving the Holidays"
DESCRIPTION:Join us on Wednesday\, November 5th in rooms 101/102 from 6-7:30 pm. \n\n\n\nThe Thanksgiving and Christmas seasons can be bleak when you’re experiencing the loss of a loved one.  \n\n\n\nThis 1-1/2-hour lay-led program is for those who have experienced the loss of a loved one\, spouse\, parent\, child\, or friend.
URL:https://murdockbaptistchurch.org/event/griefshare-surviving-the-holidays-2/
LOCATION:Room 101/102
CATEGORIES:Life Groups,Special Events
ATTACH;FMTTYPE=image/jpeg:https://murdockbaptistchurch.org/wp-content/uploads/2025/10/holiday-grief.jpg
END:VEVENT
BEGIN:VEVENT
DTSTART;TZID=America/New_York:20251108T080000
DTEND;TZID=America/New_York:20251108T090000
DTSTAMP:20260424T033642
CREATED:20251027T194357Z
LAST-MODIFIED:20251027T194400Z
UID:10009115-1762588800-1762592400@murdockbaptistchurch.org
SUMMARY:Men's Ministry Breakfast
DESCRIPTION:Join us for a time of fellowship and a special guest speaker.
URL:https://murdockbaptistchurch.org/event/mens-ministry-breakfast/
LOCATION:Main Building A\, Fellowship Hall\, 18375 Cochran Boulevard\, Port Charlotte\, Florida\, 33948\, United States
CATEGORIES:Men's Ministry,Men’s Bible Study,Special Events
ATTACH;FMTTYPE=image/jpeg:https://murdockbaptistchurch.org/wp-content/uploads/2025/10/mens-breakfast.jpg
END:VEVENT
BEGIN:VEVENT
DTSTART;TZID=America/New_York:20251108T090000
DTEND;TZID=America/New_York:20251108T130000
DTSTAMP:20260424T033642
CREATED:20251027T194810Z
LAST-MODIFIED:20251027T194812Z
UID:10009116-1762592400-1762606800@murdockbaptistchurch.org
SUMMARY:OneBlood Drive
DESCRIPTION:To make an appointment\, please visit oneblood.org/donate-now and use sponsor code 58463.
URL:https://murdockbaptistchurch.org/event/oneblood-drive-6/
CATEGORIES:Special Events
ATTACH;FMTTYPE=image/jpeg:https://murdockbaptistchurch.org/wp-content/uploads/2023/01/bus-e1684521820899.jpg
END:VEVENT
BEGIN:VEVENT
DTSTART;TZID=America/New_York:20251111T140000
DTEND;TZID=America/New_York:20251111T153000
DTSTAMP:20260424T033642
CREATED:20240603T181850Z
LAST-MODIFIED:20240603T182159Z
UID:10008137-1762869600-1762875000@murdockbaptistchurch.org
SUMMARY:Neuro-Challenge (Parkinson's Support Group)
DESCRIPTION:Student Building
URL:https://murdockbaptistchurch.org/event/neuro-challenge-parkinsons-support-group/2025-11-11/
END:VEVENT
BEGIN:VEVENT
DTSTART;TZID=America/New_York:20251113T100000
DTEND;TZID=America/New_York:20251113T140000
DTSTAMP:20260424T033642
CREATED:20250915T160511Z
LAST-MODIFIED:20250915T161037Z
UID:10008991-1763028000-1763042400@murdockbaptistchurch.org
SUMMARY:Bobbin Along Quilters
DESCRIPTION:This groups meets on the 2nd and 4th Thursday of each month from 10-2 p.m. If you’ve always wanted to learn how to quilt or you have been quilting for years\, please join us! for more information\, contact Debbie Eritz at (234) 567-3686.
URL:https://murdockbaptistchurch.org/event/bobbin-along-quilters/2025-11-13/
CATEGORIES:God's Garden,Ministries,Quilters,Special Events,Women's Ministry
ATTACH;FMTTYPE=image/jpeg:https://murdockbaptistchurch.org/wp-content/uploads/2025/09/quilt.jpg
END:VEVENT
BEGIN:VEVENT
DTSTART;TZID=America/New_York:20251115T000000
DTEND;TZID=America/New_York:20251115T120000
DTSTAMP:20260424T033642
CREATED:20251014T133629Z
LAST-MODIFIED:20251027T192317Z
UID:10009058-1763164800-1763208000@murdockbaptistchurch.org
SUMMARY:Murdock Women - Thanksgiving Mini-Retreat
DESCRIPTION:Join us for our Thanksgiving Mini-Retreat titled “The Fruit of Our Lips Giving Thankings”.  Enjoy a light breakfast\, worship time\, thankfullness quiet time\, and speakes to encourage you on your walk with the Lord.  \n\n\n\nTickets are $20 — on sale today. Come and bring a friend.
URL:https://murdockbaptistchurch.org/event/murdock-women-thanksgiving-mini-retreat/
LOCATION:Fellowship Hall
CATEGORIES:Holiday Celebrations,Special Events,Women's Ministry
ATTACH;FMTTYPE=image/jpeg:https://murdockbaptistchurch.org/wp-content/uploads/2023/11/Thanks.jpg
END:VEVENT
BEGIN:VEVENT
DTSTART;TZID=America/New_York:20251116T110000
DTEND;TZID=America/New_York:20251116T123000
DTSTAMP:20260424T033642
CREATED:20251107T144953Z
LAST-MODIFIED:20251107T144957Z
UID:10009118-1763290800-1763296200@murdockbaptistchurch.org
SUMMARY:Family Operation Christmas Child Shoebox Packing Party
DESCRIPTION:This is for families with kids of all ages\, preschool – youth! Families will gather at 11 a.m. in building B to pack shoeboxes. Bring a WOW item and $10 for shipping each box your family plans to pack. We will have a pizza lunch together and play Christmas Bingo!
URL:https://murdockbaptistchurch.org/event/family-operation-christmas-child-shoebox-packing-party/
LOCATION:Student Building B\, 18375 Cochran Boulevard\, Port Charlotte\, Florida\, 33948\, United States
CATEGORIES:Special Events
ATTACH;FMTTYPE=image/jpeg:https://murdockbaptistchurch.org/wp-content/uploads/2023/10/shoebox.jpg
END:VEVENT
BEGIN:VEVENT
DTSTART;TZID=America/New_York:20251118T113000
DTEND;TZID=America/New_York:20251118T130000
DTSTAMP:20260424T033642
CREATED:20251103T220318Z
LAST-MODIFIED:20251103T220321Z
UID:10009117-1763465400-1763470800@murdockbaptistchurch.org
SUMMARY:Connection Luncheon
DESCRIPTION:The Connection is a MBC Ministru to ALL widows\, and single or divorced ladies over the age of 60 years young. To reserve your seat\, please call the church office at (941) 627-6352.
URL:https://murdockbaptistchurch.org/event/connection-luncheon-8/
LOCATION:Main Building A\, Fellowship Hall\, 18375 Cochran Boulevard\, Port Charlotte\, Florida\, 33948\, United States
CATEGORIES:God's Garden,Special Events,Women's Ministry
ATTACH;FMTTYPE=image/jpeg:https://murdockbaptistchurch.org/wp-content/uploads/2025/06/luncheon10.jpg
END:VEVENT
BEGIN:VEVENT
DTSTART;TZID=America/New_York:20251121T180000
DTEND;TZID=America/New_York:20251121T190000
DTSTAMP:20260424T033642
CREATED:20250804T155456Z
LAST-MODIFIED:20250805T180226Z
UID:10008908-1763748000-1763751600@murdockbaptistchurch.org
SUMMARY:Total Body Worship
DESCRIPTION:Murdock Women join us in the Fellowship Hall on the third Friday of every month from 6-7 p.m.\,beginning August 15th. \n\n\n\nTina Melik and Nancy Cowan will lead us in movement\, drumming and a good workout\, as we worship to fabulous praise music together. Come and bring a friend! There is no cost for this.
URL:https://murdockbaptistchurch.org/event/total-body-worship/2025-11-21/
LOCATION:Main Building A\, Fellowship Hall\, 18375 Cochran Boulevard\, Port Charlotte\, Florida\, 33948\, United States
CATEGORIES:God's Garden,Life Groups,Ministries,Special Events,Women's Ministry
ATTACH;FMTTYPE=image/jpeg:https://murdockbaptistchurch.org/wp-content/uploads/2025/08/t1larg.jpg
END:VEVENT
BEGIN:VEVENT
DTSTART;TZID=America/New_York:20251122T080000
DTEND;TZID=America/New_York:20251122T100000
DTSTAMP:20260424T033642
CREATED:20250731T215230Z
LAST-MODIFIED:20250925T133928Z
UID:10008772-1763798400-1763805600@murdockbaptistchurch.org
SUMMARY:Men's Prayer & Praise
DESCRIPTION:A time dedicated to prayer\, worship & fellowship!
URL:https://murdockbaptistchurch.org/event/mens-saturday-morning-prayer-gathering/2025-11-22/
LOCATION:Main Building A\, Fellowship Hall\, 18375 Cochran Boulevard\, Port Charlotte\, Florida\, 33948\, United States
CATEGORIES:Barnabas Men’s Group,Men's Ministry,Ministries,Special Events
END:VEVENT
BEGIN:VEVENT
DTSTART;TZID=America/New_York:20251130T110000
DTEND;TZID=America/New_York:20251130T120000
DTSTAMP:20260424T033642
CREATED:20251117T140908Z
LAST-MODIFIED:20251117T140911Z
UID:10009122-1764500400-1764504000@murdockbaptistchurch.org
SUMMARY:Overcomers Life Group: The Characters of Christmas
DESCRIPTION:“The Characters of Christmas” will begin on November 30th at 11:00 a.m. for a 5-week study on “The Characters of Christmas”. Come and enjoy this special study in the context and culture of Jesus’ day. We meet in room 103.  All are welcome!
URL:https://murdockbaptistchurch.org/event/overcomers-life-group-the-characters-of-christmas/
LOCATION:Room 103\, 18375 Cochran Boulevard\, Port Charlotte\, Florida\, 33948\, United States
CATEGORIES:Life Groups,Men's Ministry,Special Events,Women's Ministry
ATTACH;FMTTYPE=image/jpeg:https://murdockbaptistchurch.org/wp-content/uploads/2025/10/holiday-grief.jpg
END:VEVENT
BEGIN:VEVENT
DTSTART;TZID=America/New_York:20251130T163000
DTEND;TZID=America/New_York:20251130T183000
DTSTAMP:20260424T033643
CREATED:20251114T190117Z
LAST-MODIFIED:20251114T190122Z
UID:10009120-1764520200-1764527400@murdockbaptistchurch.org
SUMMARY:Family Fellowship for Parents\, Kids & Young Adults
DESCRIPTION:Join us for a Potluck supper in the Fellowship Hall on Sunday\, November 30th from 4:30 – 6:30 p.m. Sign-ups are available in the lobby of Buildings B & C.
URL:https://murdockbaptistchurch.org/event/family-fellowship-for-parents-kids-young-adults-5/
LOCATION:Student Buildings B & C
ATTACH;FMTTYPE=image/jpeg:https://murdockbaptistchurch.org/wp-content/uploads/2023/05/potluck.jpg
END:VEVENT
BEGIN:VEVENT
DTSTART;TZID=America/New_York:20251130T163000
DTEND;TZID=America/New_York:20251130T183000
DTSTAMP:20260424T033643
CREATED:20251124T152709Z
LAST-MODIFIED:20251124T152739Z
UID:10009128-1764520200-1764527400@murdockbaptistchurch.org
SUMMARY:Family Fellowship for Parents\, Kids and Young Adults
DESCRIPTION:Join us for a Potluck supper in the Fellowship Hall on Sunday\, November 30th from 4:30 – 6:30  p.m. Sign-ups are available in the lobby of Buildings B & C.
URL:https://murdockbaptistchurch.org/event/family-fellowship-for-parents-kids-and-young-adults/
LOCATION:Student Buildings B & C
CATEGORIES:Children's Ministry,Ministries,Preschool Ministry,Special Events,Student Ministry
ATTACH;FMTTYPE=image/jpeg:https://murdockbaptistchurch.org/wp-content/uploads/2023/05/potluck.jpg
END:VEVENT
BEGIN:VEVENT
DTSTART;TZID=America/New_York:20251203T180000
DTEND;TZID=America/New_York:20251203T190000
DTSTAMP:20260424T033643
CREATED:20251124T153014Z
LAST-MODIFIED:20251124T153016Z
UID:10009129-1764784800-1764788400@murdockbaptistchurch.org
SUMMARY:Cuba Report
DESCRIPTION:Come and hear how God is moving in the hearts of the Cubans and in the volunteer missionaries. Also hear how God has answered your prayers for the Cuba team. You might just feel God speaking to you about going next time.
URL:https://murdockbaptistchurch.org/event/cuba-report/
LOCATION:Main Building A\, Fellowship Hall\, 18375 Cochran Boulevard\, Port Charlotte\, Florida\, 33948\, United States
CATEGORIES:Special Events
ATTACH;FMTTYPE=image/png:https://murdockbaptistchurch.org/wp-content/uploads/2024/06/cuba-report.png
END:VEVENT
BEGIN:VEVENT
DTSTART;TZID=America/New_York:20251204T180000
DTEND;TZID=America/New_York:20251204T193000
DTSTAMP:20260424T033643
CREATED:20251114T190601Z
LAST-MODIFIED:20251124T153232Z
UID:10009121-1764871200-1764876600@murdockbaptistchurch.org
SUMMARY:Murdock Women: Virtual Advent
DESCRIPTION:Join us for a virtual Advent event on Thursday\, December 4th at 6 p.m. Kelly Minter will help us focus on the experiences of Mary and Elizabeth\, as we manage our expectations and focus on the hope\, joy and peace that Jesus brings to each of us. We will meet in Building B.
URL:https://murdockbaptistchurch.org/event/murdock-women-virtual-advent/
LOCATION:Student Building B\, 18375 Cochran Boulevard\, Port Charlotte\, Florida\, 33948\, United States
CATEGORIES:Special Events
ATTACH;FMTTYPE=image/jpeg:https://murdockbaptistchurch.org/wp-content/uploads/2025/11/elizabeth.jpg
END:VEVENT
BEGIN:VEVENT
DTSTART;TZID=America/New_York:20251206T110000
DTEND;TZID=America/New_York:20251206T123000
DTSTAMP:20260424T033643
CREATED:20251117T141440Z
LAST-MODIFIED:20251117T141443Z
UID:10009123-1765018800-1765024200@murdockbaptistchurch.org
SUMMARY:Jingle Jam
DESCRIPTION:A Christmas party big enough for the whole family and for all ages! Interactive\, high energy celebration in Building B. \n\n\n\nFun for everyone! Invitation cards are available in the Fellowship Hall. \n\n\n\nScan the QR code to register your family today.
URL:https://murdockbaptistchurch.org/event/jingle-jam-2/
LOCATION:Student Building B\, 18375 Cochran Boulevard\, Port Charlotte\, Florida\, 33948\, United States
CATEGORIES:Children's Ministry,Preschool Ministry,Special Events,Student Ministry
ATTACH;FMTTYPE=image/jpeg:https://murdockbaptistchurch.org/wp-content/uploads/2025/11/jingle-jam-900x600-1.jpg
END:VEVENT
BEGIN:VEVENT
DTSTART;TZID=America/New_York:20251207T093000
DTEND;TZID=America/New_York:20251207T110000
DTSTAMP:20260424T033643
CREATED:20251201T202654Z
LAST-MODIFIED:20251201T202657Z
UID:10009132-1765099800-1765105200@murdockbaptistchurch.org
SUMMARY:Choco-Lottie is coming!
DESCRIPTION:The preschool and children are selling hot chocolate and chocolate covered pretzels to rais emoney for the Lottie Moon Christmas Offering. Help us meet our goal of $1\,000! Find us in the fellowship hall or out the side door of the sanctuary toward the student building after service. \n\n\n\nThank you for supporting our kids as they participate in supporting our missionaries.
URL:https://murdockbaptistchurch.org/event/choco-lottie-is-coming/2025-12-07/
LOCATION:Main Building A\, Fellowship Hall\, 18375 Cochran Boulevard\, Port Charlotte\, Florida\, 33948\, United States
CATEGORIES:Children's Ministry,Preschool Ministry,Special Events,Student Ministry
ATTACH;FMTTYPE=image/jpeg:https://murdockbaptistchurch.org/wp-content/uploads/2023/06/pre-school-ministry2.jpg
END:VEVENT
BEGIN:VEVENT
DTSTART;TZID=America/New_York:20251207T110000
DTEND;TZID=America/New_York:20251207T113000
DTSTAMP:20260424T033643
CREATED:20251124T153850Z
LAST-MODIFIED:20251124T153853Z
UID:10009130-1765105200-1765107000@murdockbaptistchurch.org
SUMMARY:Special Called Church Conference
DESCRIPTION:Immediately following service for the consideration of the 2026 Budget.
URL:https://murdockbaptistchurch.org/event/special-called-church-conference-5/
LOCATION:Main Stage\, Worship Center\, 18375 Cochran Boulevard\, Port Charlote\, Florida\, 33948
CATEGORIES:Special Events
ATTACH;FMTTYPE=image/jpeg:https://murdockbaptistchurch.org/wp-content/uploads/2023/06/Murdock-Baptist-Church-PhotoGallery66-scaled.jpg
END:VEVENT
BEGIN:VEVENT
DTSTART;TZID=America/New_York:20251209T140000
DTEND;TZID=America/New_York:20251209T153000
DTSTAMP:20260424T033643
CREATED:20240603T181850Z
LAST-MODIFIED:20240603T182159Z
UID:10008138-1765288800-1765294200@murdockbaptistchurch.org
SUMMARY:Neuro-Challenge (Parkinson's Support Group)
DESCRIPTION:Student Building
URL:https://murdockbaptistchurch.org/event/neuro-challenge-parkinsons-support-group/2025-12-09/
END:VEVENT
BEGIN:VEVENT
DTSTART;TZID=America/New_York:20251211T133000
DTEND;TZID=America/New_York:20251211T150000
DTSTAMP:20260424T033643
CREATED:20251112T211117Z
LAST-MODIFIED:20251112T211120Z
UID:10009119-1765459800-1765465200@murdockbaptistchurch.org
SUMMARY:Live in Concert: Off-Key Chorale
DESCRIPTION:Fall Series: “When the Saints Go Marching In – A celebration of New Orleans”
URL:https://murdockbaptistchurch.org/event/live-in-concert-off-key-chorale/
LOCATION:Main Stage\, Worship Center\, 18375 Cochran Boulevard\, Port Charlote\, Florida\, 33948
CATEGORIES:Special Events
ATTACH;FMTTYPE=image/png:https://murdockbaptistchurch.org/wp-content/uploads/2025/11/Off-Key-Chorale-Fall-Concert-2025.png
END:VEVENT
BEGIN:VEVENT
DTSTART;TZID=America/New_York:20251213T180000
DTEND;TZID=America/New_York:20251213T200000
DTSTAMP:20260424T033643
CREATED:20251117T142009Z
LAST-MODIFIED:20251117T142322Z
UID:10009124-1765648800-1765656000@murdockbaptistchurch.org
SUMMARY:HOME FOR CHRISTMAS... I hope!
DESCRIPTION:Everyone loves Christmas music! Join us for an evening performance on Saturday or a Sunday matinee and enjoy a fun-filled time of singing many of your favorite Christmas carols. This dramatic production takes place in an airport terminal\, when we are waiting for the weather to clear so we can get home for the holidays. Come celebrate the season with us – and don’t forget to invite a friend\, neighbor\, or family member to share in this memorable event!
URL:https://murdockbaptistchurch.org/event/home-for-christmas-i-hope/
LOCATION:Main Stage\, Worship Center\, 18375 Cochran Boulevard\, Port Charlote\, Florida\, 33948
CATEGORIES:Ministries,Special Events
ATTACH;FMTTYPE=image/png:https://murdockbaptistchurch.org/wp-content/uploads/2025/11/Website-Banner-with-snow-I-Hope-capitalized-scaled.png
END:VEVENT
BEGIN:VEVENT
DTSTART;TZID=America/New_York:20251214T150000
DTEND;TZID=America/New_York:20251214T170000
DTSTAMP:20260424T033643
CREATED:20251117T142200Z
LAST-MODIFIED:20251210T150534Z
UID:10009125-1765724400-1765731600@murdockbaptistchurch.org
SUMMARY:HOME FOR CHRISTMAS... I hope!
DESCRIPTION:Everyone loves Christmas music! Join us for an evening performance on Saturday or a Sunday matinee and enjoy a fun-filled time of singing many of your favorite Christmas carols. This dramatic production takes place in an airport terminal\, when we are waiting for the weather to clear so we can get home for the holidays. Come celebrate the season with us – and don’t forget to invite a friend\, neighbor\, or family member to share in this memorable event!
URL:https://murdockbaptistchurch.org/event/home-for-christmas-i-hope-copy/
LOCATION:Main Stage\, Worship Center\, 18375 Cochran Boulevard\, Port Charlote\, Florida\, 33948
CATEGORIES:Ministries,Special Events
ATTACH;FMTTYPE=image/png:https://murdockbaptistchurch.org/wp-content/uploads/2025/11/Website-Banner-with-snow-I-Hope-capitalized-scaled.png
END:VEVENT
BEGIN:VEVENT
DTSTART;TZID=America/New_York:20251215T183000
DTEND;TZID=America/New_York:20251215T203000
DTSTAMP:20260424T033643
CREATED:20251117T142645Z
LAST-MODIFIED:20251117T142648Z
UID:10009126-1765823400-1765830600@murdockbaptistchurch.org
SUMMARY:Port Charlotte High School AND Murdock Middle School COMBINED Winter Concert
DESCRIPTION:The Pride’s and the Mariners’ talent filled high school and middle school chorus and band students will be staging their annual winter concert here at Murdock Baptist Church\, in a combined evening of joyful Christmas songs. \n\n\n\nIf you can’t join us in person\, then view the concert with the live stream link below at date/time listed above. \n\n\n\nView Live Stream
URL:https://murdockbaptistchurch.org/event/port-charlotte-high-school-and-murdock-middle-school-combined-winter-concert/
ATTACH;FMTTYPE=image/jpeg:https://murdockbaptistchurch.org/wp-content/uploads/2025/11/MMS-and-PCHS-Bands-Combined.jpg
END:VEVENT
BEGIN:VEVENT
DTSTART;TZID=America/New_York:20251216T113000
DTEND;TZID=America/New_York:20251216T130000
DTSTAMP:20260424T033643
CREATED:20251208T141125Z
LAST-MODIFIED:20251208T141129Z
UID:10009136-1765884600-1765890000@murdockbaptistchurch.org
SUMMARY:Connection Luncheon
DESCRIPTION:The Connection is an MBC Ministry to all widows\, and single or divorced ladies over the age of 60 years young. To reserve your seat\, please call the church office at (941) 627-6352.
URL:https://murdockbaptistchurch.org/event/connection-luncheon-9/
CATEGORIES:Special Events,Women's Ministry
ATTACH;FMTTYPE=image/jpeg:https://murdockbaptistchurch.org/wp-content/uploads/2023/11/christmas-luncheon.jpg
END:VEVENT
BEGIN:VEVENT
DTSTART;TZID=America/New_York:20251221T110000
DTEND;TZID=America/New_York:20251221T120000
DTSTAMP:20260424T033643
CREATED:20251208T141528Z
LAST-MODIFIED:20251208T141533Z
UID:10009137-1766314800-1766318400@murdockbaptistchurch.org
SUMMARY:Cuba Interest Meetings
DESCRIPTION:We are going back to Camajuani\, Cuba on April18\, 2026. If the Lord has been urging you to consider taking a missions trip\, now is the time! At this meeting we will discuss the details. You do not need to attend the interest meeting to go. Applications are available in the Fellowship Hall and at the church office and will be due on January 11\, 2026. \n\n\n\nQuestions\, call or text Gordon Caldwell (941) 661-0446.
URL:https://murdockbaptistchurch.org/event/cuba-interest-meetings-2/
CATEGORIES:Special Events
ATTACH;FMTTYPE=image/jpeg:https://murdockbaptistchurch.org/wp-content/uploads/2023/05/CUBA-097.jpg
END:VEVENT
BEGIN:VEVENT
DTSTART;TZID=America/New_York:20251224T170000
DTEND;TZID=America/New_York:20251224T180000
DTSTAMP:20260424T033643
CREATED:20251117T142857Z
LAST-MODIFIED:20251219T141605Z
UID:10009127-1766595600-1766599200@murdockbaptistchurch.org
SUMMARY:Christmas Eve Candlelight Service
DESCRIPTION:You are invited to our Christmas Eve candlelight service at 5:00 PM \n\n\n\nInvite your family\, friends and neighbors. Let’s celebrate Jesus’ birth together! \n\n\n\n“For unto you is born this day in the city of David a Savior\, which is Christ the Lord.”—(Luke 2:11)
URL:https://murdockbaptistchurch.org/event/christmas-eve-candlelight-service-3/
LOCATION:Main Stage\, Worship Center\, 18375 Cochran Boulevard\, Port Charlote\, Florida\, 33948
CATEGORIES:Holiday Celebrations,Special Events
ATTACH;FMTTYPE=image/jpeg:https://murdockbaptistchurch.org/wp-content/uploads/2023/11/pexels-david-dibert-753771-scaled.jpg
END:VEVENT
BEGIN:VEVENT
DTSTART;TZID=America/New_York:20260104T080000
DTEND;TZID=America/New_York:20260104T090000
DTSTAMP:20260424T033643
CREATED:20251223T205904Z
LAST-MODIFIED:20251223T205908Z
UID:10009328-1767513600-1767517200@murdockbaptistchurch.org
SUMMARY:Climbing Higher Life Group
DESCRIPTION:Led by Terry Shippy \n\n\n\nThis class offers a discussion-driven\, critical-thinking approach to the exploration of specific books of the Bible. \n\n\n\nWe are a joy filled\, supportive group of adults from all walks and age groups! \n\n\n\nIf interested in joining\, please feel free to contact Terry Shippy\, 1-941-716-4221 or at shippy@comcast.net.
URL:https://murdockbaptistchurch.org/event/climbing-higher-life-group-3/2026-01-04/
LOCATION:Rooms 103/104
CATEGORIES:Climbing Higher,Life Groups
ATTACH;FMTTYPE=image/jpeg:https://murdockbaptistchurch.org/wp-content/uploads/2023/01/climbing-higher-life-group3-copy.jpg
END:VEVENT
BEGIN:VEVENT
DTSTART;TZID=America/New_York:20260104T110000
DTEND;TZID=America/New_York:20260104T120000
DTSTAMP:20260424T033643
CREATED:20251223T204116Z
LAST-MODIFIED:20251223T204623Z
UID:10009175-1767524400-1767528000@murdockbaptistchurch.org
SUMMARY:Ambassadors for Christ Life Group
DESCRIPTION:Led by John Mangione \n\n\n\n2 Corinthians 5:20 tells us that we are Ambassadors for Christ. \n\n\n\nGod can use you to make His appeal to your friends\, family to coworkers\, and neighbors. This class consists of couples and individuals who desire to go deeper in their personal journey. \n\n\n\nIf interested\, please feel free to contact John Mangione\, 941-330-7857 or at amangione46@gmail.com.
URL:https://murdockbaptistchurch.org/event/ambassadors-for-christ-life-group-copy/2026-01-04/
LOCATION:Rooms 104-105\, 18375 Cochran Boulevard\, Port Charlotte\, Florida\, 33948\, United States
CATEGORIES:Ambassadors for Christ,Life Groups
ATTACH;FMTTYPE=image/jpeg:https://murdockbaptistchurch.org/wp-content/uploads/2023/05/ambassadors-slider3.jpg
END:VEVENT
END:VCALENDAR