BEGIN:VCALENDAR
VERSION:2.0
PRODID:-//Murdock Baptist Church - ECPv6.15.20//NONSGML v1.0//EN
CALSCALE:GREGORIAN
METHOD:PUBLISH
X-ORIGINAL-URL:https://murdockbaptistchurch.org
X-WR-CALDESC:Events for Murdock Baptist Church
REFRESH-INTERVAL;VALUE=DURATION:PT1H
X-Robots-Tag:noindex
X-PUBLISHED-TTL:PT1H
BEGIN:VTIMEZONE
TZID:America/New_York
BEGIN:DAYLIGHT
TZOFFSETFROM:-0500
TZOFFSETTO:-0400
TZNAME:EDT
DTSTART:20230312T070000
END:DAYLIGHT
BEGIN:STANDARD
TZOFFSETFROM:-0400
TZOFFSETTO:-0500
TZNAME:EST
DTSTART:20231105T060000
END:STANDARD
BEGIN:DAYLIGHT
TZOFFSETFROM:-0500
TZOFFSETTO:-0400
TZNAME:EDT
DTSTART:20240310T070000
END:DAYLIGHT
BEGIN:STANDARD
TZOFFSETFROM:-0400
TZOFFSETTO:-0500
TZNAME:EST
DTSTART:20241103T060000
END:STANDARD
BEGIN:DAYLIGHT
TZOFFSETFROM:-0500
TZOFFSETTO:-0400
TZNAME:EDT
DTSTART:20250309T070000
END:DAYLIGHT
BEGIN:STANDARD
TZOFFSETFROM:-0400
TZOFFSETTO:-0500
TZNAME:EST
DTSTART:20251102T060000
END:STANDARD
END:VTIMEZONE
BEGIN:VEVENT
DTSTART;TZID=America/New_York:20241207T110000
DTEND;TZID=America/New_York:20241207T120000
DTSTAMP:20260424T204927
CREATED:20241122T032043Z
LAST-MODIFIED:20241123T151946Z
UID:10008746-1733569200-1733572800@murdockbaptistchurch.org
SUMMARY:Jingle Jam
DESCRIPTION:This Christmas\, get ready to experience a Christmas like no other! Can you imagine a Christmas party big enough for your whole family? A Christmas party with singing\, dancing\, games\, drama\, activities and more! A party where you will experience the true meaning of Christmas through sounds\, sights\, touch\, tastes\, and even…smells? \n\n\n\n\nRegister Online
URL:https://murdockbaptistchurch.org/event/jingle-jam/
LOCATION:Student Building B\, 18375 Cochran Boulevard\, Port Charlotte\, Florida\, 33948\, United States
CATEGORIES:Holiday Celebrations,Special Events
ATTACH;FMTTYPE=image/jpeg:https://murdockbaptistchurch.org/wp-content/uploads/2024/11/jingle-jam-scaled.jpg
END:VEVENT
BEGIN:VEVENT
DTSTART;TZID=America/New_York:20241202T124500
DTEND;TZID=America/New_York:20241202T141500
DTSTAMP:20260424T204927
CREATED:20240603T180348Z
LAST-MODIFIED:20240603T180401Z
UID:10008066-1733143500-1733148900@murdockbaptistchurch.org
SUMMARY:Prayer Shawl Ministry
DESCRIPTION:Do you like to knit\, crochet and fellowship? Join us on the 1st & 3rd Monday of each month.Our shawls are made and given to comfort those who are going through a tough time. Whether it bepersonal or family illness\, loss of loved one\, or a multitude of reasons\, to let them know God loves them and that we are praying for them.
URL:https://murdockbaptistchurch.org/event/prayer-shawl-ministry-2/2024-12-02/
END:VEVENT
BEGIN:VEVENT
DTSTART;TZID=America/New_York:20241123T080000
DTEND;TZID=America/New_York:20241123T093000
DTSTAMP:20260424T204927
CREATED:20240304T025158Z
LAST-MODIFIED:20240318T150255Z
UID:10007722-1732348800-1732354200@murdockbaptistchurch.org
SUMMARY:Men's Monthly Prayer Gathering
DESCRIPTION:A time for men to gather in prayer\, worship and fellowship.   Let’s practice “Iron sharpening Iron” and support one another to deepen and strengthen our walk with our Savior! \n\n\n\nEvent held in the Fellowship Hall.
URL:https://murdockbaptistchurch.org/event/mens-monthly-prayer-gathering/2024-11-23/
CATEGORIES:Barnabas Men’s Group,Men’s Bible Study
ATTACH;FMTTYPE=image/png:https://murdockbaptistchurch.org/wp-content/uploads/2024/03/Mens-Prayer-Sunrise.png
END:VEVENT
BEGIN:VEVENT
DTSTART;TZID=America/New_York:20241120T180000
DTEND;TZID=America/New_York:20241120T190000
DTSTAMP:20260424T204927
CREATED:20240826T130559Z
LAST-MODIFIED:20240923T133344Z
UID:10008487-1732125600-1732129200@murdockbaptistchurch.org
SUMMARY:Wednesday Night Bible Study
DESCRIPTION:Join Pastor Ron beginning August 28th at 6:00 p.m. for a study in the book of Philemon.
URL:https://murdockbaptistchurch.org/event/wednesday-night-bibl-study/2024-11-20/
LOCATION:Main Building A\, Fellowship Hall\, 18375 Cochran Boulevard\, Port Charlotte\, Florida\, 33948\, United States
CATEGORIES:Bible Study - In-person
ATTACH;FMTTYPE=image/jpeg:https://murdockbaptistchurch.org/wp-content/uploads/2023/01/bible-study-fellowship-hall-murdock-baptist-church.jpg
END:VEVENT
BEGIN:VEVENT
DTSTART;TZID=America/New_York:20241112T140000
DTEND;TZID=America/New_York:20241112T153000
DTSTAMP:20260424T204927
CREATED:20240603T181850Z
LAST-MODIFIED:20240603T182159Z
UID:10008125-1731420000-1731425400@murdockbaptistchurch.org
SUMMARY:Neuro-Challenge (Parkinson's Support Group)
DESCRIPTION:Student Building
URL:https://murdockbaptistchurch.org/event/neuro-challenge-parkinsons-support-group/2024-11-12/
END:VEVENT
BEGIN:VEVENT
DTSTART;TZID=America/New_York:20241109T080000
DTEND;TZID=America/New_York:20241109T090000
DTSTAMP:20260424T204927
CREATED:20240128T045949Z
LAST-MODIFIED:20240302T143728Z
UID:10007712-1731139200-1731142800@murdockbaptistchurch.org
SUMMARY:Monthly Men's Pancake Breakfast
DESCRIPTION:Join us and bring a friend for breakfast\, fellowship and a brief presentation.
URL:https://murdockbaptistchurch.org/event/monthly-mens-pancake-breakfast/2024-11-09/
LOCATION:Main Building A\, Fellowship Hall\, 18375 Cochran Boulevard\, Port Charlotte\, Florida\, 33948\, United States
CATEGORIES:Barnabas Men’s Group,Special Events
ATTACH;FMTTYPE=image/jpeg:https://murdockbaptistchurch.org/wp-content/uploads/2024/01/pancakes.jpg
END:VEVENT
BEGIN:VEVENT
DTSTART;TZID=America/New_York:20241104T124500
DTEND;TZID=America/New_York:20241104T141500
DTSTAMP:20260424T204927
CREATED:20240603T180348Z
LAST-MODIFIED:20240603T180401Z
UID:10008065-1730724300-1730729700@murdockbaptistchurch.org
SUMMARY:Prayer Shawl Ministry
DESCRIPTION:Do you like to knit\, crochet and fellowship? Join us on the 1st & 3rd Monday of each month.Our shawls are made and given to comfort those who are going through a tough time. Whether it bepersonal or family illness\, loss of loved one\, or a multitude of reasons\, to let them know God loves them and that we are praying for them.
URL:https://murdockbaptistchurch.org/event/prayer-shawl-ministry-2/2024-11-04/
END:VEVENT
BEGIN:VEVENT
DTSTART;TZID=America/New_York:20241023T093000
DTEND;TZID=America/New_York:20241023T103000
DTSTAMP:20260424T204927
CREATED:20240805T141151Z
LAST-MODIFIED:20240805T141215Z
UID:10008473-1729675800-1729679400@murdockbaptistchurch.org
SUMMARY:Ladies Fall Bible Study: “Luke in the Land” by Kristi McClelland\, morning class
DESCRIPTION:Beginning Wednesday\, September 11th at 9:30 a.m. in rooms 106-107. Reserve your book with a $15 deposit. Contact Barb Miller at barb@overflowinghope.com for more information.
URL:https://murdockbaptistchurch.org/event/ladies-fall-bible-study-luke-in-the-land-by-kristi-mcclelland-morning-class/2024-10-23/
LOCATION:Rooms 106-107\, 18375 Cochran Boulevard\, Port Charlotte\, Florida\, 33948\, United States
CATEGORIES:Ministries,Special Events,Women's Ministry
ATTACH;FMTTYPE=image/jpeg:https://murdockbaptistchurch.org/wp-content/uploads/2023/11/kristi-mclelland.jpg
END:VEVENT
BEGIN:VEVENT
DTSTART;TZID=America/New_York:20241022T180000
DTEND;TZID=America/New_York:20241022T190000
DTSTAMP:20260424T204927
CREATED:20240805T133123Z
LAST-MODIFIED:20240805T143324Z
UID:10008341-1729620000-1729623600@murdockbaptistchurch.org
SUMMARY:Ladies Fall Bible Study: "Luke in the Land" by Kristi McClelland
DESCRIPTION:Beginning Tuesday\, September 10th at 6 p.m. and/or Wednesday September 11th at 9:30 a.m. Reserve your book with a $15 deposit. Contact Barb Miller at barb@overflowinghope.com for more information.
URL:https://murdockbaptistchurch.org/event/ladies-fall-bible-study-luke-in-the-land-by-kristi-mcclelland/2024-10-22/
LOCATION:Rooms 106-107
CATEGORIES:Ministries,Special Events,Women's Ministry
ATTACH;FMTTYPE=image/jpeg:https://murdockbaptistchurch.org/wp-content/uploads/2023/11/kristi-mclelland.jpg
END:VEVENT
BEGIN:VEVENT
DTSTART;TZID=America/New_York:20241020T163000
DTEND;TZID=America/New_York:20241020T183000
DTSTAMP:20260424T204927
CREATED:20240930T191309Z
LAST-MODIFIED:20240930T191501Z
UID:10008741-1729441800-1729449000@murdockbaptistchurch.org
SUMMARY:Movie Night & Chili Potluck
DESCRIPTION:Bring your best pot of chili and then join us for an encore presentation of “Letter to the American Church”. This film lays out the parallels between early 1930’s Nazi Germany and other totalitarian regimes with what is happening in American today and how the church has been mostly silent facing this evil. This film is a wake-up call to the church to stand up and speak out against the evil that is manifesting in our country.
URL:https://murdockbaptistchurch.org/event/movie-night-chili-potluck/
LOCATION:Main Building A\, Fellowship Hall\, 18375 Cochran Boulevard\, Port Charlotte\, Florida\, 33948\, United States
CATEGORIES:Special Events
ATTACH;FMTTYPE=image/jpeg:https://murdockbaptistchurch.org/wp-content/uploads/2024/09/movie.jpg
END:VEVENT
BEGIN:VEVENT
DTSTART;TZID=America/New_York:20241016T180000
DTEND;TZID=America/New_York:20241016T193000
DTSTAMP:20260424T204927
CREATED:20240930T190059Z
LAST-MODIFIED:20241015T132720Z
UID:10008740-1729101600-1729107000@murdockbaptistchurch.org
SUMMARY:Quarterly Church Conference
DESCRIPTION:We operate as a congregational church polity which means the membership is informed and votes on church business. Our church conferences are scheduled quarterly so the church membership can vote on membership requests\, hear reports from various teams\, and review the church financials for the previous quarter. \n\n\n\nAgenda to be supplied shortly.
URL:https://murdockbaptistchurch.org/event/quarterly-church-conference-5/
CATEGORIES:Special Events
ATTACH;FMTTYPE=image/jpeg:https://murdockbaptistchurch.org/wp-content/uploads/2022/11/lifegroups.jpg
END:VEVENT
BEGIN:VEVENT
DTSTART;TZID=America/New_York:20241008T140000
DTEND;TZID=America/New_York:20241008T153000
DTSTAMP:20260424T204927
CREATED:20240603T181850Z
LAST-MODIFIED:20240603T182159Z
UID:10008124-1728396000-1728401400@murdockbaptistchurch.org
SUMMARY:Neuro-Challenge (Parkinson's Support Group)
DESCRIPTION:Student Building
URL:https://murdockbaptistchurch.org/event/neuro-challenge-parkinsons-support-group/2024-10-08/
END:VEVENT
BEGIN:VEVENT
DTSTART;TZID=America/New_York:20241007T124500
DTEND;TZID=America/New_York:20241007T141500
DTSTAMP:20260424T204927
CREATED:20240603T180348Z
LAST-MODIFIED:20240603T180401Z
UID:10008064-1728305100-1728310500@murdockbaptistchurch.org
SUMMARY:Prayer Shawl Ministry
DESCRIPTION:Do you like to knit\, crochet and fellowship? Join us on the 1st & 3rd Monday of each month.Our shawls are made and given to comfort those who are going through a tough time. Whether it bepersonal or family illness\, loss of loved one\, or a multitude of reasons\, to let them know God loves them and that we are praying for them.
URL:https://murdockbaptistchurch.org/event/prayer-shawl-ministry-2/2024-10-07/
END:VEVENT
BEGIN:VEVENT
DTSTART;TZID=America/New_York:20240910T140000
DTEND;TZID=America/New_York:20240910T153000
DTSTAMP:20260424T204927
CREATED:20240603T181850Z
LAST-MODIFIED:20240603T182159Z
UID:10008123-1725976800-1725982200@murdockbaptistchurch.org
SUMMARY:Neuro-Challenge (Parkinson's Support Group)
DESCRIPTION:Student Building
URL:https://murdockbaptistchurch.org/event/neuro-challenge-parkinsons-support-group/2024-09-10/
END:VEVENT
BEGIN:VEVENT
DTSTART;TZID=America/New_York:20240902T124500
DTEND;TZID=America/New_York:20240902T141500
DTSTAMP:20260424T204927
CREATED:20240603T180348Z
LAST-MODIFIED:20240603T180401Z
UID:10008063-1725281100-1725286500@murdockbaptistchurch.org
SUMMARY:Prayer Shawl Ministry
DESCRIPTION:Do you like to knit\, crochet and fellowship? Join us on the 1st & 3rd Monday of each month.Our shawls are made and given to comfort those who are going through a tough time. Whether it bepersonal or family illness\, loss of loved one\, or a multitude of reasons\, to let them know God loves them and that we are praying for them.
URL:https://murdockbaptistchurch.org/event/prayer-shawl-ministry-2/2024-09-02/
END:VEVENT
BEGIN:VEVENT
DTSTART;TZID=America/New_York:20240818T093000
DTEND;TZID=America/New_York:20240818T120000
DTSTAMP:20260424T204927
CREATED:20240605T155433Z
LAST-MODIFIED:20240605T155453Z
UID:10008224-1723973400-1723982400@murdockbaptistchurch.org
SUMMARY:Promotion Sunday: Preschool\, Children\, Youth
DESCRIPTION:Promotion Sunday for all children and students going into K-12 grade. It’s time to move up to the next level!
URL:https://murdockbaptistchurch.org/event/promotion-sunday-preschool-children-youth/
ATTACH;FMTTYPE=image/jpeg:https://murdockbaptistchurch.org/wp-content/uploads/2024/06/promotion_sunday-mbc-scaled.jpg
END:VEVENT
BEGIN:VEVENT
DTSTART;TZID=America/New_York:20240814T180000
DTEND;TZID=America/New_York:20240814T190000
DTSTAMP:20260424T204927
CREATED:20240729T140527Z
LAST-MODIFIED:20240729T140550Z
UID:10008334-1723658400-1723662000@murdockbaptistchurch.org
SUMMARY:A Look at Israel "Then and Now"
DESCRIPTION:Join Paul Million for a quick history of the Jewish people and the birth of a nation in one day.
URL:https://murdockbaptistchurch.org/event/a-look-at-israel-then-and-now/2024-08-14/
CATEGORIES:Special Events
ATTACH;FMTTYPE=image/jpeg:https://murdockbaptistchurch.org/wp-content/uploads/2024/07/Numbers-14-Judean-Hills-copyright-by-Stephen-M-Miller-900PX-copy.jpg
END:VEVENT
BEGIN:VEVENT
DTSTART;TZID=America/New_York:20240813T140000
DTEND;TZID=America/New_York:20240813T153000
DTSTAMP:20260424T204927
CREATED:20240603T181850Z
LAST-MODIFIED:20240603T182159Z
UID:10008122-1723557600-1723563000@murdockbaptistchurch.org
SUMMARY:Neuro-Challenge (Parkinson's Support Group)
DESCRIPTION:Student Building
URL:https://murdockbaptistchurch.org/event/neuro-challenge-parkinsons-support-group/2024-08-13/
END:VEVENT
BEGIN:VEVENT
DTSTART;TZID=America/New_York:20240811T150000
DTEND;TZID=America/New_York:20240811T170000
DTSTAMP:20260424T204927
CREATED:20240722T134336Z
LAST-MODIFIED:20240722T134648Z
UID:10008330-1723388400-1723395600@murdockbaptistchurch.org
SUMMARY:Glory Forever
DESCRIPTION:Worship with Denver Bierman\n\n\n\n\n\nLead Singer and Trumpeter of the Christian Horn Band\, “Denver and the Mile High Orchestra”\, will be at Murdock Baptist Church in concert. \n\n\n\nCome for a fun\, inspiring\, and Jesus-filled afternoon of congregational worship songs and hymns… some will be familiar and some brand new. There is something so moving and powerful when we all collectively join together as one body in worship! \n\n\n\nFree and open to the public.
URL:https://murdockbaptistchurch.org/event/glory-forever/
LOCATION:Main Stage\, Worship Center\, 18375 Cochran Boulevard\, Port Charlote\, Florida\, 33948
CATEGORIES:Special Events
ATTACH;FMTTYPE=image/jpeg:https://murdockbaptistchurch.org/wp-content/uploads/2024/07/ResizerImage1209X806_denver-1024x683-1.jpg
END:VEVENT
BEGIN:VEVENT
DTSTART;TZID=America/New_York:20240811T093000
DTEND;TZID=America/New_York:20240811T120000
DTSTAMP:20260424T204927
CREATED:20240605T141054Z
LAST-MODIFIED:20240605T141101Z
UID:10008221-1723368600-1723377600@murdockbaptistchurch.org
SUMMARY:WATER DAY!!
DESCRIPTION:Water day for preschool and children’s church aged kids. \n\n\n\n \n\n\n\nParents make sure your child comes prepared with modest swimwear\, sunscreen\, goggles\, towel and dry clothes.
URL:https://murdockbaptistchurch.org/event/water-day/
ATTACH;FMTTYPE=image/jpeg:https://murdockbaptistchurch.org/wp-content/uploads/2024/06/IMG_9799-rotated.jpg
END:VEVENT
BEGIN:VEVENT
DTSTART;TZID=America/New_York:20240807T173000
DTEND;TZID=America/New_York:20240807T183000
DTSTAMP:20260424T204927
CREATED:20240729T135823Z
LAST-MODIFIED:20240729T141416Z
UID:10008332-1723051800-1723055400@murdockbaptistchurch.org
SUMMARY:AWANA Meeting for ALL Leaders
DESCRIPTION:This meeting is for all Listeners\, Teachers and Helpers\, whether you have served before or are new! Come if you have already signed up to serve or are interested in learning more.
URL:https://murdockbaptistchurch.org/event/awana-meeting-for-all-leaders/
LOCATION:Student Building B\, 18375 Cochran Boulevard\, Port Charlotte\, Florida\, 33948\, United States
CATEGORIES:Special Events
ATTACH;FMTTYPE=image/jpeg:https://murdockbaptistchurch.org/wp-content/uploads/2023/05/awana-clubs-logo2.jpg
END:VEVENT
BEGIN:VEVENT
DTSTART;TZID=America/New_York:20240805T124500
DTEND;TZID=America/New_York:20240805T141500
DTSTAMP:20260424T204927
CREATED:20240603T180348Z
LAST-MODIFIED:20240603T180401Z
UID:10008062-1722861900-1722867300@murdockbaptistchurch.org
SUMMARY:Prayer Shawl Ministry
DESCRIPTION:Do you like to knit\, crochet and fellowship? Join us on the 1st & 3rd Monday of each month.Our shawls are made and given to comfort those who are going through a tough time. Whether it bepersonal or family illness\, loss of loved one\, or a multitude of reasons\, to let them know God loves them and that we are praying for them.
URL:https://murdockbaptistchurch.org/event/prayer-shawl-ministry-2/2024-08-05/
END:VEVENT
BEGIN:VEVENT
DTSTART;TZID=America/New_York:20240731T180000
DTEND;TZID=America/New_York:20240731T190000
DTSTAMP:20260424T204927
CREATED:20240729T132405Z
LAST-MODIFIED:20240729T132425Z
UID:10008331-1722448800-1722452400@murdockbaptistchurch.org
SUMMARY:PraiSing Spaghetti Dinner
DESCRIPTION:Join us for our fourth annual PraiSing\, a fun\, family night of dinner and music! All are welcome!
URL:https://murdockbaptistchurch.org/event/praising-spaghetti-dinner/
LOCATION:Main Building A\, Fellowship Hall\, 18375 Cochran Boulevard\, Port Charlotte\, Florida\, 33948\, United States
CATEGORIES:Special Events
ATTACH;FMTTYPE=image/jpeg:https://murdockbaptistchurch.org/wp-content/uploads/2024/07/Easyspaghettiwithtomatosauce_11715_DDMFS_1x2_2425-c67720e4ea884f22a852f0bb84a87a80.jpg
END:VEVENT
BEGIN:VEVENT
DTSTART;TZID=America/New_York:20240731T174500
DTEND;TZID=America/New_York:20240731T191500
DTSTAMP:20260424T204927
CREATED:20230214T042045Z
LAST-MODIFIED:20231228T051507Z
UID:10007435-1722447900-1722453300@murdockbaptistchurch.org
SUMMARY:Youth Bible Study
DESCRIPTION:Wednesday night Bible study that meets at the student building from 5:45-7:15 p.m. During this time the students will be involved in a large group teaching time\, age appropriate small groups\, games and musical worship. 
URL:https://murdockbaptistchurch.org/event/youth-bible-study/2024-07-31/
LOCATION:Student Building B\, 18375 Cochran Boulevard\, Port Charlotte\, Florida\, 33948\, United States
CATEGORIES:Student Ministry
ATTACH;FMTTYPE=image/jpeg:https://murdockbaptistchurch.org/wp-content/uploads/2023/02/youthgroup-ministry-event.jpg
END:VEVENT
BEGIN:VEVENT
DTSTART;TZID=America/New_York:20240730T180000
DTEND;TZID=America/New_York:20240730T193000
DTSTAMP:20260424T204927
CREATED:20240102T024841Z
LAST-MODIFIED:20240102T025027Z
UID:10006678-1722362400-1722367800@murdockbaptistchurch.org
SUMMARY:Men's Tuesday Night Bible Study
DESCRIPTION:Led by Allen Zeck \n\n\n\nReady to take your spiritual growth to the next level? Join with us as and go deep into the inspired Word of God.
URL:https://murdockbaptistchurch.org/event/mens-tuesday-night-bible-study-3/2024-07-30/
LOCATION:Fellowship Hall
CATEGORIES:Bible Study - In-person,Men’s Bible Study
ATTACH;FMTTYPE=image/jpeg:https://murdockbaptistchurch.org/wp-content/uploads/2022/12/bible-study.jpg
END:VEVENT
BEGIN:VEVENT
DTSTART;TZID=America/New_York:20240729T190000
DTEND;TZID=America/New_York:20240729T200000
DTSTAMP:20260424T204927
CREATED:20230104T212327Z
LAST-MODIFIED:20231228T052609Z
UID:10007495-1722279600-1722283200@murdockbaptistchurch.org
SUMMARY:Pressing On Life Group
DESCRIPTION:Led by Ray North \n\n\n\nWe’re a mixed group currently studying the gospel of Mark. \n\n\n\nDiscussion is encouraged and we welcome both new to the Faith and mature believers to participate.  \n\n\n\nThis is a Zoom meeting only.
URL:https://murdockbaptistchurch.org/event/pressing-on-life-group/2024-07-29/
LOCATION:Zoom Only
CATEGORIES:Life Groups,Pressing On
ATTACH;FMTTYPE=image/jpeg:https://murdockbaptistchurch.org/wp-content/uploads/2023/01/zoom-only-image.jpg
END:VEVENT
BEGIN:VEVENT
DTSTART;TZID=America/New_York:20240729T183000
DTEND;TZID=America/New_York:20240729T193000
DTSTAMP:20260424T204927
CREATED:20230104T213058Z
LAST-MODIFIED:20231228T052558Z
UID:10007465-1722277800-1722281400@murdockbaptistchurch.org
SUMMARY:Monday Night Life! Life Group
DESCRIPTION:Led by Elmer Yeager \n\n\n\nThis class is a diverse group with married couples\, singles and widows from teens to 80’s. \n\n\n\nIf you’re looking for an in-depth line by line Bible study\, this is for you. Monday Lite is geared toward those who may not be able to attend a class on Sunday morning\, but everyone is welcome. \n\n\n\nIf interested\, please feel free to contact Elmer Yeager\, 941-426-7634 or at Elmer.Yeager@comcast.net.
URL:https://murdockbaptistchurch.org/event/monday-night-life-life-group/2024-07-29/
LOCATION:Main Building A\, Fellowship Hall\, 18375 Cochran Boulevard\, Port Charlotte\, Florida\, 33948\, United States
CATEGORIES:Life Groups,Monday Night Life
ATTACH;FMTTYPE=image/jpeg:https://murdockbaptistchurch.org/wp-content/uploads/2023/05/monday-night-life-group4-900x600-1.jpg
END:VEVENT
BEGIN:VEVENT
DTSTART;TZID=America/New_York:20240728T110000
DTEND;TZID=America/New_York:20240728T120000
DTSTAMP:20260424T204927
CREATED:20230104T211634Z
LAST-MODIFIED:20231228T050536Z
UID:10007380-1722164400-1722168000@murdockbaptistchurch.org
SUMMARY:Stepping Up Life Group
DESCRIPTION:Led by Jack Pipp \n\n\n\nYoung families stepping up! A discussion centered small group of married couples with preschool and school age children. \n\n\n\nIf interested\, please feel free to contact: Jack Pipp\, 941-204-8622 or at jack39pipp@gmail.com.
URL:https://murdockbaptistchurch.org/event/stepping-up-life-group/2024-07-28/
LOCATION:Room 107\, 18375 Cochran Boulevard\, Port Charlotte\, Florida\, 33948\, United States
CATEGORIES:Life Groups,Stepping Up
ATTACH;FMTTYPE=image/jpeg:https://murdockbaptistchurch.org/wp-content/uploads/2023/01/steppping-up-event-calendar.jpg
END:VEVENT
BEGIN:VEVENT
DTSTART;TZID=America/New_York:20240728T110000
DTEND;TZID=America/New_York:20240728T120000
DTSTAMP:20260424T204927
CREATED:20230104T211103Z
LAST-MODIFIED:20231228T050451Z
UID:10007350-1722164400-1722168000@murdockbaptistchurch.org
SUMMARY:Ambassadors for Christ Life Group
DESCRIPTION:Led by John Mangione \n\n\n\n2 Corinthians 5:20 tells us that we are Ambassadors for Christ. \n\n\n\nGod can use you to make His appeal to your friends\, family to coworkers\, and neighbors. This class consists of couples and individuals who desire to go deeper in their personal journey. \n\n\n\nIf interested\, please feel free to contact John Mangione\, 941-330-7857 or at amangione46@gmail.com.
URL:https://murdockbaptistchurch.org/event/ambassadors-for-christ-life-group/2024-07-28/
LOCATION:Rooms 104-105\, 18375 Cochran Boulevard\, Port Charlotte\, Florida\, 33948\, United States
CATEGORIES:Ambassadors for Christ,Life Groups
ATTACH;FMTTYPE=image/jpeg:https://murdockbaptistchurch.org/wp-content/uploads/2023/05/ambassadors-slider3.jpg
END:VEVENT
BEGIN:VEVENT
DTSTART;TZID=America/New_York:20240728T110000
DTEND;TZID=America/New_York:20240728T120000
DTSTAMP:20260424T204927
CREATED:20230104T210430Z
LAST-MODIFIED:20231228T050123Z
UID:10007320-1722164400-1722168000@murdockbaptistchurch.org
SUMMARY:Among Friends Life Group
DESCRIPTION:Led by Darryl Denson \n\n\n\nAn interactive Bible study for adults of all ages. There is only one book you can open and the author shows up.  We focus on topical discussion and Bible application. When you are Among Friends\, you’re invited to share and ask questions. \n\n\n\nIf interested in joining\, please feel free to contact Darryl Denson\, 1-941-769-9876 or at sundancebuild@comcast.net.
URL:https://murdockbaptistchurch.org/event/among-friends-life-group/2024-07-28/
LOCATION:Rooms 101-102\, 18375 Cochran Boulevard\, Port Charlotte\, Florida\, 33948\, United States
CATEGORIES:Among Friends,Life Groups
ATTACH;FMTTYPE=image/jpeg:https://murdockbaptistchurch.org/wp-content/uploads/2023/01/among-friends1.jpg
END:VEVENT
END:VCALENDAR