BEGIN:VCALENDAR
VERSION:2.0
PRODID:-//Murdock Baptist Church - ECPv6.15.20//NONSGML v1.0//EN
CALSCALE:GREGORIAN
METHOD:PUBLISH
X-WR-CALNAME:Murdock Baptist Church
X-ORIGINAL-URL:https://murdockbaptistchurch.org
X-WR-CALDESC:Events for Murdock Baptist Church
REFRESH-INTERVAL;VALUE=DURATION:PT1H
X-Robots-Tag:noindex
X-PUBLISHED-TTL:PT1H
BEGIN:VTIMEZONE
TZID:America/New_York
BEGIN:DAYLIGHT
TZOFFSETFROM:-0500
TZOFFSETTO:-0400
TZNAME:EDT
DTSTART:20240310T070000
END:DAYLIGHT
BEGIN:STANDARD
TZOFFSETFROM:-0400
TZOFFSETTO:-0500
TZNAME:EST
DTSTART:20241103T060000
END:STANDARD
BEGIN:DAYLIGHT
TZOFFSETFROM:-0500
TZOFFSETTO:-0400
TZNAME:EDT
DTSTART:20250309T070000
END:DAYLIGHT
BEGIN:STANDARD
TZOFFSETFROM:-0400
TZOFFSETTO:-0500
TZNAME:EST
DTSTART:20251102T060000
END:STANDARD
BEGIN:DAYLIGHT
TZOFFSETFROM:-0500
TZOFFSETTO:-0400
TZNAME:EDT
DTSTART:20260308T070000
END:DAYLIGHT
BEGIN:STANDARD
TZOFFSETFROM:-0400
TZOFFSETTO:-0500
TZNAME:EST
DTSTART:20261101T060000
END:STANDARD
END:VTIMEZONE
BEGIN:VTIMEZONE
TZID:UTC
BEGIN:STANDARD
TZOFFSETFROM:+0000
TZOFFSETTO:+0000
TZNAME:UTC
DTSTART:20240101T000000
END:STANDARD
END:VTIMEZONE
BEGIN:VEVENT
DTSTART;TZID=America/New_York:20250626T100000
DTEND;TZID=America/New_York:20250626T120000
DTSTAMP:20260424T114337
CREATED:20250610T210150Z
LAST-MODIFIED:20250610T211514Z
UID:10008851-1750932000-1750939200@murdockbaptistchurch.org
SUMMARY:Ladies Quilting Group
DESCRIPTION:Join the Bobbin Along ladies quilting group on the 2nd & 4th Thursday of each month from 10-12 in Building B\, Room A. \n\n\n\nIf you’ve always wanted to learn how to quilt or you have been quilting for years\, please join us! For more information contact Debbie Eritz at 234-567-3686.
URL:https://murdockbaptistchurch.org/event/ladies-quilting-group-3/2025-06-26/
LOCATION:Student Building\, Room A\, 18375 Cochran Boulevard\, Port Charlotte\, Florida\, 33948
CATEGORIES:Ministries,Special Events,Women's Ministry
ATTACH;FMTTYPE=image/jpeg:https://murdockbaptistchurch.org/wp-content/uploads/2024/06/quilting-images.jpg
END:VEVENT
BEGIN:VEVENT
DTSTART;TZID=America/New_York:20250628T080000
DTEND;TZID=America/New_York:20250628T100000
DTSTAMP:20260424T114337
CREATED:20250507T143219Z
LAST-MODIFIED:20250507T183406Z
UID:10008768-1751097600-1751104800@murdockbaptistchurch.org
SUMMARY:Men's Saturday Morning Prayer Gathering
DESCRIPTION:A time dedicated to prayer\, worship & fellowship!
URL:https://murdockbaptistchurch.org/event/saturday-morning-prayer-gathering/2025-06-28/
CATEGORIES:Barnabas Men’s Group,Men's Ministry,Ministries,Special Events
END:VEVENT
BEGIN:VEVENT
DTSTART;TZID=America/New_York:20250628T180000
DTEND;TZID=America/New_York:20250628T200000
DTSTAMP:20260424T114337
CREATED:20250623T190537Z
LAST-MODIFIED:20250623T191103Z
UID:10008854-1751133600-1751140800@murdockbaptistchurch.org
SUMMARY:Wednesday Night Summer - MOVIE Night
DESCRIPTION:Join us for movie night this Wednesday at 6 p.m. The heavens are telling the glory of God\, and their expanse declares the work of His hands. \n\n\n\nIndescribable takes us on an image-rich journey through the cosmos\, allowing us to peer into God’s universe to discover the amazing magnitude of His greatness and grace.
URL:https://murdockbaptistchurch.org/event/wednesday-night-summer-movie-night/
LOCATION:Main Building A\, Fellowship Hall\, 18375 Cochran Boulevard\, Port Charlotte\, Florida\, 33948\, United States
CATEGORIES:Special Events
ATTACH;FMTTYPE=image/jpeg:https://murdockbaptistchurch.org/wp-content/uploads/2022/12/FAMILYMOVIENIGHTPROSPERUMC_5E816A00.jpg
END:VEVENT
BEGIN:VEVENT
DTSTART;TZID=America/New_York:20250629T080000
DTEND;TZID=America/New_York:20250629T090000
DTSTAMP:20260424T114337
CREATED:20230522T190032Z
LAST-MODIFIED:20240919T215351Z
UID:10008535-1751184000-1751187600@murdockbaptistchurch.org
SUMMARY:Climbing Higher Life Group
DESCRIPTION:Led by Terry Shippy \n\n\n\nThis class offers a discussion-driven\, critical-thinking approach to the exploration of specific books of the Bible. \n\n\n\nWe are a joy filled\, supportive group of adults from all walks and age groups! \n\n\n\nIf interested in joining\, please feel free to contact Terry Shippy\, 1-941-716-4221 or at shippy@comcast.net.
URL:https://murdockbaptistchurch.org/event/climbing-higher-life-group-2/2025-06-29/
LOCATION:Rooms 103/104
CATEGORIES:Climbing Higher,Life Groups
ATTACH;FMTTYPE=image/jpeg:https://murdockbaptistchurch.org/wp-content/uploads/2023/01/climbing-higher-life-group3-copy.jpg
END:VEVENT
BEGIN:VEVENT
DTSTART;TZID=America/New_York:20250629T110000
DTEND;TZID=America/New_York:20250629T120000
DTSTAMP:20260424T114337
CREATED:20230104T205541Z
LAST-MODIFIED:20240919T220440Z
UID:10008639-1751194800-1751198400@murdockbaptistchurch.org
SUMMARY:"God's Garden" Life Group
DESCRIPTION:Led by Lori Lynch \n\n\n\nWomen of different ages\, circumstances and life stages joining together to explore God’s Word and “Grow in HIS Love”. \n\n\n\nIsiah 61:11 \n\n\n\nCome see what God wants to say to you. \n\n\n\nIf interested in joining\, feel free to contact Lori Lynch\, 1-941-628-8805 or at LynchL12000@icloud.com.
URL:https://murdockbaptistchurch.org/event/gods-garden-life-group/2025-06-29/
LOCATION:Building A\, Room 106-107
CATEGORIES:God's Garden,Life Groups
ATTACH;FMTTYPE=image/jpeg:https://murdockbaptistchurch.org/wp-content/uploads/2023/01/gods-garden-calendar-event.jpg
END:VEVENT
BEGIN:VEVENT
DTSTART;TZID=America/New_York:20250629T110000
DTEND;TZID=America/New_York:20250629T120000
DTSTAMP:20260424T114337
CREATED:20230104T214220Z
LAST-MODIFIED:20240919T215944Z
UID:10008587-1751194800-1751198400@murdockbaptistchurch.org
SUMMARY:Armored Disciples Life Group
DESCRIPTION:Led by Troy Dueboay \n\n\n\nFor younger couples and others wanting to grow in the grace and knowledge of our Lord and Savior.  \n\n\n\n2 Peter 3:18  \n\n\n\nIf interested please feel free to contact: Troy Dueboay\, 9441-661-1883 or at quietmanduke3@hotmail.com.
URL:https://murdockbaptistchurch.org/event/armored-disciples-life-group/2025-06-29/
LOCATION:Main Building\, Room #105
CATEGORIES:Armored Disciples,Life Groups
ATTACH;FMTTYPE=image/jpeg:https://murdockbaptistchurch.org/wp-content/uploads/2023/08/lifegroup-armored-discipleshero2.jpg
END:VEVENT
BEGIN:VEVENT
DTSTART;TZID=America/New_York:20250629T163000
DTEND;TZID=America/New_York:20250629T183000
DTSTAMP:20260424T114337
CREATED:20250623T191720Z
LAST-MODIFIED:20250623T191733Z
UID:10008855-1751214600-1751221800@murdockbaptistchurch.org
SUMMARY:Family Fellowship for Parents\, Kids & Young Adults
DESCRIPTION:Join us for a Potluck supper in the Fellowship Hall\, Sunday\, June 29th from 4:30 – 6:30 p.m. \n\n\n\nSign-ups are available in the lobby of Buildings B & C.
URL:https://murdockbaptistchurch.org/event/family-fellowship-for-parents-kids-young-adults-2/
LOCATION:Main Building A\, Fellowship Hall\, 18375 Cochran Boulevard\, Port Charlotte\, Florida\, 33948\, United States
CATEGORIES:Special Events
ATTACH;FMTTYPE=image/jpeg:https://murdockbaptistchurch.org/wp-content/uploads/2023/05/potluck.jpg
END:VEVENT
BEGIN:VEVENT
DTSTART;TZID=America/New_York:20250630T080000
DTEND;TZID=America/New_York:20250630T090000
DTSTAMP:20260424T114337
CREATED:20231016T160555Z
LAST-MODIFIED:20240919T220716Z
UID:10008692-1751270400-1751274000@murdockbaptistchurch.org
SUMMARY:Barnabas Men's Group
DESCRIPTION:Join us for our Monday morning sermon debrief. \n\n\nWe look forward to seeing you there!
URL:https://murdockbaptistchurch.org/event/barnabas-mens-group-2/2025-06-30/
LOCATION:Fellowship Hall
CATEGORIES:Barnabas Men’s Group,Ministries
ATTACH;FMTTYPE=image/jpeg:https://murdockbaptistchurch.org/wp-content/uploads/2023/01/mens-bible.jpg
END:VEVENT
BEGIN:VEVENT
DTSTART;TZID=America/New_York:20250630T081500
DTEND;TZID=America/New_York:20250704T170000
DTSTAMP:20260424T114337
CREATED:20250328T174349Z
LAST-MODIFIED:20260418T032127Z
UID:10008757-1751271300-1751648400@murdockbaptistchurch.org
SUMMARY:WinShape Camps: The Ultimate Day Camp for Kids
DESCRIPTION:WinShape Camps is returning to the campus of Family Christian Academy in Port Charlotte\, June 30th – July 4th\, 2025. $205 per child\, completed kindergarden – 5th grade.  \n\n\n\nFor more information scan the QR code or go to www.winshapeportcharlotte.com.
URL:https://murdockbaptistchurch.org/event/winshape-camps-the-ultimate-day-camp-for-kids/
LOCATION:Family Christian Academy\, 20035 Quesada Avenue\, Port Charlotte\, 33952\, United States
CATEGORIES:Children's Ministry,Ministries,Outside Events,Preschool Ministry,Special Events,Student Ministry,Winshape
ATTACH;FMTTYPE=image/webp:https://murdockbaptistchurch.org/wp-content/uploads/2024/03/winshape-camp12.webp
END:VEVENT
BEGIN:VEVENT
DTSTART;TZID=America/New_York:20250701T180000
DTEND;TZID=America/New_York:20250701T190000
DTSTAMP:20260424T114337
CREATED:20240923T132823Z
LAST-MODIFIED:20240923T132842Z
UID:10008736-1751392800-1751396400@murdockbaptistchurch.org
SUMMARY:Men's Tuesday Bible Study
DESCRIPTION:Men\, join us for bible study on Tuesday evenings.
URL:https://murdockbaptistchurch.org/event/mens-tuesday-bible-study/2025-07-01/
LOCATION:Building A\, Room 106-107
CATEGORIES:Barnabas Men’s Group,Bible Study - In-person,Ministries
ATTACH;FMTTYPE=image/jpeg:https://murdockbaptistchurch.org/wp-content/uploads/2022/12/mens-ministry-page.jpg
END:VEVENT
BEGIN:VEVENT
DTSTART;TZID=America/New_York:20250706T083000
DTEND;TZID=America/New_York:20250706T110000
DTSTAMP:20260424T114337
CREATED:20230912T141357Z
LAST-MODIFIED:20230912T141410Z
UID:10006015-1751790600-1751799600@murdockbaptistchurch.org
SUMMARY:Jesus Loves You Ministry Donation Trailer Here!
DESCRIPTION:JLY is a mobile outreach to the homeless.  Their donation trailer is on the church campus the 1st Sunday of the month before and after service.  They accept items of all kinds. (Clean clothing\, housewares\, gardening tools\, pictures\, linens\, small furniture\, etc.)
URL:https://murdockbaptistchurch.org/event/jesus-loves-you-ministry-donation-trailer-here-3/2025-07-06/
CATEGORIES:Jesus Loves You Ministry,Special Events
ATTACH;FMTTYPE=image/jpeg:https://murdockbaptistchurch.org/wp-content/uploads/2023/05/Jesus-loves-you-ministry-1.jpg
END:VEVENT
BEGIN:VEVENT
DTSTART;TZID=America/New_York:20250706T110000
DTEND;TZID=America/New_York:20250706T113000
DTSTAMP:20260424T114337
CREATED:20250623T192804Z
LAST-MODIFIED:20250623T192815Z
UID:10008856-1751799600-1751801400@murdockbaptistchurch.org
SUMMARY:Cuba Interest Meetings
DESCRIPTION:We are going back to Camajuani\, Cuba on November 15 through the 22nd. At this meeting\, we will discuss the trip details\, including children’s\, women’s\, and preaching ministries\, pre-arranged house visits\, food\, sleeping arrangements\, costs\, travel logistics\, and any other aspects of the trip you may have questions about. Attendance does not obligate you in any way – you are welcome to join us even if you’re simply curious about Cuba missions.  \n\n\n\nAt this meeting\, you may pick up an application which will be due on August 3\, 2025. Questions? Call or text Gordon Caldwell (941) 661-0446.
URL:https://murdockbaptistchurch.org/event/cuba-interest-meetings/2025-07-06/1/
LOCATION:Main Building A\, Fellowship Hall\, 18375 Cochran Boulevard\, Port Charlotte\, Florida\, 33948\, United States
CATEGORIES:Special Events
ATTACH;FMTTYPE=image/png:https://murdockbaptistchurch.org/wp-content/uploads/2024/06/cuba-report.png
END:VEVENT
BEGIN:VEVENT
DTSTART;TZID=UTC:20250706T110000
DTEND;TZID=UTC:20250706T120000
DTSTAMP:20260424T114337
CREATED:20221213T234818Z
LAST-MODIFIED:20250728T195225Z
UID:10001093-1751799600-1751803200@murdockbaptistchurch.org
SUMMARY:New Members Class
DESCRIPTION:Are you interested in becoming a member? Or perhaps you have questions? Join us today after service in the Sanctuary for this informative class.
URL:https://murdockbaptistchurch.org/event/new-members-class/2025-07-06/
CATEGORIES:New Members,Special Events
ATTACH;FMTTYPE=image/jpeg:https://murdockbaptistchurch.org/wp-content/uploads/2023/05/church-members.jpg
END:VEVENT
BEGIN:VEVENT
DTSTART;TZID=America/New_York:20250706T170000
DTEND;TZID=America/New_York:20250706T193000
DTSTAMP:20260424T114337
CREATED:20250205T022517Z
LAST-MODIFIED:20250205T024239Z
UID:10008754-1751821200-1751830200@murdockbaptistchurch.org
SUMMARY:NextGen Sunday Night Worship
DESCRIPTION:Held on the first Sunday of every month from 5:00 PM to 7:30 PM\, this exciting event brings together middle schoolers\, high schoolers\, and college students for a powerful evening of Bible study\, musical worship\, food\, and fellowship. Whether you’re new to the faith or have been walking with Jesus for years\, there’s a place for you here. \n\n\n\nLearn More\n\n\n\nHow to Get Involved\n\n\n\nGot questions or want to learn more? Reach out to Bryan Skupin\, our dedicated leader\, for more information and how you can get plugged in. He’d love to help you take the next step in your faith journey. \n\n\n\nContact Bryan at bryan@murdockbaptistchurch.com. \n\n\n\nCome join us on the first Sunday of the month for an evening of worship\, learning\, and fellowship. We can’t wait to see you there!
URL:https://murdockbaptistchurch.org/event/nextgen-sunday-night-worship-2/2025-07-06/
LOCATION:Student Building B\, 18375 Cochran Boulevard\, Port Charlotte\, Florida\, 33948\, United States
CATEGORIES:Special Events,Student Ministry
ATTACH;FMTTYPE=image/webp:https://murdockbaptistchurch.org/wp-content/uploads/2025/02/NextGen1.webp
END:VEVENT
BEGIN:VEVENT
DTSTART;TZID=America/New_York:20250708T140000
DTEND;TZID=America/New_York:20250708T153000
DTSTAMP:20260424T114337
CREATED:20240603T181850Z
LAST-MODIFIED:20240603T182159Z
UID:10008133-1751983200-1751988600@murdockbaptistchurch.org
SUMMARY:Neuro-Challenge (Parkinson's Support Group)
DESCRIPTION:Student Building
URL:https://murdockbaptistchurch.org/event/neuro-challenge-parkinsons-support-group/2025-07-08/
END:VEVENT
BEGIN:VEVENT
DTSTART;TZID=America/New_York:20250727T163000
DTEND;TZID=America/New_York:20250727T183000
DTSTAMP:20260424T114337
CREATED:20250721T140523Z
LAST-MODIFIED:20250721T140537Z
UID:10008858-1753633800-1753641000@murdockbaptistchurch.org
SUMMARY:Family Fellowship for Parents\, Kids & Young Adults
DESCRIPTION:Join us for a Potluck supper in the Feloowship Hall.
URL:https://murdockbaptistchurch.org/event/family-fellowship-for-parents-kids-young-adults-3/
LOCATION:Student Buildings B & C
CATEGORIES:Special Events
ATTACH;FMTTYPE=image/jpeg:https://murdockbaptistchurch.org/wp-content/uploads/2023/05/potluck.jpg
END:VEVENT
BEGIN:VEVENT
DTSTART;TZID=America/New_York:20250806T170000
DTEND;TZID=America/New_York:20250806T180000
DTSTAMP:20260424T114337
CREATED:20250728T195622Z
LAST-MODIFIED:20260418T030046Z
UID:10008896-1754499600-1754503200@murdockbaptistchurch.org
SUMMARY:AWANA  Meeting for ALL Leaders
DESCRIPTION:This meeting is for everyone: listeners\, teachers\, helpers – those who’ve served before and those serving for the first time. Already signed up to serve or interested in learning more? Plan to come to this meeting.
URL:https://murdockbaptistchurch.org/event/awana-meeting-for-all-leaders-2/
LOCATION:Student Building B\, 18375 Cochran Boulevard\, Port Charlotte\, Florida\, 33948\, United States
CATEGORIES:AWANA Clubs,Children's Ministry,Ministries,Preschool Ministry,Special Events,Student Ministry
ATTACH;FMTTYPE=image/jpeg:https://murdockbaptistchurch.org/wp-content/uploads/2023/05/awana-logo-cropped.jpg
END:VEVENT
BEGIN:VEVENT
DTSTART;TZID=America/New_York:20250806T180000
DTEND;TZID=America/New_York:20250806T193000
DTSTAMP:20260424T114337
CREATED:20250721T141115Z
LAST-MODIFIED:20250721T144932Z
UID:10008859-1754503200-1754508600@murdockbaptistchurch.org
SUMMARY:GriefShare: Hope and Healing After the Loss of a Loved One
DESCRIPTION:You will find a warm\, caring environment and view your group as an “oasis” on your journey through grief. If you have questions today\, meet your facilitators in the Fellowship Hall after service or contactthe church office at (941) 627-6352.
URL:https://murdockbaptistchurch.org/event/griefshare-hope-and-healing-after-the-loss-of-a-loved-one/2025-08-06/
LOCATION:Rooms 101-102\, 18375 Cochran Boulevard\, Port Charlotte\, Florida\, 33948\, United States
CATEGORIES:Barnabas Men’s Group,Good Grief,Men's Ministry,Special Events,Women's Ministry
ATTACH;FMTTYPE=image/jpeg:https://murdockbaptistchurch.org/wp-content/uploads/2023/05/grief-spouse.jpg
END:VEVENT
BEGIN:VEVENT
DTSTART;TZID=America/New_York:20250812T140000
DTEND;TZID=America/New_York:20250812T153000
DTSTAMP:20260424T114337
CREATED:20240603T181850Z
LAST-MODIFIED:20240603T182159Z
UID:10008134-1755007200-1755012600@murdockbaptistchurch.org
SUMMARY:Neuro-Challenge (Parkinson's Support Group)
DESCRIPTION:Student Building
URL:https://murdockbaptistchurch.org/event/neuro-challenge-parkinsons-support-group/2025-08-12/
END:VEVENT
BEGIN:VEVENT
DTSTART;TZID=America/New_York:20250813T180000
DTEND;TZID=America/New_York:20250813T193000
DTSTAMP:20260424T114337
CREATED:20250728T200350Z
LAST-MODIFIED:20250804T154437Z
UID:10008897-1755108000-1755113400@murdockbaptistchurch.org
SUMMARY:Got Talent? PraiSing Event
DESCRIPTION:Sign up to participate in this year’s PraiSing event\, August 13th at 6 pm. This will be a family dinner time where you are able to share a talent\, song\, or dramatic reading that honors the Lord and would be a blessing to the church. Actively participate in “..teaching and admonishing one another with songs\, hymns and spiritual songs\, singing with thankfulness in your hearts to God“. Colossians 3:16 \n\n\n\nSign up in the Fellowship Hall or email Pastor Michael at Michael@murdockbaptistchurch.com.
URL:https://murdockbaptistchurch.org/event/got-talent/
CATEGORIES:Special Events
ATTACH;FMTTYPE=image/jpeg:https://murdockbaptistchurch.org/wp-content/uploads/2023/12/christmas-concert.jpg
END:VEVENT
BEGIN:VEVENT
DTSTART;TZID=America/New_York:20250815T180000
DTEND;TZID=America/New_York:20250815T190000
DTSTAMP:20260424T114337
CREATED:20250804T155456Z
LAST-MODIFIED:20250805T180226Z
UID:10008905-1755280800-1755284400@murdockbaptistchurch.org
SUMMARY:Total Body Worship
DESCRIPTION:Murdock Women join us in the Fellowship Hall on the third Friday of every month from 6-7 p.m.\,beginning August 15th. \n\n\n\nTina Melik and Nancy Cowan will lead us in movement\, drumming and a good workout\, as we worship to fabulous praise music together. Come and bring a friend! There is no cost for this.
URL:https://murdockbaptistchurch.org/event/total-body-worship/2025-08-15/
LOCATION:Main Building A\, Fellowship Hall\, 18375 Cochran Boulevard\, Port Charlotte\, Florida\, 33948\, United States
CATEGORIES:God's Garden,Life Groups,Ministries,Special Events,Women's Ministry
ATTACH;FMTTYPE=image/jpeg:https://murdockbaptistchurch.org/wp-content/uploads/2025/08/t1larg.jpg
END:VEVENT
BEGIN:VEVENT
DTSTART;TZID=America/New_York:20250819T113000
DTEND;TZID=America/New_York:20250819T130000
DTSTAMP:20260424T114337
CREATED:20250804T153801Z
LAST-MODIFIED:20250804T153819Z
UID:10008903-1755603000-1755608400@murdockbaptistchurch.org
SUMMARY:Connection Luncheon
DESCRIPTION:The Connection is a MBC Ministry to ALL widows\, and single or divorced ladies over the age of 60 years young. \n\n\n\nTo reserve your seat\, please call the church office at 941-627-6352.
URL:https://murdockbaptistchurch.org/event/connection-luncheon-5/
LOCATION:Main Building A\, Fellowship Hall\, 18375 Cochran Boulevard\, Port Charlotte\, Florida\, 33948\, United States
CATEGORIES:God's Garden,Ladies Bible Study,Ministries,Special Events,Women's Ministry
ATTACH;FMTTYPE=image/jpeg:https://murdockbaptistchurch.org/wp-content/uploads/2023/11/christmas-luncheon.jpg
END:VEVENT
BEGIN:VEVENT
DTSTART;TZID=America/New_York:20250820T174500
DTEND;TZID=America/New_York:20250820T190000
DTSTAMP:20260424T114337
CREATED:20250728T204944Z
LAST-MODIFIED:20260418T030010Z
UID:10008899-1755711900-1755716400@murdockbaptistchurch.org
SUMMARY:AWANA Kick-Off: Pop Back to AWANA!
DESCRIPTION:Our family kick off event is August 20th at 5:45. There will be carnival games\, a juggler/magician and popcorn! \n\n\n\nParents are to stay with their kids this night\, it’s a family event!  \n\n\n\nAny parents that are interested in registering your children\, can register online or in person at this kick-off event. \n\n\n\nIf your interested in volunteering\, click here to learn how. \n\n\n\nAny questions\, please contact Karrie Anderson via email or call 352-672-2223.
URL:https://murdockbaptistchurch.org/event/awana-kick-off-pop-back-to-awana/
LOCATION:Student Building B\, 18375 Cochran Boulevard\, Port Charlotte\, Florida\, 33948\, United States
CATEGORIES:AWANA Clubs,Children's Ministry,Ministries,Preschool Ministry,Special Events
ATTACH;FMTTYPE=image/jpeg:https://murdockbaptistchurch.org/wp-content/uploads/2023/08/IMG_5901-copy.jpg
ORGANIZER;CN="Murdock Baptist Church":MAILTO:office@murdockbaptistchurch.com
END:VEVENT
BEGIN:VEVENT
DTSTART;TZID=America/New_York:20250823T093000
DTEND;TZID=America/New_York:20250823T120000
DTSTAMP:20260424T114337
CREATED:20250804T154230Z
LAST-MODIFIED:20250804T154242Z
UID:10008904-1755941400-1755950400@murdockbaptistchurch.org
SUMMARY:Fall Choir Launch Event
DESCRIPTION:Join us as we introduce all of our Fall music and look at some music in preparation for our Christmas Outreach event in December. If you have ever sun in a choir\, wanted to sing in a choir\, or have been told you should sing in a choir\, come out for a great time of fellowship and dive into some new music. You are invited.
URL:https://murdockbaptistchurch.org/event/fall-choir-launch-event/
LOCATION:Worship Center\, Room 104
CATEGORIES:Special Events
ATTACH;FMTTYPE=image/jpeg:https://murdockbaptistchurch.org/wp-content/uploads/2023/12/christmas-concert.jpg
END:VEVENT
BEGIN:VEVENT
DTSTART;TZID=America/New_York:20250827T174500
DTEND;TZID=America/New_York:20250827T191500
DTSTAMP:20260424T114337
CREATED:20250728T203716Z
LAST-MODIFIED:20260418T030028Z
UID:10008898-1756316700-1756322100@murdockbaptistchurch.org
SUMMARY:AWANA Club starts
DESCRIPTION:Club involves memorizing Bible verses\, age graded Bible lessons and game time.\n\n\n\nAges 3-6th grade only.  \n\n\n\nLearning and memorizing Scripture each week helps children know the Gospel\, study God’s Word and believe what it says about life. We pray that children grow a deep and lasting faith. \n\n\n\nChildren also have fun with their peers build relationships with their listeners\, and have a blast during games! \n\n\n\nPlease note: We currently don’t have a 2 year old class\, this year. So Cubbies is 3-5 year olds\, Sparks are K-2nd grade\, T&T is 3rd – 6th grade. \n\n\n\nRegister today! \n\n\n\nDownload flyer
URL:https://murdockbaptistchurch.org/event/awana-club-starts/
LOCATION:Student Building B\, 18375 Cochran Boulevard\, Port Charlotte\, Florida\, 33948\, United States
CATEGORIES:AWANA Clubs,Children's Ministry,Ministries,Preschool Ministry,Special Events,Student Ministry
ATTACH;FMTTYPE=image/jpeg:https://murdockbaptistchurch.org/wp-content/uploads/2023/05/awana-clubs-logo2.jpg
ORGANIZER;CN="Murdock Baptist Church":MAILTO:office@murdockbaptistchurch.com
END:VEVENT
BEGIN:VEVENT
DTSTART;TZID=America/New_York:20250901T124500
DTEND;TZID=America/New_York:20250901T141500
DTSTAMP:20260424T114337
CREATED:20250610T202909Z
LAST-MODIFIED:20250610T202943Z
UID:10008073-1756730700-1756736100@murdockbaptistchurch.org
SUMMARY:Prayer Shawl Ministry
DESCRIPTION:Do you like to knit\, crochet and fellowship? Join us on the 1st & 3rd Monday of each month.Our shawls are made and given to comfort those who are going through a tough time. Whether it bepersonal or family illness\, loss of loved one\, or a multitude of reasons\, to let them know God loves them and that we are praying for them.
URL:https://murdockbaptistchurch.org/event/prayer-shawl-ministry-4/2025-09-01/
END:VEVENT
BEGIN:VEVENT
DTSTART;TZID=America/New_York:20250908T080000
DTEND;TZID=America/New_York:20250908T090000
DTSTAMP:20260424T114337
CREATED:20250908T190900Z
LAST-MODIFIED:20250925T133728Z
UID:10008915-1757318400-1757322000@murdockbaptistchurch.org
SUMMARY:Men's Ministry: Barnabas Sermon Debrief & Fellowship
DESCRIPTION:
URL:https://murdockbaptistchurch.org/event/mens-ministry-barnabas-sermon-debrief-fellowship/2025-09-08/
LOCATION:Main Building A\, Fellowship Hall\, 18375 Cochran Boulevard\, Port Charlotte\, Florida\, 33948\, United States
CATEGORIES:Barnabas Men’s Group,Ministries,Special Events
ATTACH;FMTTYPE=image/jpeg:https://murdockbaptistchurch.org/wp-content/uploads/2023/03/large-mens-ministry.jpg
END:VEVENT
BEGIN:VEVENT
DTSTART;TZID=America/New_York:20250909T140000
DTEND;TZID=America/New_York:20250909T153000
DTSTAMP:20260424T114337
CREATED:20240603T181850Z
LAST-MODIFIED:20240603T182159Z
UID:10008135-1757426400-1757431800@murdockbaptistchurch.org
SUMMARY:Neuro-Challenge (Parkinson's Support Group)
DESCRIPTION:Student Building
URL:https://murdockbaptistchurch.org/event/neuro-challenge-parkinsons-support-group/2025-09-09/
END:VEVENT
BEGIN:VEVENT
DTSTART;TZID=America/New_York:20250909T180000
DTEND;TZID=America/New_York:20250909T190000
DTSTAMP:20260424T114337
CREATED:20250908T191606Z
LAST-MODIFIED:20250908T191619Z
UID:10008968-1757440800-1757444400@murdockbaptistchurch.org
SUMMARY:Men's Ministry: Tuesday Bible Study
DESCRIPTION:
URL:https://murdockbaptistchurch.org/event/mens-ministry-tuesday-bible-study/
CATEGORIES:Bible Study - In-person,Men's Ministry,Ministries,Special Events
ATTACH;FMTTYPE=image/jpeg:https://murdockbaptistchurch.org/wp-content/uploads/2023/02/mens-bible-study-e1684521779661.jpg
END:VEVENT
BEGIN:VEVENT
DTSTART;TZID=America/New_York:20250910T071500
DTEND;TZID=America/New_York:20250910T200000
DTSTAMP:20260424T114337
CREATED:20250908T184424Z
LAST-MODIFIED:20250908T184436Z
UID:10008911-1757488500-1757534400@murdockbaptistchurch.org
SUMMARY:Worship & Arts Ministry (WAM) Kickoff Party
DESCRIPTION:Join us to kickoff our Fall season! If you have ever sung in a choir\, wanted to sing in a choir\, or have been told you should sing in a choir\, you are invited! Come out for a great time of followship and dive into some new music that our choir will be singing this Fall.
URL:https://murdockbaptistchurch.org/event/worship-arts-ministry-wam-kickoff-party/
LOCATION:Main Stage\, Worship Center\, 18375 Cochran Boulevard\, Port Charlote\, Florida\, 33948
CATEGORIES:Special Events
ATTACH;FMTTYPE=image/jpeg:https://murdockbaptistchurch.org/wp-content/uploads/2022/12/worship-service3.jpg
END:VEVENT
END:VCALENDAR