BEGIN:VCALENDAR
VERSION:2.0
PRODID:-//Murdock Baptist Church - ECPv6.15.20//NONSGML v1.0//EN
CALSCALE:GREGORIAN
METHOD:PUBLISH
X-ORIGINAL-URL:https://murdockbaptistchurch.org
X-WR-CALDESC:Events for Murdock Baptist Church
REFRESH-INTERVAL;VALUE=DURATION:PT1H
X-Robots-Tag:noindex
X-PUBLISHED-TTL:PT1H
BEGIN:VTIMEZONE
TZID:America/New_York
BEGIN:DAYLIGHT
TZOFFSETFROM:-0500
TZOFFSETTO:-0400
TZNAME:EDT
DTSTART:20220313T070000
END:DAYLIGHT
BEGIN:STANDARD
TZOFFSETFROM:-0400
TZOFFSETTO:-0500
TZNAME:EST
DTSTART:20221106T060000
END:STANDARD
BEGIN:DAYLIGHT
TZOFFSETFROM:-0500
TZOFFSETTO:-0400
TZNAME:EDT
DTSTART:20230312T070000
END:DAYLIGHT
BEGIN:STANDARD
TZOFFSETFROM:-0400
TZOFFSETTO:-0500
TZNAME:EST
DTSTART:20231105T060000
END:STANDARD
BEGIN:DAYLIGHT
TZOFFSETFROM:-0500
TZOFFSETTO:-0400
TZNAME:EDT
DTSTART:20240310T070000
END:DAYLIGHT
BEGIN:STANDARD
TZOFFSETFROM:-0400
TZOFFSETTO:-0500
TZNAME:EST
DTSTART:20241103T060000
END:STANDARD
END:VTIMEZONE
BEGIN:VEVENT
DTSTART;TZID=America/New_York:20230816T180000
DTEND;TZID=America/New_York:20230816T193000
DTSTAMP:20260424T175953
CREATED:20230731T140454Z
LAST-MODIFIED:20230731T185349Z
UID:10006098-1692208800-1692214200@murdockbaptistchurch.org
SUMMARY:PraiSing Event
DESCRIPTION:This will be a family dinner time where you are able to share a talent\, song\, or dramatic reading that honors the Lord and would be a blessing to the church.
URL:https://murdockbaptistchurch.org/event/praising-event/
LOCATION:Main Building A\, Fellowship Hall\, 18375 Cochran Boulevard\, Port Charlotte\, Florida\, 33948\, United States
CATEGORIES:Special Events
ATTACH;FMTTYPE=image/jpeg:https://murdockbaptistchurch.org/wp-content/uploads/2023/05/youth-ministry-adrian.jpg
END:VEVENT
BEGIN:VEVENT
DTSTART;TZID=America/New_York:20230809T191500
DTEND;TZID=America/New_York:20230809T200000
DTSTAMP:20260424T175953
CREATED:20230731T135950Z
LAST-MODIFIED:20230731T140009Z
UID:10006097-1691608500-1691611200@murdockbaptistchurch.org
SUMMARY:Choir Kickoff Party
DESCRIPTION:Join us on Wednesday\, August 9th at 7:15 p.m. in Room 104 as the choir resumes from our summer break. If you have ever sung in a choir\, wanted to sing in a choir\, or have been told you should sing in a choir\, come out for a great time of fellowship and driving into some new music that our choir will be singing this fall. You are invited!
URL:https://murdockbaptistchurch.org/event/choir-kickoff-party/
LOCATION:Worship Center\, Room 104
CATEGORIES:Special Events
ATTACH;FMTTYPE=image/jpeg:https://murdockbaptistchurch.org/wp-content/uploads/2023/07/52944314211_a98e51d0e2_b.jpg
END:VEVENT
BEGIN:VEVENT
DTSTART;TZID=America/New_York:20230809T180000
DTEND;TZID=America/New_York:20230809T190000
DTSTAMP:20260424T175953
CREATED:20230514T184027Z
LAST-MODIFIED:20230518T180424Z
UID:10005445-1691604000-1691607600@murdockbaptistchurch.org
SUMMARY:Summer Wednesday Nights: Bible Breakouts
DESCRIPTION:Breakout into groups for children\, youth and adults. \n\n\n\nBible study for adults in the Fellowship Hall. \n\n\n\nPreschool/Children in Building “C”. \n\n\n\nYouth in Building “B”.
URL:https://murdockbaptistchurch.org/event/summer-wednesday-nights-bible-breakouts/2023-08-09/
LOCATION:Multiple Buildings\, depending on groups
CATEGORIES:Ministries,Special Events
ATTACH;FMTTYPE=image/jpeg:https://murdockbaptistchurch.org/wp-content/uploads/2023/01/sincerely-media-dGxOgeXAXm8-unsplash-1.jpg
END:VEVENT
BEGIN:VEVENT
DTSTART;TZID=America/New_York:20230809T174500
DTEND;TZID=America/New_York:20230809T183000
DTSTAMP:20260424T175953
CREATED:20230731T135315Z
LAST-MODIFIED:20230731T173831Z
UID:10006096-1691603100-1691605800@murdockbaptistchurch.org
SUMMARY:AWANA Meeting
DESCRIPTION:This is for EVERYONE who is serving in any capacity or interested in learning how they can help. AWANA clubs on Wednesdays are a fun way for children to learn about God’s Word\, His love and His plan for them. But we need YOU to serve! Listeners are caring and patient adults who listen to children recite memory verses\, helping them learn a verse if necessary\, from 5:45 p.m. – 6 p.m. Puggles are our youngest group\, 2 year olds! Would you be willing to help them learn that God made the world and God loves them? 5:30 p.m. – 7:15 p.m. There are other ways to serve as we disciple children\, 2 years old – 5th grade.
URL:https://murdockbaptistchurch.org/event/awana-meeting/
LOCATION:Student Building B\, 18375 Cochran Boulevard\, Port Charlotte\, Florida\, 33948\, United States
CATEGORIES:Children's Ministry,Preschool Ministry,Special Events
ATTACH;FMTTYPE=image/jpeg:https://murdockbaptistchurch.org/wp-content/uploads/2023/05/awana-clubs-logo2.jpg
END:VEVENT
BEGIN:VEVENT
DTSTART;TZID=America/New_York:20230802T180000
DTEND;TZID=America/New_York:20230802T190000
DTSTAMP:20260424T175953
CREATED:20230525T182258Z
LAST-MODIFIED:20230525T182311Z
UID:10005986-1690999200-1691002800@murdockbaptistchurch.org
SUMMARY:Summer Wednesday Nights: Dinner/Game Night
DESCRIPTION:Dinner\, games & devotions. Fun for all ages!  \n\n\n\nRegistration is required and must be submitted by Monday July 31st. \n\n\n\n\nRegister Now
URL:https://murdockbaptistchurch.org/event/summer-wednesday-nights-dinner-game-night-august2/
LOCATION:Main Building A\, Fellowship Hall\, 18375 Cochran Boulevard\, Port Charlotte\, Florida\, 33948\, United States
CATEGORIES:Special Events
ATTACH;FMTTYPE=image/jpeg:https://murdockbaptistchurch.org/wp-content/uploads/2023/05/games.jpg
END:VEVENT
BEGIN:VEVENT
DTSTART;TZID=America/New_York:20230729T083000
DTEND;TZID=America/New_York:20230729T100000
DTSTAMP:20260424T175953
CREATED:20230524T190028Z
LAST-MODIFIED:20230524T200308Z
UID:10005709-1690619400-1690624800@murdockbaptistchurch.org
SUMMARY:Men's Saturday Morning Bible Study - Special Gathering
DESCRIPTION:Men’s Saturday Morning Bible Study Group will be hosting a special event for prayer\, praise and worship.
URL:https://murdockbaptistchurch.org/event/mens-saturday-morning-bible-study-special-gathering/
LOCATION:Main Building A\, Fellowship Hall\, 18375 Cochran Boulevard\, Port Charlotte\, Florida\, 33948\, United States
CATEGORIES:Bible Study - In-person,Men’s Bible Study,Special Events
ATTACH;FMTTYPE=image/jpeg:https://murdockbaptistchurch.org/wp-content/uploads/2023/02/mens-bible-study-e1684521779661.jpg
END:VEVENT
BEGIN:VEVENT
DTSTART;TZID=America/New_York:20230722T090000
DTEND;TZID=America/New_York:20230722T130000
DTSTAMP:20260424T175953
CREATED:20230705T203035Z
LAST-MODIFIED:20230705T203108Z
UID:10006090-1690016400-1690030800@murdockbaptistchurch.org
SUMMARY:OneBlood Drive
DESCRIPTION:To make an appointment\, please visit oneblood.org/donate-now and use sponsor code: 58463.
URL:https://murdockbaptistchurch.org/event/oneblood-drive-3/
LOCATION:Murdock Baptist Church – Parking Lot\, 18375 Cochran Boulevard\, Port Charlotte\, Florida\, 33948
CATEGORIES:Special Events
ATTACH;FMTTYPE=image/jpeg:https://murdockbaptistchurch.org/wp-content/uploads/2023/01/bus-e1684521820899.jpg
END:VEVENT
BEGIN:VEVENT
DTSTART;TZID=America/New_York:20230716T104500
DTEND;TZID=America/New_York:20230716T110000
DTSTAMP:20260424T175953
CREATED:20230620T130907Z
LAST-MODIFIED:20230620T130915Z
UID:10006089-1689504300-1689505200@murdockbaptistchurch.org
SUMMARY:Elder Affirmation Vote
DESCRIPTION:We will have an affirmation vote on July 16th provided we affirm the two Elder candidates. W will have an ordination and installation service on July 23rd.
URL:https://murdockbaptistchurch.org/event/elder-affirmation-vote/
LOCATION:Worship Center
CATEGORIES:Special Events
ATTACH;FMTTYPE=image/jpeg:https://murdockbaptistchurch.org/wp-content/uploads/2023/05/murdock-baptist-church-front-of-building.jpg
END:VEVENT
BEGIN:VEVENT
DTSTART;TZID=America/New_York:20230705T180000
DTEND;TZID=America/New_York:20230705T190000
DTSTAMP:20260424T175953
CREATED:20230525T181200Z
LAST-MODIFIED:20230608T015521Z
UID:10005984-1688580000-1688583600@murdockbaptistchurch.org
SUMMARY:Summer Wednesday Nights: Dinner/Game Night
DESCRIPTION:Dinner\, games & devotions. Fun for all ages! Registration is required and must be submitted by Monday\, July 3rd. \n\n\n\n\nRegister Now for this Event\n\n\n\nRegister for the next Dinner/Game Night
URL:https://murdockbaptistchurch.org/event/summer-wednesday-nights-dinner-game-night/
LOCATION:Main Building A\, Fellowship Hall\, 18375 Cochran Boulevard\, Port Charlotte\, Florida\, 33948\, United States
CATEGORIES:Special Events
ATTACH;FMTTYPE=image/jpeg:https://murdockbaptistchurch.org/wp-content/uploads/2023/05/family-night2-event.jpg
END:VEVENT
BEGIN:VEVENT
DTSTART;TZID=America/New_York:20230625T104500
DTEND;TZID=America/New_York:20230625T110500
DTSTAMP:20260424T175953
CREATED:20230620T124803Z
LAST-MODIFIED:20230620T124812Z
UID:10006088-1687689900-1687691100@murdockbaptistchurch.org
SUMMARY:Special Called Church Conference
DESCRIPTION:Sunday\, June 25th we will meet after worship to consider the Nominating Team’s motion for Treasurer\, Jennifer Dueboay.
URL:https://murdockbaptistchurch.org/event/special-called-church-conference/
LOCATION:Worship Center
CATEGORIES:Special Events
ATTACH;FMTTYPE=image/jpeg:https://murdockbaptistchurch.org/wp-content/uploads/2023/05/murdock-baptist-church-front-of-building.jpg
END:VEVENT
BEGIN:VEVENT
DTSTART;TZID=America/New_York:20230607T180000
DTEND;TZID=America/New_York:20230607T190000
DTSTAMP:20260424T175953
CREATED:20230525T181809Z
LAST-MODIFIED:20230608T015212Z
UID:10005985-1686160800-1686164400@murdockbaptistchurch.org
SUMMARY:Summer Wednesday Nights: Dinner/Game Night
DESCRIPTION:Dinner\, games & devotions. Fun for all ages!  \n\n\n\nRegistration is required and must be submitted by Monday\, June 5th. \n\n\n\n\nRegister Now for this Event\n\n\n\nRegister for the next Dinner/Game Night
URL:https://murdockbaptistchurch.org/event/summer-wednesday-nights-dinner-game-night-june7/
LOCATION:Main Building A\, Fellowship Hall\, 18375 Cochran Boulevard\, Port Charlotte\, Florida\, 33948\, United States
CATEGORIES:Barnabas Men’s Group,Children's Ministry,Preschool Ministry,Special Events,Student Ministry,Women's Ministry
ATTACH;FMTTYPE=image/jpeg:https://murdockbaptistchurch.org/wp-content/uploads/2023/05/family-night2-event.jpg
END:VEVENT
BEGIN:VEVENT
DTSTART;TZID=America/New_York:20230602T180000
DTEND;TZID=America/New_York:20230602T210000
DTSTAMP:20260424T175953
CREATED:20230509T041420Z
LAST-MODIFIED:20230818T023712Z
UID:10005424-1685728800-1685739600@murdockbaptistchurch.org
SUMMARY:Jesus Loves You Ministry ~ Sunflower Fundraising Banquet
DESCRIPTION:Join us for Jesus Loves You Ministry’s first Sunflower Fundraising Banquet! An evening of fellowship\, delicious barbeque\, and sharing our vision of growth. \n\n\n\nOur evening will include great food\, fun and fellowship as we share all that the Lord is doing at JLY and our vision to grow! Please reserve your complimentary tickets no later than May 21st. \n\n\n\nDoors open at 6:00 p.m. Dinner/Program starts at 6:30 p.m. \n\n\n\nGet your free tickets now >>
URL:https://murdockbaptistchurch.org/event/sunflower-fundraising-banquet/
LOCATION:New Life Church\, 507 West Marion Avenue\, Punta Gorda\, Florida\, 33950
CATEGORIES:Jesus Loves You Ministry,Special Events
ATTACH;FMTTYPE=image/jpeg:https://murdockbaptistchurch.org/wp-content/uploads/2023/05/Jesus-Loves-You-Ministry.jpg
END:VEVENT
BEGIN:VEVENT
DTSTART;TZID=America/New_York:20230531T180000
DTEND;TZID=America/New_York:20230531T200000
DTSTAMP:20260424T175953
CREATED:20230531T175200Z
LAST-MODIFIED:20230531T183301Z
UID:10006087-1685556000-1685563200@murdockbaptistchurch.org
SUMMARY:GriefShare: Loss of a Spouse
DESCRIPTION:Your life has changed forever. The daily emotions and challenges seem too hard to bear. Join us for a time of learning and healing in room 101/102 at Murdock Baptist Church on May 31 from 6-8.
URL:https://murdockbaptistchurch.org/event/griefshare-loss-of-a-spouse-2/
LOCATION:Murdock Baptist Church\, Room 101/102\, 18375 Cochran Boulevard\, Port Charlotte\, Florida\, 33948
CATEGORIES:Among Friends,Special Events
ATTACH;FMTTYPE=image/jpeg:https://murdockbaptistchurch.org/wp-content/uploads/2023/05/grief-spouse.jpg
END:VEVENT
BEGIN:VEVENT
DTSTART;TZID=America/New_York:20230524T180000
DTEND;TZID=America/New_York:20230524T190000
DTSTAMP:20260424T175953
CREATED:20230514T174133Z
LAST-MODIFIED:20230518T174346Z
UID:10005427-1684951200-1684954800@murdockbaptistchurch.org
SUMMARY:Cuba Report Night
DESCRIPTION:Mark your calendar for the Cuba mission trip report on Wednesday\, May 24th at 6 p.m. \n\n\n\nHear how God is working among the people of Cuba and among the 8 people who went – fascinating stories of God’s grace and mercy in a dark Communist country.
URL:https://murdockbaptistchurch.org/event/cuba-report-night/
LOCATION:Main Stage\, Worship Center\, 18375 Cochran Boulevard\, Port Charlote\, Florida\, 33948
CATEGORIES:Ministries,Special Events
ATTACH;FMTTYPE=image/jpeg:https://murdockbaptistchurch.org/wp-content/uploads/2023/04/cuba-missionary.jpg
END:VEVENT
BEGIN:VEVENT
DTSTART;TZID=America/New_York:20230520T090000
DTEND;TZID=America/New_York:20230520T130000
DTSTAMP:20260424T175953
CREATED:20230105T215943Z
LAST-MODIFIED:20230105T215956Z
UID:10004464-1684573200-1684587600@murdockbaptistchurch.org
SUMMARY:OneBlood Drive
DESCRIPTION:To make an appointment\, please visit oneblood.org/donate-now and use sponsor code 58463.
URL:https://murdockbaptistchurch.org/event/oneblood-drive-2/
LOCATION:Murdock Baptist Church Campus\, 18375 Cochran Blvd. Building C\, Port Charlotte\, Florida\, 33948\, United States
CATEGORIES:Special Events
ATTACH;FMTTYPE=image/jpeg:https://murdockbaptistchurch.org/wp-content/uploads/2023/01/bus-e1684521820899.jpg
END:VEVENT
BEGIN:VEVENT
DTSTART;TZID=America/New_York:20230517T173000
DTEND;TZID=America/New_York:20230517T190000
DTSTAMP:20260424T175953
CREATED:20230512T105322Z
LAST-MODIFIED:20230518T173603Z
UID:10005426-1684344600-1684350000@murdockbaptistchurch.org
SUMMARY:Awana Awards Night
DESCRIPTION:Join us on Wednesdya\, May 17th in the Fellowship Hall as we celebrate what the children have accomplished all year. Everyone is invited! \n\n\n\nStop by and congratulate the children in all their hard work they put in to learn God’s words. \n\n\n\nPizza dinner will be served at 5:30 p.m. with Awards Ceremony starting at 6:00 p.m.
URL:https://murdockbaptistchurch.org/event/awana-awards-night/
LOCATION:Main Stage\, Worship Center\, 18375 Cochran Boulevard\, Port Charlote\, Florida\, 33948
CATEGORIES:Children's Ministry,Special Events
ATTACH;FMTTYPE=image/jpeg:https://murdockbaptistchurch.org/wp-content/uploads/2023/05/awana-clubs-logo2.jpg
END:VEVENT
BEGIN:VEVENT
DTSTART;TZID=America/New_York:20230510T183000
DTEND;TZID=America/New_York:20230510T190000
DTSTAMP:20260424T175953
CREATED:20230512T104929Z
LAST-MODIFIED:20230512T104939Z
UID:10005425-1683743400-1683745200@murdockbaptistchurch.org
SUMMARY:Informational Meeting
DESCRIPTION:This special meeting will be held to update the church on the new mortgage and gives church members a chance to ask questions.
URL:https://murdockbaptistchurch.org/event/informational-meeting/
LOCATION:Main Building A\, Fellowship Hall\, 18375 Cochran Boulevard\, Port Charlotte\, Florida\, 33948\, United States
CATEGORIES:Special Events
END:VEVENT
BEGIN:VEVENT
DTSTART;TZID=America/New_York:20230507T080000
DTEND;TZID=America/New_York:20230507T170000
DTSTAMP:20260424T175953
CREATED:20230501T141851Z
LAST-MODIFIED:20230818T023731Z
UID:10005402-1683446400-1683478800@murdockbaptistchurch.org
SUMMARY:Jesus Loves You Ministry (Mobile Outreach)
DESCRIPTION:Donation Trailer will be here next Sunday
URL:https://murdockbaptistchurch.org/event/jesus-loves-you-ministry-mobile-outreach/
LOCATION:Florida
CATEGORIES:Jesus Loves You Ministry,Special Events
ATTACH;FMTTYPE=image/jpeg:https://murdockbaptistchurch.org/wp-content/uploads/2023/01/jesus-loves-you.jpg
END:VEVENT
BEGIN:VEVENT
DTSTART;TZID=America/New_York:20230504T183000
DTEND;TZID=America/New_York:20230504T190000
DTSTAMP:20260424T175953
CREATED:20230501T141539Z
LAST-MODIFIED:20230501T142553Z
UID:10005401-1683225000-1683226800@murdockbaptistchurch.org
SUMMARY:National Day of Prayer Service
DESCRIPTION:The National Day of Prayer is an annual day of observance held on the first Thursday of May\, designated by the United States Congress\, when people are asked “to turn to God in prayer and meditation”. The president is required by law (36 U.S.C. § 119) to sign a proclamation each year\, encouraging all Americans to pray on this day.
URL:https://murdockbaptistchurch.org/event/national-day-of-prayer-service/
LOCATION:Family Church\, 20035 Quesada Avenue\, Port Charlotte\, FL\, 33952
CATEGORIES:Special Events
ATTACH;FMTTYPE=image/jpeg:https://murdockbaptistchurch.org/wp-content/uploads/2023/05/national-day-of-prayer.jpg
END:VEVENT
BEGIN:VEVENT
DTSTART;TZID=America/New_York:20230415T080000
DTEND;TZID=America/New_York:20230415T150000
DTSTAMP:20260424T175953
CREATED:20230105T214702Z
LAST-MODIFIED:20230412T015232Z
UID:10004463-1681545600-1681570800@murdockbaptistchurch.org
SUMMARY:Disaster Relief Training
DESCRIPTION:Disaster Relief Training Program has been created to help volunteers keep current on their certification or offer new volunteers certificates\, so when the need arises and a disaster response is needed\, volunteers are able to respond to the emergency. \n\n\n\nFor information about registering go to: https://flbaptist.org/dr-volunteer/.  Click on becoming a credentialed DR volunteer or renewing credentials.
URL:https://murdockbaptistchurch.org/event/disaster-relief-training/
LOCATION:Florida
CATEGORIES:Special Events
ATTACH;FMTTYPE=image/jpeg:https://murdockbaptistchurch.org/wp-content/uploads/2022/11/1503669853790640302.jpg
END:VEVENT
BEGIN:VEVENT
DTSTART;TZID=America/New_York:20230409T110000
DTEND;TZID=America/New_York:20230409T120000
DTSTAMP:20260424T175953
CREATED:20230203T144216Z
LAST-MODIFIED:20230501T173441Z
UID:10004719-1681038000-1681041600@murdockbaptistchurch.org
SUMMARY:Good Grief: Navigating Through the Storms of Life
DESCRIPTION:Join Ron & Beth Gaudio for this ongoing and practical time to explore and manage the storms in your life. This is an ongoing group will have regular meetings on Sunday morning. We will explore the unique way that grief affects each of us. Weekly you will receive tools to manage your particular grief and assist you in being an encourager to others who are grieving. \n\n\n\nTo sign up\, call the church office at 1-941-627-6352 or for more information email ron@gaudio.net.
URL:https://murdockbaptistchurch.org/event/good-grief-navigating-through-the-storms-of-life/2023-04-09/
LOCATION:Main Building A\, Fellowship Hall\, 18375 Cochran Boulevard\, Port Charlotte\, Florida\, 33948\, United States
CATEGORIES:Special Events
END:VEVENT
BEGIN:VEVENT
DTSTART;TZID=America/New_York:20230409T070000
DTEND;TZID=America/New_York:20230409T110000
DTSTAMP:20260424T175953
CREATED:20230412T030840Z
LAST-MODIFIED:20230412T030850Z
UID:10005400-1681023600-1681038000@murdockbaptistchurch.org
SUMMARY:Celebrate Our Risen Savior!
DESCRIPTION:Start your Easter Sunday Celebration at our Sunrise Service at 7:00 a.m. at Ollie’s Pond (on Bly Avenue\, off of Collingswood Blvd).  Bring a lawn chair for this 45 minute gathering. \n\n\n\nOur regular Easter service time on campus will begin at 9:30 a.m. \n\n\n\nPlan now to join us to celebrate and don’t forget to bring a friend!
URL:https://murdockbaptistchurch.org/event/celebrate-our-risen-savior/
LOCATION:Florida
CATEGORIES:Special Events
ATTACH;FMTTYPE=image/jpeg:https://murdockbaptistchurch.org/wp-content/uploads/2023/04/resurrection-day-easter.jpg
END:VEVENT
BEGIN:VEVENT
DTSTART;TZID=America/New_York:20230325T090000
DTEND;TZID=America/New_York:20230325T130000
DTSTAMP:20260424T175953
CREATED:20230105T213627Z
LAST-MODIFIED:20230203T151219Z
UID:10004461-1679734800-1679749200@murdockbaptistchurch.org
SUMMARY:OneBlood Drive
DESCRIPTION:To make an appointment\, please visit oneblood.org/donate-now and use sponsor code 58463.
URL:https://murdockbaptistchurch.org/event/oneblood-drive/
LOCATION:Murdock Baptist Church Campus\, 18375 Cochran Blvd. Building C\, Port Charlotte\, Florida\, 33948\, United States
CATEGORIES:Special Events
ATTACH;FMTTYPE=image/jpeg:https://murdockbaptistchurch.org/wp-content/uploads/2023/01/bus-e1684521820899.jpg
END:VEVENT
BEGIN:VEVENT
DTSTART;TZID=America/New_York:20230325T090000
DTEND;TZID=America/New_York:20230325T110000
DTSTAMP:20260424T175953
CREATED:20230203T150036Z
LAST-MODIFIED:20230203T150930Z
UID:10004759-1679734800-1679742000@murdockbaptistchurch.org
SUMMARY:Pregnancy Solution Walk for Life
DESCRIPTION:Two walk dates and three locations from which to choose (March 4 in Venice; March 25 in either Arcadia and Port Charlotte) . \n\n\n\nRegister by Feb. 13th to be guaranteed a t-shirt.  There are three ways to register: \n\n\n\npswalkforlife.org\n\n\n\nby phone at 1-941-408-7100\n\n\n\nmail in your registration form located in the brochure.\n\n\n\nAll MBC walkers – choose the Murdock Baptist Church team when registering. For more information see Paul & Terri Million at the missions desk in the Fellowship Hall.
URL:https://murdockbaptistchurch.org/event/pregnancy-solution-walk-for-life-2/
LOCATION:Bayshore Live Oak Park\, 23157 Bayshore Road\, Punta Gorda\, Florida\, United States
CATEGORIES:Special Events
ATTACH;FMTTYPE=image/jpeg:https://murdockbaptistchurch.org/wp-content/uploads/2023/01/walk-for-life.jpg
END:VEVENT
BEGIN:VEVENT
DTSTART;TZID=America/New_York:20230312T130000
DTEND;TZID=America/New_York:20230312T140000
DTSTAMP:20260424T175953
CREATED:20230220T144520Z
LAST-MODIFIED:20230220T144527Z
UID:10005025-1678626000-1678629600@murdockbaptistchurch.org
SUMMARY:New Class on How to Share the Gospel
DESCRIPTION:Starting next Sunday\, February 26th at 1 p.m. in the Student Building “B”. This will be a three week class on learning a simple and short Gospel conversation so you will be ready when God sends someone to you who wants to hear how they can have a personal relationship with Him. \n\n\n\nIf you have questions\, call Gordon Caldwell at (941) 661-0446.
URL:https://murdockbaptistchurch.org/event/new-class-on-how-to-share-the-gospel/2023-03-12/
LOCATION:Student Building B\, 18375 Cochran Boulevard\, Port Charlotte\, Florida\, 33948\, United States
CATEGORIES:Special Events
ATTACH;FMTTYPE=image/jpeg:https://murdockbaptistchurch.org/wp-content/uploads/2023/02/sharing-the-gospel.jpg
END:VEVENT
BEGIN:VEVENT
DTSTART;TZID=America/New_York:20230304T090000
DTEND;TZID=America/New_York:20230304T110000
DTSTAMP:20260424T175953
CREATED:20230203T142048Z
LAST-MODIFIED:20230203T142100Z
UID:10004710-1677920400-1677927600@murdockbaptistchurch.org
SUMMARY:Pregnancy Solution Walk for Life
DESCRIPTION:Two walk dates and three locations from which to choose (March 4 in Venice; March 25 in either Arcadia and Port Charlotte) . \n\n\n\nRegister by Feb. 13th to be guaranteed a t-shirt.  There are three ways to register: \n\n\n\npswalkforlife.org\n\n\n\nby phone at 1-941-408-7100\n\n\n\nmail in your registration form located in the brochure.\n\n\n\nAll MBC walkers – choose the Murdock Baptist Church team when registering. For more information see Paul & Terri Million at the missions desk in the Fellowship Hall.
URL:https://murdockbaptistchurch.org/event/pregnancy-solution-walk-for-life/
LOCATION:Maxine Barritt Park\, 1800 Harbor Drive South\, Venice\, Florida\, United States
CATEGORIES:Special Events
ATTACH;FMTTYPE=image/jpeg:https://murdockbaptistchurch.org/wp-content/uploads/2023/02/babys-feet3.jpg
END:VEVENT
BEGIN:VEVENT
DTSTART;TZID=America/New_York:20230221T180000
DTEND;TZID=America/New_York:20230221T190000
DTSTAMP:20260424T175953
CREATED:20230206T023914Z
LAST-MODIFIED:20230220T144636Z
UID:10004792-1677002400-1677006000@murdockbaptistchurch.org
SUMMARY:Foster Family Information Meeting
DESCRIPTION:One More Child invites you to join us for our upcoming Foster Care Informational Meeting! We will share what it means to be a Foster Family\, the important difference it can make it in the life of a child\, and the process to be licensed in the State of Florida. \n\n\n\nFor more information and to receive a registration link\, email glenn.carver@onemorechild.org.
URL:https://murdockbaptistchurch.org/event/foster-family-information-meeting-2/
LOCATION:Florida
CATEGORIES:Special Events
ATTACH;FMTTYPE=image/jpeg:https://murdockbaptistchurch.org/wp-content/uploads/2023/02/foster-family.jpg
END:VEVENT
BEGIN:VEVENT
DTSTART;TZID=America/New_York:20230218T113000
DTEND;TZID=America/New_York:20230218T130000
DTSTAMP:20260424T175953
CREATED:20230104T223904Z
LAST-MODIFIED:20230106T144201Z
UID:10004447-1676719800-1676725200@murdockbaptistchurch.org
SUMMARY:Connection Luncheon
DESCRIPTION:This is open to all ladies who are of age 60 years or older.  All ladies\, widows\, singles and divorcees.  Ladies please join us for Lunch.
URL:https://murdockbaptistchurch.org/event/ladies-ministry-luncheon/2023-02-18/
LOCATION:Main Building A\, Fellowship Hall\, 18375 Cochran Boulevard\, Port Charlotte\, Florida\, 33948\, United States
CATEGORIES:Special Events,Women's Ministry
ATTACH;FMTTYPE=image/jpeg:https://murdockbaptistchurch.org/wp-content/uploads/2022/11/79440396_10157391805871140_5541114037883895808_n.jpg
END:VEVENT
BEGIN:VEVENT
DTSTART;TZID=America/New_York:20230218T103000
DTEND;TZID=America/New_York:20230218T130000
DTSTAMP:20260424T175953
CREATED:20230202T211930Z
LAST-MODIFIED:20230202T212858Z
UID:10004643-1676716200-1676725200@murdockbaptistchurch.org
SUMMARY:Women's Ministry - Love is the Answer Valentine's Day Brunch
DESCRIPTION:“Dear friends\, let us love one another\, for love comes from God. Everyone who loves has been born of God and knows God. \n1 John 4:7\n\n\n\nGuest Speaker: Barbara Miller \n\n\n\nTickets on sale in the Fellowship Hall.
URL:https://murdockbaptistchurch.org/event/womens-ministry-love-is-the-answer-valentines-day-brunch/
LOCATION:Florida
CATEGORIES:Special Events,Women's Ministry
ATTACH;FMTTYPE=image/jpeg:https://murdockbaptistchurch.org/wp-content/uploads/2023/02/heart-shaped-pancakes_136595-14955.jpg
END:VEVENT
BEGIN:VEVENT
DTSTART;TZID=America/New_York:20230210T170000
DTEND;TZID=America/New_York:20230211T163000
DTSTAMP:20260424T175953
CREATED:20230104T170301Z
LAST-MODIFIED:20230109T160117Z
UID:10003350-1676048400-1676133000@murdockbaptistchurch.org
SUMMARY:Christianity & Culture: Worldview Academy Conference
DESCRIPTION:In a culture buffeted by widely divergent philosophies\, we need to learn to stand on the solid foundation of Scripture and to understand the faith as a total worldview. Join Worldview faculty Friday night and all day Saturday here at Murdock Baptist Church\, for two days of encouragement and growth. \n\n\n\nSchedule\n\n\n\n\nFRIDAY5:00 pm — Registration and Check in6:00 pm — Welcome and Worship6:30 pm — Session 17:30 pm — Break / Snacks / Coffee7:50 pm — Session 28:50 pm — Closing for Evening \n\n\n\n\n\nSATURDAY9:00 am — Registration and Check In9:30 am — Worship and Welcome9:45 am — Session 310:45 am — Break / Snacks / Coffee11:05 am — Session 412:05 pm — Dismiss for Lunch1:45 pm — Worldview Opportunities2:15 pm — Session 53:15 pm — Break / Snacks / Coffee3:35 pm — Session 64:35 pm — Worship and Closing \n\n\n\n\n$20 per individual | $30 per couple | $40 for a family
URL:https://murdockbaptistchurch.org/event/worldview-academy/
LOCATION:Murdock Baptist Church Campus\, 18375 Cochran Blvd. Building C\, Port Charlotte\, Florida\, 33948\, United States
CATEGORIES:Special Events
ATTACH;FMTTYPE=image/jpeg:https://murdockbaptistchurch.org/wp-content/uploads/2023/01/worldview-academy.jpg
END:VEVENT
END:VCALENDAR