BEGIN:VCALENDAR
VERSION:2.0
PRODID:-//Murdock Baptist Church - ECPv6.15.20//NONSGML v1.0//EN
CALSCALE:GREGORIAN
METHOD:PUBLISH
X-ORIGINAL-URL:https://murdockbaptistchurch.org
X-WR-CALDESC:Events for Murdock Baptist Church
REFRESH-INTERVAL;VALUE=DURATION:PT1H
X-Robots-Tag:noindex
X-PUBLISHED-TTL:PT1H
BEGIN:VTIMEZONE
TZID:America/New_York
BEGIN:DAYLIGHT
TZOFFSETFROM:-0500
TZOFFSETTO:-0400
TZNAME:EDT
DTSTART:20230312T070000
END:DAYLIGHT
BEGIN:STANDARD
TZOFFSETFROM:-0400
TZOFFSETTO:-0500
TZNAME:EST
DTSTART:20231105T060000
END:STANDARD
BEGIN:DAYLIGHT
TZOFFSETFROM:-0500
TZOFFSETTO:-0400
TZNAME:EDT
DTSTART:20240310T070000
END:DAYLIGHT
BEGIN:STANDARD
TZOFFSETFROM:-0400
TZOFFSETTO:-0500
TZNAME:EST
DTSTART:20241103T060000
END:STANDARD
BEGIN:DAYLIGHT
TZOFFSETFROM:-0500
TZOFFSETTO:-0400
TZNAME:EDT
DTSTART:20250309T070000
END:DAYLIGHT
BEGIN:STANDARD
TZOFFSETFROM:-0400
TZOFFSETTO:-0500
TZNAME:EST
DTSTART:20251102T060000
END:STANDARD
END:VTIMEZONE
BEGIN:VEVENT
DTSTART;TZID=America/New_York:20241214T180000
DTEND;TZID=America/New_York:20241214T193000
DTSTAMP:20260424T100836
CREATED:20241121T220245Z
LAST-MODIFIED:20241126T190811Z
UID:10008743-1734199200-1734204600@murdockbaptistchurch.org
SUMMARY:THE CAROLS OF CHRISTMAS: a time of singing and storytelling
DESCRIPTION:Everyone likes Christmas music! You are invited to celebrate the season with us at Murdock Baptist Church. Join us as our space is transformed into a giant living room where you are a guest for a memorable Christmas carol sing-a-long. Come for a wonderful trip down memory lane as we celebrate Christmas together. \n\n\n\nAlso available Sunday\, December 15th from 3-4:30 p.m. \n\n\n\nIf you can’t make it in person\, watch the live stream video. \n\n\n\nFree and open to the public!
URL:https://murdockbaptistchurch.org/event/the-carols-of-christmas-a-time-of-singing-and-storytelling-2/
LOCATION:Main Stage\, Worship Center\, 18375 Cochran Boulevard\, Port Charlote\, Florida\, 33948
CATEGORIES:Holiday Celebrations,Special Events
ATTACH;FMTTYPE=image/jpeg:https://murdockbaptistchurch.org/wp-content/uploads/2023/11/xmas-900x600-2.jpg
END:VEVENT
BEGIN:VEVENT
DTSTART;TZID=America/New_York:20241208T110000
DTEND;TZID=America/New_York:20241208T113000
DTSTAMP:20260424T100836
CREATED:20241202T032140Z
LAST-MODIFIED:20241202T032208Z
UID:10008747-1733655600-1733657400@murdockbaptistchurch.org
SUMMARY:Special Called Church Conference
DESCRIPTION:A special called church conference will be held immediately following service for the consideration of the 2025 budget.
URL:https://murdockbaptistchurch.org/event/special-called-church-conference-3/
LOCATION:Main Stage\, Worship Center\, 18375 Cochran Boulevard\, Port Charlote\, Florida\, 33948
CATEGORIES:Special Events
END:VEVENT
BEGIN:VEVENT
DTSTART;TZID=America/New_York:20241207T110000
DTEND;TZID=America/New_York:20241207T120000
DTSTAMP:20260424T100836
CREATED:20241122T032043Z
LAST-MODIFIED:20241123T151946Z
UID:10008746-1733569200-1733572800@murdockbaptistchurch.org
SUMMARY:Jingle Jam
DESCRIPTION:This Christmas\, get ready to experience a Christmas like no other! Can you imagine a Christmas party big enough for your whole family? A Christmas party with singing\, dancing\, games\, drama\, activities and more! A party where you will experience the true meaning of Christmas through sounds\, sights\, touch\, tastes\, and even…smells? \n\n\n\n\nRegister Online
URL:https://murdockbaptistchurch.org/event/jingle-jam/
LOCATION:Student Building B\, 18375 Cochran Boulevard\, Port Charlotte\, Florida\, 33948\, United States
CATEGORIES:Holiday Celebrations,Special Events
ATTACH;FMTTYPE=image/jpeg:https://murdockbaptistchurch.org/wp-content/uploads/2024/11/jingle-jam-scaled.jpg
END:VEVENT
BEGIN:VEVENT
DTSTART;TZID=America/New_York:20241109T080000
DTEND;TZID=America/New_York:20241109T090000
DTSTAMP:20260424T100836
CREATED:20240128T045949Z
LAST-MODIFIED:20240302T143728Z
UID:10007712-1731139200-1731142800@murdockbaptistchurch.org
SUMMARY:Monthly Men's Pancake Breakfast
DESCRIPTION:Join us and bring a friend for breakfast\, fellowship and a brief presentation.
URL:https://murdockbaptistchurch.org/event/monthly-mens-pancake-breakfast/2024-11-09/
LOCATION:Main Building A\, Fellowship Hall\, 18375 Cochran Boulevard\, Port Charlotte\, Florida\, 33948\, United States
CATEGORIES:Barnabas Men’s Group,Special Events
ATTACH;FMTTYPE=image/jpeg:https://murdockbaptistchurch.org/wp-content/uploads/2024/01/pancakes.jpg
END:VEVENT
BEGIN:VEVENT
DTSTART;TZID=America/New_York:20241023T093000
DTEND;TZID=America/New_York:20241023T103000
DTSTAMP:20260424T100836
CREATED:20240805T141151Z
LAST-MODIFIED:20240805T141215Z
UID:10008473-1729675800-1729679400@murdockbaptistchurch.org
SUMMARY:Ladies Fall Bible Study: “Luke in the Land” by Kristi McClelland\, morning class
DESCRIPTION:Beginning Wednesday\, September 11th at 9:30 a.m. in rooms 106-107. Reserve your book with a $15 deposit. Contact Barb Miller at barb@overflowinghope.com for more information.
URL:https://murdockbaptistchurch.org/event/ladies-fall-bible-study-luke-in-the-land-by-kristi-mcclelland-morning-class/2024-10-23/
LOCATION:Rooms 106-107\, 18375 Cochran Boulevard\, Port Charlotte\, Florida\, 33948\, United States
CATEGORIES:Ministries,Special Events,Women's Ministry
ATTACH;FMTTYPE=image/jpeg:https://murdockbaptistchurch.org/wp-content/uploads/2023/11/kristi-mclelland.jpg
END:VEVENT
BEGIN:VEVENT
DTSTART;TZID=America/New_York:20241022T180000
DTEND;TZID=America/New_York:20241022T190000
DTSTAMP:20260424T100836
CREATED:20240805T133123Z
LAST-MODIFIED:20240805T143324Z
UID:10008341-1729620000-1729623600@murdockbaptistchurch.org
SUMMARY:Ladies Fall Bible Study: "Luke in the Land" by Kristi McClelland
DESCRIPTION:Beginning Tuesday\, September 10th at 6 p.m. and/or Wednesday September 11th at 9:30 a.m. Reserve your book with a $15 deposit. Contact Barb Miller at barb@overflowinghope.com for more information.
URL:https://murdockbaptistchurch.org/event/ladies-fall-bible-study-luke-in-the-land-by-kristi-mcclelland/2024-10-22/
LOCATION:Rooms 106-107
CATEGORIES:Ministries,Special Events,Women's Ministry
ATTACH;FMTTYPE=image/jpeg:https://murdockbaptistchurch.org/wp-content/uploads/2023/11/kristi-mclelland.jpg
END:VEVENT
BEGIN:VEVENT
DTSTART;TZID=America/New_York:20241020T163000
DTEND;TZID=America/New_York:20241020T183000
DTSTAMP:20260424T100836
CREATED:20240930T191309Z
LAST-MODIFIED:20240930T191501Z
UID:10008741-1729441800-1729449000@murdockbaptistchurch.org
SUMMARY:Movie Night & Chili Potluck
DESCRIPTION:Bring your best pot of chili and then join us for an encore presentation of “Letter to the American Church”. This film lays out the parallels between early 1930’s Nazi Germany and other totalitarian regimes with what is happening in American today and how the church has been mostly silent facing this evil. This film is a wake-up call to the church to stand up and speak out against the evil that is manifesting in our country.
URL:https://murdockbaptistchurch.org/event/movie-night-chili-potluck/
LOCATION:Main Building A\, Fellowship Hall\, 18375 Cochran Boulevard\, Port Charlotte\, Florida\, 33948\, United States
CATEGORIES:Special Events
ATTACH;FMTTYPE=image/jpeg:https://murdockbaptistchurch.org/wp-content/uploads/2024/09/movie.jpg
END:VEVENT
BEGIN:VEVENT
DTSTART;TZID=America/New_York:20241016T180000
DTEND;TZID=America/New_York:20241016T193000
DTSTAMP:20260424T100836
CREATED:20240930T190059Z
LAST-MODIFIED:20241015T132720Z
UID:10008740-1729101600-1729107000@murdockbaptistchurch.org
SUMMARY:Quarterly Church Conference
DESCRIPTION:We operate as a congregational church polity which means the membership is informed and votes on church business. Our church conferences are scheduled quarterly so the church membership can vote on membership requests\, hear reports from various teams\, and review the church financials for the previous quarter. \n\n\n\nAgenda to be supplied shortly.
URL:https://murdockbaptistchurch.org/event/quarterly-church-conference-5/
CATEGORIES:Special Events
ATTACH;FMTTYPE=image/jpeg:https://murdockbaptistchurch.org/wp-content/uploads/2022/11/lifegroups.jpg
END:VEVENT
BEGIN:VEVENT
DTSTART;TZID=America/New_York:20240814T180000
DTEND;TZID=America/New_York:20240814T190000
DTSTAMP:20260424T100836
CREATED:20240729T140527Z
LAST-MODIFIED:20240729T140550Z
UID:10008334-1723658400-1723662000@murdockbaptistchurch.org
SUMMARY:A Look at Israel "Then and Now"
DESCRIPTION:Join Paul Million for a quick history of the Jewish people and the birth of a nation in one day.
URL:https://murdockbaptistchurch.org/event/a-look-at-israel-then-and-now/2024-08-14/
CATEGORIES:Special Events
ATTACH;FMTTYPE=image/jpeg:https://murdockbaptistchurch.org/wp-content/uploads/2024/07/Numbers-14-Judean-Hills-copyright-by-Stephen-M-Miller-900PX-copy.jpg
END:VEVENT
BEGIN:VEVENT
DTSTART;TZID=America/New_York:20240811T150000
DTEND;TZID=America/New_York:20240811T170000
DTSTAMP:20260424T100836
CREATED:20240722T134336Z
LAST-MODIFIED:20240722T134648Z
UID:10008330-1723388400-1723395600@murdockbaptistchurch.org
SUMMARY:Glory Forever
DESCRIPTION:Worship with Denver Bierman\n\n\n\n\n\nLead Singer and Trumpeter of the Christian Horn Band\, “Denver and the Mile High Orchestra”\, will be at Murdock Baptist Church in concert. \n\n\n\nCome for a fun\, inspiring\, and Jesus-filled afternoon of congregational worship songs and hymns… some will be familiar and some brand new. There is something so moving and powerful when we all collectively join together as one body in worship! \n\n\n\nFree and open to the public.
URL:https://murdockbaptistchurch.org/event/glory-forever/
LOCATION:Main Stage\, Worship Center\, 18375 Cochran Boulevard\, Port Charlote\, Florida\, 33948
CATEGORIES:Special Events
ATTACH;FMTTYPE=image/jpeg:https://murdockbaptistchurch.org/wp-content/uploads/2024/07/ResizerImage1209X806_denver-1024x683-1.jpg
END:VEVENT
BEGIN:VEVENT
DTSTART;TZID=America/New_York:20240807T173000
DTEND;TZID=America/New_York:20240807T183000
DTSTAMP:20260424T100836
CREATED:20240729T135823Z
LAST-MODIFIED:20240729T141416Z
UID:10008332-1723051800-1723055400@murdockbaptistchurch.org
SUMMARY:AWANA Meeting for ALL Leaders
DESCRIPTION:This meeting is for all Listeners\, Teachers and Helpers\, whether you have served before or are new! Come if you have already signed up to serve or are interested in learning more.
URL:https://murdockbaptistchurch.org/event/awana-meeting-for-all-leaders/
LOCATION:Student Building B\, 18375 Cochran Boulevard\, Port Charlotte\, Florida\, 33948\, United States
CATEGORIES:Special Events
ATTACH;FMTTYPE=image/jpeg:https://murdockbaptistchurch.org/wp-content/uploads/2023/05/awana-clubs-logo2.jpg
END:VEVENT
BEGIN:VEVENT
DTSTART;TZID=America/New_York:20240731T180000
DTEND;TZID=America/New_York:20240731T190000
DTSTAMP:20260424T100836
CREATED:20240729T132405Z
LAST-MODIFIED:20240729T132425Z
UID:10008331-1722448800-1722452400@murdockbaptistchurch.org
SUMMARY:PraiSing Spaghetti Dinner
DESCRIPTION:Join us for our fourth annual PraiSing\, a fun\, family night of dinner and music! All are welcome!
URL:https://murdockbaptistchurch.org/event/praising-spaghetti-dinner/
LOCATION:Main Building A\, Fellowship Hall\, 18375 Cochran Boulevard\, Port Charlotte\, Florida\, 33948\, United States
CATEGORIES:Special Events
ATTACH;FMTTYPE=image/jpeg:https://murdockbaptistchurch.org/wp-content/uploads/2024/07/Easyspaghettiwithtomatosauce_11715_DDMFS_1x2_2425-c67720e4ea884f22a852f0bb84a87a80.jpg
END:VEVENT
BEGIN:VEVENT
DTSTART;TZID=America/New_York:20240728T093000
DTEND;TZID=America/New_York:20240728T104500
DTSTAMP:20260424T100836
CREATED:20230531T024858Z
LAST-MODIFIED:20231228T045454Z
UID:10007266-1722159000-1722163500@murdockbaptistchurch.org
SUMMARY:Worship Service
DESCRIPTION:Worship Service in person or on-line. \n\n\n\nWatch Service Live >>
URL:https://murdockbaptistchurch.org/event/worship-service-2/2024-07-28/
LOCATION:Worship Center
CATEGORIES:Special Events
ATTACH;FMTTYPE=image/jpeg:https://murdockbaptistchurch.org/wp-content/uploads/2023/01/murdock-baptist-church-worship-service.jpg
END:VEVENT
BEGIN:VEVENT
DTSTART;TZID=America/New_York:20240724T180000
DTEND;TZID=America/New_York:20240724T193000
DTSTAMP:20260424T100837
CREATED:20240716T141538Z
LAST-MODIFIED:20240716T142012Z
UID:10008328-1721844000-1721849400@murdockbaptistchurch.org
SUMMARY:Thanksgiving in July
DESCRIPTION:You heard that right! Come join us on Wednesday\, July 24 at 6:00 p.m. for a Thanksgiving potluck dinner\, along with games and a message from Elmer Yeager. \n\n\n\nPlease RSVP at the back counter in the Fellowship Hall or call the church office. A list of food to bring for potluck is also located there.
URL:https://murdockbaptistchurch.org/event/thanksgiving-in-july/
LOCATION:Main Building A\, Fellowship Hall\, 18375 Cochran Boulevard\, Port Charlotte\, Florida\, 33948\, United States
CATEGORIES:Special Events
ATTACH;FMTTYPE=image/jpeg:https://murdockbaptistchurch.org/wp-content/uploads/2024/07/thanksgiving-900x600-1.jpg
END:VEVENT
BEGIN:VEVENT
DTSTART;TZID=America/New_York:20240720T090000
DTEND;TZID=America/New_York:20240720T130000
DTSTAMP:20260424T100837
CREATED:20240611T153447Z
LAST-MODIFIED:20240611T153919Z
UID:10008225-1721466000-1721480400@murdockbaptistchurch.org
SUMMARY:OneBlood Drive
DESCRIPTION:To make an appointment\, please visit oneblood.org/donate-now and use sponsor code 58463. \n\n\n\nDonate today and make a difference.
URL:https://murdockbaptistchurch.org/event/oneblood-drive-5/
LOCATION:Murdock Baptist Church – Parking Lot\, 18375 Cochran Boulevard\, Port Charlotte\, Florida\, 33948
CATEGORIES:Special Events
ATTACH;FMTTYPE=image/jpeg:https://murdockbaptistchurch.org/wp-content/uploads/2023/01/bus-e1684521820899.jpg
END:VEVENT
BEGIN:VEVENT
DTSTART;TZID=America/New_York:20240605T180000
DTEND;TZID=America/New_York:20240605T190000
DTSTAMP:20260424T100837
CREATED:20240520T143303Z
LAST-MODIFIED:20240520T143330Z
UID:10007819-1717610400-1717614000@murdockbaptistchurch.org
SUMMARY:Cuba Report Night
DESCRIPTION:Come and hear how God is moving in the hearts of the Cubans and in the lives of the volunteer missionaries. Also hear how God has answered your prayers for the Cuba team. You might just feel God speaking to you about going next time.
URL:https://murdockbaptistchurch.org/event/cuba-report-night-3/
LOCATION:Main Building A\, Fellowship Hall\, 18375 Cochran Boulevard\, Port Charlotte\, Florida\, 33948\, United States
CATEGORIES:Special Events
ATTACH;FMTTYPE=image/jpeg:https://murdockbaptistchurch.org/wp-content/uploads/2023/05/cuba-report.jpg
END:VEVENT
BEGIN:VEVENT
DTSTART;TZID=America/New_York:20240531T183000
DTEND;TZID=America/New_York:20240531T203000
DTSTAMP:20260424T100837
CREATED:20240520T154011Z
LAST-MODIFIED:20240520T154038Z
UID:10007820-1717180200-1717187400@murdockbaptistchurch.org
SUMMARY:JLY’s 2nd Annual Sunflower Fundraising Banquet
DESCRIPTION:Join us for Jesus Loves You Ministry’s second Sunflower Fundraising Banquet. An evening of fellowship\, delicious barbeque\, and sharing our vision of growth. \n\n\n\nGet Your Tickets
URL:https://murdockbaptistchurch.org/event/jlys-2nd-annual-sunflower-fundraising-banquet/
CATEGORIES:Jesus Loves You Ministry,Special Events
ATTACH;FMTTYPE=image/jpeg:https://murdockbaptistchurch.org/wp-content/uploads/2024/05/sunflowers2.jpg
END:VEVENT
BEGIN:VEVENT
DTSTART;TZID=America/New_York:20240523T180000
DTEND;TZID=America/New_York:20240523T200000
DTSTAMP:20260424T100837
CREATED:20240520T142549Z
LAST-MODIFIED:20240520T143634Z
UID:10007818-1716487200-1716494400@murdockbaptistchurch.org
SUMMARY:Men's Ministry: Movie Night
DESCRIPTION:To What Remains Documentary – “More than 80\,000 Americans Missing In Action\, One Mission: Bring Them Home”. This film documents the work of Dr. Pat Scannon who founded a non-profit\, Project Recover. \n\n\n\nTo learn more about the project go to: https://www.projectrecover.org/. \n\n\n\nTo view the trailer go to: https://youtu.be/g8twdI2Q3no?si=qqsytnLq2pluy5Yu.
URL:https://murdockbaptistchurch.org/event/mens-ministry-movie-night/
CATEGORIES:Barnabas Men’s Group,Men’s Bible Study,Special Events
ATTACH;FMTTYPE=image/webp:https://murdockbaptistchurch.org/wp-content/uploads/2024/05/pat-scannon-project-recover-founder-2-683x1024-1.webp
END:VEVENT
BEGIN:VEVENT
DTSTART;TZID=America/New_York:20240518T113000
DTEND;TZID=America/New_York:20240518T130000
DTSTAMP:20260424T100837
CREATED:20240417T155450Z
LAST-MODIFIED:20240417T160156Z
UID:10007816-1716031800-1716037200@murdockbaptistchurch.org
SUMMARY:Ladies' Spring Picnic
DESCRIPTION:Come and enjoy a fun afternoon of delicious food\, interesting conversation and special music. Ashley Brantley from Jesus Loves You Ministry will be sharing her testimony\, along with what is happening at this great ministry in our community. Tickets are $10. Why not invite a friend and join us for a delightful afternoon together!
URL:https://murdockbaptistchurch.org/event/ladies-spring-picnic/
LOCATION:Main Building A\, Fellowship Hall\, 18375 Cochran Boulevard\, Port Charlotte\, Florida\, 33948\, United States
CATEGORIES:God's Garden,Special Events,Women's Ministry
ATTACH;FMTTYPE=image/jpeg:https://murdockbaptistchurch.org/wp-content/uploads/2024/04/picnic.jpg
END:VEVENT
BEGIN:VEVENT
DTSTART;TZID=America/New_York:20240508T180000
DTEND;TZID=America/New_York:20240508T200000
DTSTAMP:20260424T100837
CREATED:20240327T020852Z
LAST-MODIFIED:20240327T020913Z
UID:10007810-1715191200-1715198400@murdockbaptistchurch.org
SUMMARY:A Look Ahead at God's Grand Plan
DESCRIPTION:Even a brief look at the news these days can prompt all kinds of worries and questions. Will there ever be peace on earth? How long will the world live under the threat of terrorism? Is a one-world ruler on he horizon? Join Robert & Debbie Crawford for this 6-week Bible study\, “Discovering What the Future Holds”. No homework. Space is limited\, so please call the church office to sign up or see the Crawfords.
URL:https://murdockbaptistchurch.org/event/a-look-ahead-at-gods-grand-plan/2024-05-08/
LOCATION:Room 107\, 18375 Cochran Boulevard\, Port Charlotte\, Florida\, 33948\, United States
CATEGORIES:Special Events
ATTACH;FMTTYPE=image/jpeg:https://murdockbaptistchurch.org/wp-content/uploads/2024/03/Gods-plans.jpg
END:VEVENT
BEGIN:VEVENT
DTSTART;TZID=America/New_York:20240507T183000
DTEND;TZID=America/New_York:20240507T200000
DTSTAMP:20260424T100837
CREATED:20240417T161801Z
LAST-MODIFIED:20240417T162036Z
UID:10007817-1715106600-1715112000@murdockbaptistchurch.org
SUMMARY:Imagine School's Spring Concert
DESCRIPTION:Mark your calendars and plan to join us as we partner with our local schools. This is not only an opportunity to be entertained by these talented students\, it is also an opportunity to minister to them and their families. Don’t forget to bring a friend\, neighbor or co-worker! \n\n\n\nFree and open to the public.
URL:https://murdockbaptistchurch.org/event/imagine-schools-spring-concert/
LOCATION:Main Stage\, Worship Center\, 18375 Cochran Boulevard\, Port Charlote\, Florida\, 33948
CATEGORIES:Children's Ministry,Special Events,Student Ministry
ATTACH;FMTTYPE=image/jpeg:https://murdockbaptistchurch.org/wp-content/uploads/2024/04/imagine.jpg
END:VEVENT
BEGIN:VEVENT
DTSTART;TZID=America/New_York:20240503T080000
DTEND;TZID=America/New_York:20240503T170000
DTSTAMP:20260424T100837
CREATED:20240306T151704Z
LAST-MODIFIED:20260418T032140Z
UID:10007789-1714723200-1714755600@murdockbaptistchurch.org
SUMMARY:WinShape Camp - Registration is Open
DESCRIPTION:WinShape Camps offers overnight and day camp experiences for kids of all ages.  Starts on Monday\, July 1 – Friday\, July 5th.  Ages are Kindergarten – 5th Grade.  Cost $185 per camper.  \n\n\n\nDay Camps Registration is Now Open!  Deadline is May 3rd.  However\, the camps registration fills up quickly. Register March 4th – 11th and get a $30 discount. \n\n\n\nRegister Now\n\n\n\nInterested in volunteering? Register as a volunteer and submit a pastoral recommendation.
URL:https://murdockbaptistchurch.org/event/winshape-camp-registration-is-open/2024-05-03/
CATEGORIES:Special Events,Winshape
ATTACH;FMTTYPE=image/webp:https://murdockbaptistchurch.org/wp-content/uploads/2024/03/winshape-camp12.webp
END:VEVENT
BEGIN:VEVENT
DTSTART;TZID=America/New_York:20240429T173000
DTEND;TZID=America/New_York:20240429T190000
DTSTAMP:20260424T100837
CREATED:20240417T153622Z
LAST-MODIFIED:20240417T154336Z
UID:10007815-1714411800-1714417200@murdockbaptistchurch.org
SUMMARY:Christ in the Passover
DESCRIPTION:We will start the evening off with a Potluck dinner\, so please bring a dish to share.  \n\n\n\nFollowing dinner we will enjoy the presentation “Christ in the Passover”. Passover celebrates the exodus of the Jewish people from their bondage in Egypt under Pharaoh. However\, Passover is also a powerful foreshadowing of Jesus the Messiah’s sacrificial death\, burial\, and resurrection. Please join us!
URL:https://murdockbaptistchurch.org/event/christ-in-the-passover/
LOCATION:Main Building A\, Fellowship Hall\, 18375 Cochran Boulevard\, Port Charlotte\, Florida\, 33948\, United States
CATEGORIES:Special Events
ATTACH;FMTTYPE=image/jpeg:https://murdockbaptistchurch.org/wp-content/uploads/2024/04/passover-christ.jpg
END:VEVENT
BEGIN:VEVENT
DTSTART;TZID=America/New_York:20240424T180000
DTEND;TZID=America/New_York:20240424T190000
DTSTAMP:20260424T100837
CREATED:20240327T015838Z
LAST-MODIFIED:20240327T021223Z
UID:10007804-1713981600-1713985200@murdockbaptistchurch.org
SUMMARY:Dumping Your Debt with S.T.A.R.T.E.
DESCRIPTION:“The rich rules over the poor\, And the borrower is servant (slave) to the lender.”  \n—Proverbs 22.7\n\n\n\nAre there more days at the end of the month than dollars in your budget? Join Jim and Mary Coratti every Wednesday evening in April to hear their debt-free testimony and learn the effective step-by-step process they used to become completely debt free! Based on Biblical principles about money and inspired by Larry Burkett’s Christian Financial Concepts and Dave Ramsey’s Financial Peace University\, in 4 weeks you too can learn to become debt-free! For more information or to sign up\, visit the desk in the Fellowship Hall.
URL:https://murdockbaptistchurch.org/event/dumping-your-debt-with-s-t-a-r-t-e/2024-04-24/
LOCATION:Room 106\, 18375 Cochran Bloulevard\, Port Charlotte\, Florida\, 33948
CATEGORIES:Barnabas Men’s Group,Special Events,Women's Ministry
ATTACH;FMTTYPE=image/jpeg:https://murdockbaptistchurch.org/wp-content/uploads/2024/03/biblical-debt.jpg
END:VEVENT
BEGIN:VEVENT
DTSTART;TZID=America/New_York:20240424T180000
DTEND;TZID=America/New_York:20240424T183000
DTSTAMP:20260424T100837
CREATED:20240417T145258Z
LAST-MODIFIED:20240417T145606Z
UID:10007814-1713981600-1713983400@murdockbaptistchurch.org
SUMMARY:Quarterly Church Conference
DESCRIPTION:We operate as a congregational church polity which means the membership is informed and votes on church business.  Our church conferences are scheduled quarterly so the church membership can vote on membership requests\, hear reports from various teams\, and review the church financials for the previous quarter.  \n\n\n\nWe have special call church conferences\, announced prior to the meeting\, for purposes that are time sensitive and cannot wait until the normal conference time\, or to vote on hiring staff or personnel\, and other such matters. \n\n\n\nAgenda to be supplied shortly.
URL:https://murdockbaptistchurch.org/event/quarterly-church-conference-4/
LOCATION:Main Building A\, Fellowship Hall\, 18375 Cochran Boulevard\, Port Charlotte\, Florida\, 33948\, United States
CATEGORIES:Quarterly Church Conference,Special Events
ATTACH;FMTTYPE=image/png:https://murdockbaptistchurch.org/wp-content/uploads/2023/10/murdock-logo-new.png
END:VEVENT
BEGIN:VEVENT
DTSTART;TZID=America/New_York:20240423T183000
DTEND;TZID=America/New_York:20240423T203000
DTSTAMP:20260424T100837
CREATED:20240417T144513Z
LAST-MODIFIED:20240417T162920Z
UID:10007813-1713897000-1713904200@murdockbaptistchurch.org
SUMMARY:Port Charlotte High School's Spring Concert: Solos\, Quartets\, Quintets\, Wind Ensemble
DESCRIPTION:Mark your calendars and plan to join us as we partner with our local schools. This is not only an opportunity to be entertained by these talented students\, it is also an opportunity to minister to them and their families. \n\n\n\nDon’t forget to bring a friend\, neighbor or co-worker! \n\n\n\nFree and Open to the Public.
URL:https://murdockbaptistchurch.org/event/port-charlotte-high-school-solos-quartets-quintets-wind-ensemble/
LOCATION:Main Stage\, Worship Center\, 18375 Cochran Boulevard\, Port Charlote\, Florida\, 33948
CATEGORIES:Special Events
ATTACH;FMTTYPE=image/jpeg:https://murdockbaptistchurch.org/wp-content/uploads/2024/04/pchs-spring-concert.jpg
END:VEVENT
BEGIN:VEVENT
DTSTART;TZID=America/New_York:20240422T183000
DTEND;TZID=America/New_York:20240422T203000
DTSTAMP:20260424T100837
CREATED:20240417T143434Z
LAST-MODIFIED:20240417T144805Z
UID:10007812-1713810600-1713817800@murdockbaptistchurch.org
SUMMARY:Port Charlotte High School's Spring Concert: Jazz & Symphonic Band
DESCRIPTION:Mark your calendars and plan to join us as we partner with our local schools. This is not only an opportunity to be entertained by these talented students\, it is also an opportunity to minister to them and their families. \n\n\n\nDon’t forget to bring a friend\, neighbor or co-worker! \n\n\n\nFree and Open to the Public.
URL:https://murdockbaptistchurch.org/event/port-charlotte-high-schools-spring-concert-jazz-symphonic-band/
LOCATION:Main Stage\, Worship Center\, 18375 Cochran Boulevard\, Port Charlote\, Florida\, 33948
CATEGORIES:Special Events
ATTACH;FMTTYPE=image/jpeg:https://murdockbaptistchurch.org/wp-content/uploads/2024/04/jazz-band.jpg
END:VEVENT
BEGIN:VEVENT
DTSTART;TZID=America/New_York:20240420T090000
DTEND;TZID=America/New_York:20240420T130000
DTSTAMP:20260424T100837
CREATED:20240219T203254Z
LAST-MODIFIED:20240219T204840Z
UID:10007642-1713603600-1713618000@murdockbaptistchurch.org
SUMMARY:One Blood Drive: April 20th
DESCRIPTION:To make an appointment\, please visit oneblood.org/donate-now and use sponsor code 58463.
URL:https://murdockbaptistchurch.org/event/one-blood-drive-april-20/
CATEGORIES:Special Events
ATTACH;FMTTYPE=image/jpeg:https://murdockbaptistchurch.org/wp-content/uploads/2023/01/bus-e1684521820899.jpg
END:VEVENT
BEGIN:VEVENT
DTSTART;TZID=America/New_York:20240420T080000
DTEND;TZID=America/New_York:20240420T170000
DTSTAMP:20260424T100837
CREATED:20240326T171901Z
LAST-MODIFIED:20240326T171928Z
UID:10007800-1713600000-1713632400@murdockbaptistchurch.org
SUMMARY:Florida Baptist Disaster Relief Region 6 Training
DESCRIPTION:Disaster Relief: We’re Ready!\n\n\n\nThe mission of Florida Baptist Disaster Relief and Recovery Ministries is to “Make a difference” in times of disaster by connecting Florida Baptist Churches and Associations to people and communities impacted by disaster and by responding with Help\, Healing\, and Hope\, that demonstrates and shares the love of Christ. \n\n\n\nFor information about registering\, go to: https://flbaptist.org/dr-volunteer/.  Click on becoming a credentialed DR volunteer or renewing credentials.
URL:https://murdockbaptistchurch.org/event/florida-baptist-disaster-relief-region-6-training/2024-04-20/
CATEGORIES:Barnabas Men’s Group,Special Events,Women's Ministry
ATTACH;FMTTYPE=image/jpeg:https://murdockbaptistchurch.org/wp-content/uploads/2023/09/diaster-relief.jpg
END:VEVENT
BEGIN:VEVENT
DTSTART;TZID=America/New_York:20240414T080000
DTEND;TZID=America/New_York:20240414T170000
DTSTAMP:20260424T100837
CREATED:20240304T203737Z
LAST-MODIFIED:20240304T213728Z
UID:10007728-1713081600-1713114000@murdockbaptistchurch.org
SUMMARY:Sharing your Testimony
DESCRIPTION:Learn how to share your testimony and the gospel along with the Cuba team. We will practice this key skill that will serve you and the Lord for the rest of your life. \n\n\n\nOpen to everyone.
URL:https://murdockbaptistchurch.org/event/sharing-your-testimony/2024-04-14/
LOCATION:Student Building B\, 18375 Cochran Boulevard\, Port Charlotte\, Florida\, 33948\, United States
CATEGORIES:Special Events
ATTACH;FMTTYPE=image/jpeg:https://murdockbaptistchurch.org/wp-content/uploads/2024/03/testimony.jpg
END:VEVENT
END:VCALENDAR