BEGIN:VCALENDAR
VERSION:2.0
PRODID:-//Murdock Baptist Church - ECPv6.15.20//NONSGML v1.0//EN
CALSCALE:GREGORIAN
METHOD:PUBLISH
X-ORIGINAL-URL:https://murdockbaptistchurch.org
X-WR-CALDESC:Events for Murdock Baptist Church
REFRESH-INTERVAL;VALUE=DURATION:PT1H
X-Robots-Tag:noindex
X-PUBLISHED-TTL:PT1H
BEGIN:VTIMEZONE
TZID:America/New_York
BEGIN:DAYLIGHT
TZOFFSETFROM:-0500
TZOFFSETTO:-0400
TZNAME:EDT
DTSTART:20250309T070000
END:DAYLIGHT
BEGIN:STANDARD
TZOFFSETFROM:-0400
TZOFFSETTO:-0500
TZNAME:EST
DTSTART:20251102T060000
END:STANDARD
BEGIN:DAYLIGHT
TZOFFSETFROM:-0500
TZOFFSETTO:-0400
TZNAME:EDT
DTSTART:20260308T070000
END:DAYLIGHT
BEGIN:STANDARD
TZOFFSETFROM:-0400
TZOFFSETTO:-0500
TZNAME:EST
DTSTART:20261101T060000
END:STANDARD
BEGIN:DAYLIGHT
TZOFFSETFROM:-0500
TZOFFSETTO:-0400
TZNAME:EDT
DTSTART:20270314T070000
END:DAYLIGHT
BEGIN:STANDARD
TZOFFSETFROM:-0400
TZOFFSETTO:-0500
TZNAME:EST
DTSTART:20271107T060000
END:STANDARD
END:VTIMEZONE
BEGIN:VTIMEZONE
TZID:UTC
BEGIN:STANDARD
TZOFFSETFROM:+0000
TZOFFSETTO:+0000
TZNAME:UTC
DTSTART:20250101T000000
END:STANDARD
END:VTIMEZONE
BEGIN:VEVENT
DTSTART;TZID=America/New_York:20260502T090000
DTEND;TZID=America/New_York:20260502T110000
DTSTAMP:20260423T200520
CREATED:20260420T041611Z
LAST-MODIFIED:20260420T041614Z
UID:10009812-1777712400-1777719600@murdockbaptistchurch.org
SUMMARY:GriefShare: Hope and Healing After the Loss of a Loved One
DESCRIPTION:You will find a warm\, caring environment and come to view your groups as an “oasis” on your journey through grief. If you have questions\, meet your facilitators in the Fellowship Hall after service or contact the church office at (941) 627-6352.  \n\n\n\nHope to see you there.
URL:https://murdockbaptistchurch.org/event/griefshare-hope-and-healing-after-the-loss-of-a-loved-one-2/2026-05-02/
CATEGORIES:Special Events
ATTACH;FMTTYPE=image/jpeg:https://murdockbaptistchurch.org/wp-content/uploads/2023/05/grief-spouse.jpg
END:VEVENT
BEGIN:VEVENT
DTSTART;TZID=America/New_York:20260503T083000
DTEND;TZID=America/New_York:20260503T110000
DTSTAMP:20260423T200520
CREATED:20230912T141357Z
LAST-MODIFIED:20230912T141410Z
UID:10006025-1777797000-1777806000@murdockbaptistchurch.org
SUMMARY:Jesus Loves You Ministry Donation Trailer Here!
DESCRIPTION:JLY is a mobile outreach to the homeless.  Their donation trailer is on the church campus the 1st Sunday of the month before and after service.  They accept items of all kinds. (Clean clothing\, housewares\, gardening tools\, pictures\, linens\, small furniture\, etc.)
URL:https://murdockbaptistchurch.org/event/jesus-loves-you-ministry-donation-trailer-here-3/2026-05-03/
CATEGORIES:Jesus Loves You Ministry,Special Events
ATTACH;FMTTYPE=image/jpeg:https://murdockbaptistchurch.org/wp-content/uploads/2023/05/Jesus-loves-you-ministry-1.jpg
END:VEVENT
BEGIN:VEVENT
DTSTART;TZID=UTC:20260503T110000
DTEND;TZID=UTC:20260503T120000
DTSTAMP:20260423T200520
CREATED:20221213T234818Z
LAST-MODIFIED:20250728T195225Z
UID:10001103-1777806000-1777809600@murdockbaptistchurch.org
SUMMARY:New Members Class
DESCRIPTION:Are you interested in becoming a member? Or perhaps you have questions? Join us today after service in the Sanctuary for this informative class.
URL:https://murdockbaptistchurch.org/event/new-members-class/2026-05-03/
CATEGORIES:New Members,Special Events
ATTACH;FMTTYPE=image/jpeg:https://murdockbaptistchurch.org/wp-content/uploads/2023/05/church-members.jpg
END:VEVENT
BEGIN:VEVENT
DTSTART;TZID=America/New_York:20260503T110000
DTEND;TZID=America/New_York:20260503T120000
DTSTAMP:20260423T200520
CREATED:20250925T133343Z
LAST-MODIFIED:20250925T133349Z
UID:10009033-1777806000-1777809600@murdockbaptistchurch.org
SUMMARY:Overcomers Life Group
DESCRIPTION:Join us today for our first session centered around 1 Corinthians 13:12 entitled\, “Have Your Tent Stolen” from the book Jesus Life Coach by Laurie Beth Jones. \n\n\n\nAll are welcome!
URL:https://murdockbaptistchurch.org/event/overcomers-life-group/2026-05-03/
LOCATION:Room 103\, 18375 Cochran Boulevard\, Port Charlotte\, Florida\, 33948\, United States
CATEGORIES:Life Groups,Special Events
ATTACH;FMTTYPE=image/jpeg:https://murdockbaptistchurch.org/wp-content/uploads/2025/09/Screenshot-2025-09-25-093150.jpg
END:VEVENT
BEGIN:VEVENT
DTSTART;TZID=America/New_York:20260504T080000
DTEND;TZID=America/New_York:20260504T090000
DTSTAMP:20260423T200520
CREATED:20250908T190900Z
LAST-MODIFIED:20250925T133728Z
UID:10008949-1777881600-1777885200@murdockbaptistchurch.org
SUMMARY:Men's Ministry: Barnabas Sermon Debrief & Fellowship
DESCRIPTION:
URL:https://murdockbaptistchurch.org/event/mens-ministry-barnabas-sermon-debrief-fellowship/2026-05-04/
LOCATION:Main Building A\, Fellowship Hall\, 18375 Cochran Boulevard\, Port Charlotte\, Florida\, 33948\, United States
CATEGORIES:Barnabas Men’s Group,Ministries,Special Events
ATTACH;FMTTYPE=image/jpeg:https://murdockbaptistchurch.org/wp-content/uploads/2023/03/large-mens-ministry.jpg
END:VEVENT
BEGIN:VEVENT
DTSTART;TZID=America/New_York:20260505T180000
DTEND;TZID=America/New_York:20260505T190000
DTSTAMP:20260423T200520
CREATED:20250925T134401Z
LAST-MODIFIED:20251014T141510Z
UID:10009091-1778004000-1778007600@murdockbaptistchurch.org
SUMMARY:Men's Tuesday Bible Study
DESCRIPTION:
URL:https://murdockbaptistchurch.org/event/mens-tuesday-bible-study-2/2026-05-05/
LOCATION:Main Building A\, Fellowship Hall\, 18375 Cochran Boulevard\, Port Charlotte\, Florida\, 33948\, United States
CATEGORIES:Barnabas Men’s Group,Men’s Bible Study,Ministries,Special Events
ATTACH;FMTTYPE=image/jpeg:https://murdockbaptistchurch.org/wp-content/uploads/2023/01/mens-bible-study-murdock-baptist-church.jpg
END:VEVENT
BEGIN:VEVENT
DTSTART;TZID=America/New_York:20260506T180000
DTEND;TZID=America/New_York:20260506T190000
DTSTAMP:20260423T200520
CREATED:20260111T165303Z
LAST-MODIFIED:20260111T165307Z
UID:10009577-1778090400-1778094000@murdockbaptistchurch.org
SUMMARY:Wednesday Night Bible Study
DESCRIPTION:Join Pastor Ron at 6 p.m.\, as we dive into a study on the parables of Jesus.
URL:https://murdockbaptistchurch.org/event/wednesday-night-bible-study/2026-05-06/
LOCATION:Main Building A\, Fellowship Hall\, 18375 Cochran Boulevard\, Port Charlotte\, Florida\, 33948\, United States
CATEGORIES:Bible Study - In-person,Special Events
ATTACH;FMTTYPE=image/jpeg:https://murdockbaptistchurch.org/wp-content/uploads/2022/12/pastor-ron-tipton.jpg
END:VEVENT
BEGIN:VEVENT
DTSTART;TZID=America/New_York:20260506T180000
DTEND;TZID=America/New_York:20260506T190000
DTSTAMP:20260423T200520
CREATED:20260413T125819Z
LAST-MODIFIED:20260418T025956Z
UID:10009806-1778090400-1778094000@murdockbaptistchurch.org
SUMMARY:MBC Wednesday Night Summer Schedule: AWANA Awards Night
DESCRIPTION:AWANA Awards Night – A celebration for our graduates of the AWANA school year!
URL:https://murdockbaptistchurch.org/event/mbc-wednesday-night-summer-schedule-awana-awards-night/
LOCATION:Main Building A\, Fellowship Hall\, 18375 Cochran Boulevard\, Port Charlotte\, Florida\, 33948\, United States
CATEGORIES:AWANA Clubs,Children's Ministry,Ministries,Preschool Ministry,Special Events,Student Ministry
ATTACH;FMTTYPE=image/jpeg:https://murdockbaptistchurch.org/wp-content/uploads/2023/05/awana-logo-cropped.jpg
END:VEVENT
BEGIN:VEVENT
DTSTART;TZID=America/New_York:20260509T080000
DTEND;TZID=America/New_York:20260509T090000
DTSTAMP:20260423T200520
CREATED:20260420T041158Z
LAST-MODIFIED:20260420T041202Z
UID:10009810-1778313600-1778317200@murdockbaptistchurch.org
SUMMARY:Men's Ministry - Saturday Morning Breakfast
DESCRIPTION:
URL:https://murdockbaptistchurch.org/event/mens-ministry-saturday-morning-breakfast/
CATEGORIES:Men's Ministry,Men’s Bible Study,Special Events
ATTACH;FMTTYPE=image/jpeg:https://murdockbaptistchurch.org/wp-content/uploads/2025/10/mens-breakfast.jpg
END:VEVENT
BEGIN:VEVENT
DTSTART;TZID=America/New_York:20260509T090000
DTEND;TZID=America/New_York:20260509T110000
DTSTAMP:20260423T200520
CREATED:20260420T041611Z
LAST-MODIFIED:20260420T041614Z
UID:10009813-1778317200-1778324400@murdockbaptistchurch.org
SUMMARY:GriefShare: Hope and Healing After the Loss of a Loved One
DESCRIPTION:You will find a warm\, caring environment and come to view your groups as an “oasis” on your journey through grief. If you have questions\, meet your facilitators in the Fellowship Hall after service or contact the church office at (941) 627-6352.  \n\n\n\nHope to see you there.
URL:https://murdockbaptistchurch.org/event/griefshare-hope-and-healing-after-the-loss-of-a-loved-one-2/2026-05-09/
CATEGORIES:Special Events
ATTACH;FMTTYPE=image/jpeg:https://murdockbaptistchurch.org/wp-content/uploads/2023/05/grief-spouse.jpg
END:VEVENT
BEGIN:VEVENT
DTSTART;TZID=America/New_York:20260510T110000
DTEND;TZID=America/New_York:20260510T120000
DTSTAMP:20260423T200520
CREATED:20250925T133343Z
LAST-MODIFIED:20250925T133349Z
UID:10009034-1778410800-1778414400@murdockbaptistchurch.org
SUMMARY:Overcomers Life Group
DESCRIPTION:Join us today for our first session centered around 1 Corinthians 13:12 entitled\, “Have Your Tent Stolen” from the book Jesus Life Coach by Laurie Beth Jones. \n\n\n\nAll are welcome!
URL:https://murdockbaptistchurch.org/event/overcomers-life-group/2026-05-10/
LOCATION:Room 103\, 18375 Cochran Boulevard\, Port Charlotte\, Florida\, 33948\, United States
CATEGORIES:Life Groups,Special Events
ATTACH;FMTTYPE=image/jpeg:https://murdockbaptistchurch.org/wp-content/uploads/2025/09/Screenshot-2025-09-25-093150.jpg
END:VEVENT
BEGIN:VEVENT
DTSTART;TZID=America/New_York:20260511T080000
DTEND;TZID=America/New_York:20260511T090000
DTSTAMP:20260423T200520
CREATED:20250908T190900Z
LAST-MODIFIED:20250925T133728Z
UID:10008950-1778486400-1778490000@murdockbaptistchurch.org
SUMMARY:Men's Ministry: Barnabas Sermon Debrief & Fellowship
DESCRIPTION:
URL:https://murdockbaptistchurch.org/event/mens-ministry-barnabas-sermon-debrief-fellowship/2026-05-11/
LOCATION:Main Building A\, Fellowship Hall\, 18375 Cochran Boulevard\, Port Charlotte\, Florida\, 33948\, United States
CATEGORIES:Barnabas Men’s Group,Ministries,Special Events
ATTACH;FMTTYPE=image/jpeg:https://murdockbaptistchurch.org/wp-content/uploads/2023/03/large-mens-ministry.jpg
END:VEVENT
BEGIN:VEVENT
DTSTART;TZID=America/New_York:20260512T180000
DTEND;TZID=America/New_York:20260512T190000
DTSTAMP:20260423T200520
CREATED:20250925T134401Z
LAST-MODIFIED:20251014T141510Z
UID:10009092-1778608800-1778612400@murdockbaptistchurch.org
SUMMARY:Men's Tuesday Bible Study
DESCRIPTION:
URL:https://murdockbaptistchurch.org/event/mens-tuesday-bible-study-2/2026-05-12/
LOCATION:Main Building A\, Fellowship Hall\, 18375 Cochran Boulevard\, Port Charlotte\, Florida\, 33948\, United States
CATEGORIES:Barnabas Men’s Group,Men’s Bible Study,Ministries,Special Events
ATTACH;FMTTYPE=image/jpeg:https://murdockbaptistchurch.org/wp-content/uploads/2023/01/mens-bible-study-murdock-baptist-church.jpg
END:VEVENT
BEGIN:VEVENT
DTSTART;TZID=America/New_York:20260513T180000
DTEND;TZID=America/New_York:20260513T190000
DTSTAMP:20260423T200520
CREATED:20260413T130737Z
LAST-MODIFIED:20260413T130741Z
UID:10009807-1778695200-1778698800@murdockbaptistchurch.org
SUMMARY:MBC Wednesday Night Summer Schedule: Potluck & Officer Appreciation
DESCRIPTION:Bring a dish and get to know our local police officers and show them you appreciate their work to keep us all safe.
URL:https://murdockbaptistchurch.org/event/mbc-wednesday-night-summer-schedule-potluck-officer-appreciation/
LOCATION:Main Building A\, Fellowship Hall\, 18375 Cochran Boulevard\, Port Charlotte\, Florida\, 33948\, United States
CATEGORIES:Special Events
ATTACH;FMTTYPE=image/jpeg:https://murdockbaptistchurch.org/wp-content/uploads/2026/04/667879097_1376800817814502_4712857679865163654_n.jpg
END:VEVENT
BEGIN:VEVENT
DTSTART;TZID=America/New_York:20260514T100000
DTEND;TZID=America/New_York:20260514T140000
DTSTAMP:20260423T200520
CREATED:20250915T160511Z
LAST-MODIFIED:20250915T161037Z
UID:10008997-1778752800-1778767200@murdockbaptistchurch.org
SUMMARY:Bobbin Along Quilters
DESCRIPTION:This groups meets on the 2nd and 4th Thursday of each month from 10-2 p.m. If you’ve always wanted to learn how to quilt or you have been quilting for years\, please join us! for more information\, contact Debbie Eritz at (234) 567-3686.
URL:https://murdockbaptistchurch.org/event/bobbin-along-quilters/2026-05-14/
CATEGORIES:God's Garden,Ministries,Quilters,Special Events,Women's Ministry
ATTACH;FMTTYPE=image/jpeg:https://murdockbaptistchurch.org/wp-content/uploads/2025/09/quilt.jpg
END:VEVENT
BEGIN:VEVENT
DTSTART;TZID=America/New_York:20260516T090000
DTEND;TZID=America/New_York:20260516T110000
DTSTAMP:20260423T200520
CREATED:20260420T041611Z
LAST-MODIFIED:20260420T041614Z
UID:10009814-1778922000-1778929200@murdockbaptistchurch.org
SUMMARY:GriefShare: Hope and Healing After the Loss of a Loved One
DESCRIPTION:You will find a warm\, caring environment and come to view your groups as an “oasis” on your journey through grief. If you have questions\, meet your facilitators in the Fellowship Hall after service or contact the church office at (941) 627-6352.  \n\n\n\nHope to see you there.
URL:https://murdockbaptistchurch.org/event/griefshare-hope-and-healing-after-the-loss-of-a-loved-one-2/2026-05-16/
CATEGORIES:Special Events
ATTACH;FMTTYPE=image/jpeg:https://murdockbaptistchurch.org/wp-content/uploads/2023/05/grief-spouse.jpg
END:VEVENT
BEGIN:VEVENT
DTSTART;TZID=America/New_York:20260516T113000
DTEND;TZID=America/New_York:20260516T130000
DTSTAMP:20260423T200520
CREATED:20260409T202929Z
LAST-MODIFIED:20260420T023438Z
UID:10009802-1778931000-1778936400@murdockbaptistchurch.org
SUMMARY:Murdock Women - Country Western Barbecue
DESCRIPTION:Y’all Come! \n\n\n\nWhat: A Country Western BarbecueWhen: Saturday\, May 16th 11:30 amHow Much: $15 a ticket \n\n\n\nWhat to expect: Line Dancing (We will learn together!!)\, A special Country Mystery Guest\, Great Barbecue food\, a fun photo booth and more!! \n\n\n\nCome Hungry\, dressed in your favorite Western Wear and be ready for a good time! \n\n\n\nTickets will be on sale after service for the next 5 weeks! Invite a friend and get out your cowgirl boots!! \n\n\n\nFor more information you can email me at barb@overflowinghope.com or text 408 621-9417. \n\n\n\nHope to see you there!! \n\n\n\nBarb MillerWomen’s Ministry Director at MBC
URL:https://murdockbaptistchurch.org/event/murdock-women-country-western-barbecue/
LOCATION:Main Building A\, Fellowship Hall\, 18375 Cochran Boulevard\, Port Charlotte\, Florida\, 33948\, United States
CATEGORIES:God's Garden,Ministries,Special Events,Women's Ministry
ATTACH;FMTTYPE=image/jpeg:https://murdockbaptistchurch.org/wp-content/uploads/2026/04/womens-bbq.jpg
END:VEVENT
BEGIN:VEVENT
DTSTART;TZID=America/New_York:20260517T110000
DTEND;TZID=America/New_York:20260517T120000
DTSTAMP:20260423T200520
CREATED:20250925T133343Z
LAST-MODIFIED:20250925T133349Z
UID:10009035-1779015600-1779019200@murdockbaptistchurch.org
SUMMARY:Overcomers Life Group
DESCRIPTION:Join us today for our first session centered around 1 Corinthians 13:12 entitled\, “Have Your Tent Stolen” from the book Jesus Life Coach by Laurie Beth Jones. \n\n\n\nAll are welcome!
URL:https://murdockbaptistchurch.org/event/overcomers-life-group/2026-05-17/
LOCATION:Room 103\, 18375 Cochran Boulevard\, Port Charlotte\, Florida\, 33948\, United States
CATEGORIES:Life Groups,Special Events
ATTACH;FMTTYPE=image/jpeg:https://murdockbaptistchurch.org/wp-content/uploads/2025/09/Screenshot-2025-09-25-093150.jpg
END:VEVENT
BEGIN:VEVENT
DTSTART;TZID=America/New_York:20260518T080000
DTEND;TZID=America/New_York:20260518T090000
DTSTAMP:20260423T200520
CREATED:20250908T190900Z
LAST-MODIFIED:20250925T133728Z
UID:10008951-1779091200-1779094800@murdockbaptistchurch.org
SUMMARY:Men's Ministry: Barnabas Sermon Debrief & Fellowship
DESCRIPTION:
URL:https://murdockbaptistchurch.org/event/mens-ministry-barnabas-sermon-debrief-fellowship/2026-05-18/
LOCATION:Main Building A\, Fellowship Hall\, 18375 Cochran Boulevard\, Port Charlotte\, Florida\, 33948\, United States
CATEGORIES:Barnabas Men’s Group,Ministries,Special Events
ATTACH;FMTTYPE=image/jpeg:https://murdockbaptistchurch.org/wp-content/uploads/2023/03/large-mens-ministry.jpg
END:VEVENT
BEGIN:VEVENT
DTSTART;TZID=America/New_York:20260518T124500
DTEND;TZID=America/New_York:20260518T141500
DTSTAMP:20260423T200520
CREATED:20250610T203606Z
LAST-MODIFIED:20250610T203648Z
UID:10008023-1779108300-1779113700@murdockbaptistchurch.org
SUMMARY:Prayer Shawl Ministry
DESCRIPTION:Do you like to knit\, crochet and fellowship? Join us on the 1st Monday of each month. \n\n\n\nOur shawls are made and given to comfort those who are going through a tough time. Whether it be personal or family illness\, loss of loved one\, or a multitude of reasons\, to let them know God loves them and that we are praying for them.
URL:https://murdockbaptistchurch.org/event/prayer-shawl-ministry-5/2026-05-18/
LOCATION:Student Building B\, 18375 Cochran Boulevard\, Port Charlotte\, Florida\, 33948\, United States
CATEGORIES:Special Events
ATTACH;FMTTYPE=image/jpeg:https://murdockbaptistchurch.org/wp-content/uploads/2022/11/prayer-shawl.jpg
END:VEVENT
BEGIN:VEVENT
DTSTART;TZID=America/New_York:20260519T180000
DTEND;TZID=America/New_York:20260519T190000
DTSTAMP:20260423T200520
CREATED:20250925T134401Z
LAST-MODIFIED:20251014T141510Z
UID:10009093-1779213600-1779217200@murdockbaptistchurch.org
SUMMARY:Men's Tuesday Bible Study
DESCRIPTION:
URL:https://murdockbaptistchurch.org/event/mens-tuesday-bible-study-2/2026-05-19/
LOCATION:Main Building A\, Fellowship Hall\, 18375 Cochran Boulevard\, Port Charlotte\, Florida\, 33948\, United States
CATEGORIES:Barnabas Men’s Group,Men’s Bible Study,Ministries,Special Events
ATTACH;FMTTYPE=image/jpeg:https://murdockbaptistchurch.org/wp-content/uploads/2023/01/mens-bible-study-murdock-baptist-church.jpg
END:VEVENT
BEGIN:VEVENT
DTSTART;TZID=America/New_York:20260523T080000
DTEND;TZID=America/New_York:20260523T100000
DTSTAMP:20260423T200520
CREATED:20260302T183453Z
LAST-MODIFIED:20260302T184524Z
UID:10009609-1779523200-1779530400@murdockbaptistchurch.org
SUMMARY:Men's Prayer & Praise
DESCRIPTION:A time dedicated to prayer\, worship & fellowship!
URL:https://murdockbaptistchurch.org/event/mens-prayer-praise-2/2026-05-23/
LOCATION:Main Building A\, Fellowship Hall\, 18375 Cochran Boulevard\, Port Charlotte\, Florida\, 33948\, United States
CATEGORIES:Barnabas Men’s Group,Men's Ministry,Ministries,Special Events
END:VEVENT
BEGIN:VEVENT
DTSTART;TZID=America/New_York:20260523T090000
DTEND;TZID=America/New_York:20260523T110000
DTSTAMP:20260423T200520
CREATED:20260420T041611Z
LAST-MODIFIED:20260420T041614Z
UID:10009815-1779526800-1779534000@murdockbaptistchurch.org
SUMMARY:GriefShare: Hope and Healing After the Loss of a Loved One
DESCRIPTION:You will find a warm\, caring environment and come to view your groups as an “oasis” on your journey through grief. If you have questions\, meet your facilitators in the Fellowship Hall after service or contact the church office at (941) 627-6352.  \n\n\n\nHope to see you there.
URL:https://murdockbaptistchurch.org/event/griefshare-hope-and-healing-after-the-loss-of-a-loved-one-2/2026-05-23/
CATEGORIES:Special Events
ATTACH;FMTTYPE=image/jpeg:https://murdockbaptistchurch.org/wp-content/uploads/2023/05/grief-spouse.jpg
END:VEVENT
BEGIN:VEVENT
DTSTART;TZID=America/New_York:20260524T110000
DTEND;TZID=America/New_York:20260524T120000
DTSTAMP:20260423T200520
CREATED:20250925T133343Z
LAST-MODIFIED:20250925T133349Z
UID:10009036-1779620400-1779624000@murdockbaptistchurch.org
SUMMARY:Overcomers Life Group
DESCRIPTION:Join us today for our first session centered around 1 Corinthians 13:12 entitled\, “Have Your Tent Stolen” from the book Jesus Life Coach by Laurie Beth Jones. \n\n\n\nAll are welcome!
URL:https://murdockbaptistchurch.org/event/overcomers-life-group/2026-05-24/
LOCATION:Room 103\, 18375 Cochran Boulevard\, Port Charlotte\, Florida\, 33948\, United States
CATEGORIES:Life Groups,Special Events
ATTACH;FMTTYPE=image/jpeg:https://murdockbaptistchurch.org/wp-content/uploads/2025/09/Screenshot-2025-09-25-093150.jpg
END:VEVENT
BEGIN:VEVENT
DTSTART;TZID=America/New_York:20260525T080000
DTEND;TZID=America/New_York:20260525T090000
DTSTAMP:20260423T200520
CREATED:20250908T190900Z
LAST-MODIFIED:20250925T133728Z
UID:10008952-1779696000-1779699600@murdockbaptistchurch.org
SUMMARY:Men's Ministry: Barnabas Sermon Debrief & Fellowship
DESCRIPTION:
URL:https://murdockbaptistchurch.org/event/mens-ministry-barnabas-sermon-debrief-fellowship/2026-05-25/
LOCATION:Main Building A\, Fellowship Hall\, 18375 Cochran Boulevard\, Port Charlotte\, Florida\, 33948\, United States
CATEGORIES:Barnabas Men’s Group,Ministries,Special Events
ATTACH;FMTTYPE=image/jpeg:https://murdockbaptistchurch.org/wp-content/uploads/2023/03/large-mens-ministry.jpg
END:VEVENT
BEGIN:VEVENT
DTSTART;TZID=America/New_York:20260526T180000
DTEND;TZID=America/New_York:20260526T190000
DTSTAMP:20260423T200520
CREATED:20250925T134401Z
LAST-MODIFIED:20251014T141510Z
UID:10009094-1779818400-1779822000@murdockbaptistchurch.org
SUMMARY:Men's Tuesday Bible Study
DESCRIPTION:
URL:https://murdockbaptistchurch.org/event/mens-tuesday-bible-study-2/2026-05-26/
LOCATION:Main Building A\, Fellowship Hall\, 18375 Cochran Boulevard\, Port Charlotte\, Florida\, 33948\, United States
CATEGORIES:Barnabas Men’s Group,Men’s Bible Study,Ministries,Special Events
ATTACH;FMTTYPE=image/jpeg:https://murdockbaptistchurch.org/wp-content/uploads/2023/01/mens-bible-study-murdock-baptist-church.jpg
END:VEVENT
BEGIN:VEVENT
DTSTART;TZID=America/New_York:20260528T100000
DTEND;TZID=America/New_York:20260528T140000
DTSTAMP:20260423T200520
CREATED:20250915T160757Z
LAST-MODIFIED:20251223T214636Z
UID:10008987-1779962400-1779976800@murdockbaptistchurch.org
SUMMARY:Bobbin Along Quilters
DESCRIPTION:This groups meets on the 2nd and 4th Thursday of each month from 10-2 p.m. If you’ve always wanted to learn how to quilt or you have been quilting for years\, please join us! for more information\, contact Debbie Eritz at (234) 567-3686.
URL:https://murdockbaptistchurch.org/event/bobbin-along-quilters-2/2026-05-28/
LOCATION:Room 106\, 18375 Cochran Bloulevard\, Port Charlotte\, Florida\, 33948
CATEGORIES:God's Garden,Ministries,Quilters,Special Events,Women's Ministry
ATTACH;FMTTYPE=image/jpeg:https://murdockbaptistchurch.org/wp-content/uploads/2025/09/quilt.jpg
END:VEVENT
BEGIN:VEVENT
DTSTART;TZID=America/New_York:20260530T090000
DTEND;TZID=America/New_York:20260530T110000
DTSTAMP:20260423T200520
CREATED:20260420T041611Z
LAST-MODIFIED:20260420T041614Z
UID:10009816-1780131600-1780138800@murdockbaptistchurch.org
SUMMARY:GriefShare: Hope and Healing After the Loss of a Loved One
DESCRIPTION:You will find a warm\, caring environment and come to view your groups as an “oasis” on your journey through grief. If you have questions\, meet your facilitators in the Fellowship Hall after service or contact the church office at (941) 627-6352.  \n\n\n\nHope to see you there.
URL:https://murdockbaptistchurch.org/event/griefshare-hope-and-healing-after-the-loss-of-a-loved-one-2/2026-05-30/
CATEGORIES:Special Events
ATTACH;FMTTYPE=image/jpeg:https://murdockbaptistchurch.org/wp-content/uploads/2023/05/grief-spouse.jpg
END:VEVENT
BEGIN:VEVENT
DTSTART;TZID=America/New_York:20260531T110000
DTEND;TZID=America/New_York:20260531T120000
DTSTAMP:20260423T200520
CREATED:20250925T133343Z
LAST-MODIFIED:20250925T133349Z
UID:10009037-1780225200-1780228800@murdockbaptistchurch.org
SUMMARY:Overcomers Life Group
DESCRIPTION:Join us today for our first session centered around 1 Corinthians 13:12 entitled\, “Have Your Tent Stolen” from the book Jesus Life Coach by Laurie Beth Jones. \n\n\n\nAll are welcome!
URL:https://murdockbaptistchurch.org/event/overcomers-life-group/2026-05-31/
LOCATION:Room 103\, 18375 Cochran Boulevard\, Port Charlotte\, Florida\, 33948\, United States
CATEGORIES:Life Groups,Special Events
ATTACH;FMTTYPE=image/jpeg:https://murdockbaptistchurch.org/wp-content/uploads/2025/09/Screenshot-2025-09-25-093150.jpg
END:VEVENT
END:VCALENDAR