BEGIN:VCALENDAR
VERSION:2.0
PRODID:-//Murdock Baptist Church - ECPv6.15.20//NONSGML v1.0//EN
CALSCALE:GREGORIAN
METHOD:PUBLISH
X-ORIGINAL-URL:https://murdockbaptistchurch.org
X-WR-CALDESC:Events for Murdock Baptist Church
REFRESH-INTERVAL;VALUE=DURATION:PT1H
X-Robots-Tag:noindex
X-PUBLISHED-TTL:PT1H
BEGIN:VTIMEZONE
TZID:America/New_York
BEGIN:DAYLIGHT
TZOFFSETFROM:-0500
TZOFFSETTO:-0400
TZNAME:EDT
DTSTART:20240310T070000
END:DAYLIGHT
BEGIN:STANDARD
TZOFFSETFROM:-0400
TZOFFSETTO:-0500
TZNAME:EST
DTSTART:20241103T060000
END:STANDARD
BEGIN:DAYLIGHT
TZOFFSETFROM:-0500
TZOFFSETTO:-0400
TZNAME:EDT
DTSTART:20250309T070000
END:DAYLIGHT
BEGIN:STANDARD
TZOFFSETFROM:-0400
TZOFFSETTO:-0500
TZNAME:EST
DTSTART:20251102T060000
END:STANDARD
BEGIN:DAYLIGHT
TZOFFSETFROM:-0500
TZOFFSETTO:-0400
TZNAME:EDT
DTSTART:20260308T070000
END:DAYLIGHT
BEGIN:STANDARD
TZOFFSETFROM:-0400
TZOFFSETTO:-0500
TZNAME:EST
DTSTART:20261101T060000
END:STANDARD
END:VTIMEZONE
BEGIN:VTIMEZONE
TZID:UTC
BEGIN:STANDARD
TZOFFSETFROM:+0000
TZOFFSETTO:+0000
TZNAME:UTC
DTSTART:20240101T000000
END:STANDARD
END:VTIMEZONE
BEGIN:VEVENT
DTSTART;TZID=America/New_York:20251001T180000
DTEND;TZID=America/New_York:20251001T190000
DTSTAMP:20260424T052519
CREATED:20250929T130849Z
LAST-MODIFIED:20250929T130858Z
UID:10009043-1759341600-1759345200@murdockbaptistchurch.org
SUMMARY:Wednesday Bible Study
DESCRIPTION:Join Pastor Ron as we continue to look at the book of Judges and fill in the pieces we missed during our Sunday morning series.
URL:https://murdockbaptistchurch.org/event/wednesday-bible-study/2025-10-01/
LOCATION:Main Building A\, Fellowship Hall\, 18375 Cochran Boulevard\, Port Charlotte\, Florida\, 33948\, United States
CATEGORIES:Bible Study - In-person,Ministries,Special Events
ATTACH;FMTTYPE=image/jpeg:https://murdockbaptistchurch.org/wp-content/uploads/2022/12/pastor-ron-tipton.jpg
END:VEVENT
BEGIN:VEVENT
DTSTART;TZID=America/New_York:20251001T180000
DTEND;TZID=America/New_York:20251001T193000
DTSTAMP:20260424T052519
CREATED:20250721T141115Z
LAST-MODIFIED:20250721T144932Z
UID:10008867-1759341600-1759347000@murdockbaptistchurch.org
SUMMARY:GriefShare: Hope and Healing After the Loss of a Loved One
DESCRIPTION:You will find a warm\, caring environment and view your group as an “oasis” on your journey through grief. If you have questions today\, meet your facilitators in the Fellowship Hall after service or contactthe church office at (941) 627-6352.
URL:https://murdockbaptistchurch.org/event/griefshare-hope-and-healing-after-the-loss-of-a-loved-one/2025-10-01/
LOCATION:Rooms 101-102\, 18375 Cochran Boulevard\, Port Charlotte\, Florida\, 33948\, United States
CATEGORIES:Barnabas Men’s Group,Good Grief,Men's Ministry,Special Events,Women's Ministry
ATTACH;FMTTYPE=image/jpeg:https://murdockbaptistchurch.org/wp-content/uploads/2023/05/grief-spouse.jpg
END:VEVENT
BEGIN:VEVENT
DTSTART;TZID=America/New_York:20251005T083000
DTEND;TZID=America/New_York:20251005T110000
DTSTAMP:20260424T052519
CREATED:20230912T141357Z
LAST-MODIFIED:20230912T141410Z
UID:10006018-1759653000-1759662000@murdockbaptistchurch.org
SUMMARY:Jesus Loves You Ministry Donation Trailer Here!
DESCRIPTION:JLY is a mobile outreach to the homeless.  Their donation trailer is on the church campus the 1st Sunday of the month before and after service.  They accept items of all kinds. (Clean clothing\, housewares\, gardening tools\, pictures\, linens\, small furniture\, etc.)
URL:https://murdockbaptistchurch.org/event/jesus-loves-you-ministry-donation-trailer-here-3/2025-10-05/
CATEGORIES:Jesus Loves You Ministry,Special Events
ATTACH;FMTTYPE=image/jpeg:https://murdockbaptistchurch.org/wp-content/uploads/2023/05/Jesus-loves-you-ministry-1.jpg
END:VEVENT
BEGIN:VEVENT
DTSTART;TZID=UTC:20251005T110000
DTEND;TZID=UTC:20251005T120000
DTSTAMP:20260424T052519
CREATED:20221213T234818Z
LAST-MODIFIED:20250728T195225Z
UID:10001096-1759662000-1759665600@murdockbaptistchurch.org
SUMMARY:New Members Class
DESCRIPTION:Are you interested in becoming a member? Or perhaps you have questions? Join us today after service in the Sanctuary for this informative class.
URL:https://murdockbaptistchurch.org/event/new-members-class/2025-10-05/
CATEGORIES:New Members,Special Events
ATTACH;FMTTYPE=image/jpeg:https://murdockbaptistchurch.org/wp-content/uploads/2023/05/church-members.jpg
END:VEVENT
BEGIN:VEVENT
DTSTART;TZID=America/New_York:20251005T110000
DTEND;TZID=America/New_York:20251005T120000
DTSTAMP:20260424T052519
CREATED:20250925T133343Z
LAST-MODIFIED:20250925T133349Z
UID:10009003-1759662000-1759665600@murdockbaptistchurch.org
SUMMARY:Overcomers Life Group
DESCRIPTION:Join us today for our first session centered around 1 Corinthians 13:12 entitled\, “Have Your Tent Stolen” from the book Jesus Life Coach by Laurie Beth Jones. \n\n\n\nAll are welcome!
URL:https://murdockbaptistchurch.org/event/overcomers-life-group/2025-10-05/
LOCATION:Room 103\, 18375 Cochran Boulevard\, Port Charlotte\, Florida\, 33948\, United States
CATEGORIES:Life Groups,Special Events
ATTACH;FMTTYPE=image/jpeg:https://murdockbaptistchurch.org/wp-content/uploads/2025/09/Screenshot-2025-09-25-093150.jpg
END:VEVENT
BEGIN:VEVENT
DTSTART;TZID=America/New_York:20251006T080000
DTEND;TZID=America/New_York:20251006T090000
DTSTAMP:20260424T052519
CREATED:20250908T190900Z
LAST-MODIFIED:20250925T133728Z
UID:10008919-1759737600-1759741200@murdockbaptistchurch.org
SUMMARY:Men's Ministry: Barnabas Sermon Debrief & Fellowship
DESCRIPTION:
URL:https://murdockbaptistchurch.org/event/mens-ministry-barnabas-sermon-debrief-fellowship/2025-10-06/
LOCATION:Main Building A\, Fellowship Hall\, 18375 Cochran Boulevard\, Port Charlotte\, Florida\, 33948\, United States
CATEGORIES:Barnabas Men’s Group,Ministries,Special Events
ATTACH;FMTTYPE=image/jpeg:https://murdockbaptistchurch.org/wp-content/uploads/2023/03/large-mens-ministry.jpg
END:VEVENT
BEGIN:VEVENT
DTSTART;TZID=America/New_York:20251007T180000
DTEND;TZID=America/New_York:20251007T190000
DTSTAMP:20260424T052519
CREATED:20250925T134401Z
LAST-MODIFIED:20251014T141510Z
UID:10009061-1759860000-1759863600@murdockbaptistchurch.org
SUMMARY:Men's Tuesday Bible Study
DESCRIPTION:
URL:https://murdockbaptistchurch.org/event/mens-tuesday-bible-study-2/2025-10-07/
LOCATION:Main Building A\, Fellowship Hall\, 18375 Cochran Boulevard\, Port Charlotte\, Florida\, 33948\, United States
CATEGORIES:Barnabas Men’s Group,Men’s Bible Study,Ministries,Special Events
ATTACH;FMTTYPE=image/jpeg:https://murdockbaptistchurch.org/wp-content/uploads/2023/01/mens-bible-study-murdock-baptist-church.jpg
END:VEVENT
BEGIN:VEVENT
DTSTART;TZID=America/New_York:20251008T180000
DTEND;TZID=America/New_York:20251008T190000
DTSTAMP:20260424T052520
CREATED:20250929T130849Z
LAST-MODIFIED:20250929T130858Z
UID:10009044-1759946400-1759950000@murdockbaptistchurch.org
SUMMARY:Wednesday Bible Study
DESCRIPTION:Join Pastor Ron as we continue to look at the book of Judges and fill in the pieces we missed during our Sunday morning series.
URL:https://murdockbaptistchurch.org/event/wednesday-bible-study/2025-10-08/
LOCATION:Main Building A\, Fellowship Hall\, 18375 Cochran Boulevard\, Port Charlotte\, Florida\, 33948\, United States
CATEGORIES:Bible Study - In-person,Ministries,Special Events
ATTACH;FMTTYPE=image/jpeg:https://murdockbaptistchurch.org/wp-content/uploads/2022/12/pastor-ron-tipton.jpg
END:VEVENT
BEGIN:VEVENT
DTSTART;TZID=America/New_York:20251008T180000
DTEND;TZID=America/New_York:20251008T193000
DTSTAMP:20260424T052520
CREATED:20250721T141115Z
LAST-MODIFIED:20250721T144932Z
UID:10008868-1759946400-1759951800@murdockbaptistchurch.org
SUMMARY:GriefShare: Hope and Healing After the Loss of a Loved One
DESCRIPTION:You will find a warm\, caring environment and view your group as an “oasis” on your journey through grief. If you have questions today\, meet your facilitators in the Fellowship Hall after service or contactthe church office at (941) 627-6352.
URL:https://murdockbaptistchurch.org/event/griefshare-hope-and-healing-after-the-loss-of-a-loved-one/2025-10-08/
LOCATION:Rooms 101-102\, 18375 Cochran Boulevard\, Port Charlotte\, Florida\, 33948\, United States
CATEGORIES:Barnabas Men’s Group,Good Grief,Men's Ministry,Special Events,Women's Ministry
ATTACH;FMTTYPE=image/jpeg:https://murdockbaptistchurch.org/wp-content/uploads/2023/05/grief-spouse.jpg
END:VEVENT
BEGIN:VEVENT
DTSTART;TZID=America/New_York:20251009T100000
DTEND;TZID=America/New_York:20251009T140000
DTSTAMP:20260424T052520
CREATED:20250915T160511Z
LAST-MODIFIED:20250915T161037Z
UID:10008990-1760004000-1760018400@murdockbaptistchurch.org
SUMMARY:Bobbin Along Quilters
DESCRIPTION:This groups meets on the 2nd and 4th Thursday of each month from 10-2 p.m. If you’ve always wanted to learn how to quilt or you have been quilting for years\, please join us! for more information\, contact Debbie Eritz at (234) 567-3686.
URL:https://murdockbaptistchurch.org/event/bobbin-along-quilters/2025-10-09/
CATEGORIES:God's Garden,Ministries,Quilters,Special Events,Women's Ministry
ATTACH;FMTTYPE=image/jpeg:https://murdockbaptistchurch.org/wp-content/uploads/2025/09/quilt.jpg
END:VEVENT
BEGIN:VEVENT
DTSTART;TZID=America/New_York:20251012T093000
DTEND;TZID=America/New_York:20251012T140000
DTSTAMP:20260424T052520
CREATED:20250902T141835Z
LAST-MODIFIED:20250902T141852Z
UID:10008910-1760261400-1760277600@murdockbaptistchurch.org
SUMMARY:Special Presentation from Dr. Jonathan Sarfati\, Creation Ministries
DESCRIPTION:Here’s your chance to hear a clear\, logical defense of the faith\, starting in Genesis\, and why this issue is vitally important if we are to make a difference in our families and communities. \n\n\n\n9:30 am:  Design\, Deluge & Dilemma \n\n\n\n11:00 am:  Jurassic Reality: Dinosaurs & the Most-asked Questions \n\n\n\n1:00 pm:  Six Days … Really? \n\n\n\nLearn more
URL:https://murdockbaptistchurch.org/event/special-presentation-from-dr-jonathan-sarfati-creation-ministries/
CATEGORIES:Special Events
END:VEVENT
BEGIN:VEVENT
DTSTART;TZID=America/New_York:20251012T110000
DTEND;TZID=America/New_York:20251012T120000
DTSTAMP:20260424T052520
CREATED:20250925T133343Z
LAST-MODIFIED:20250925T133349Z
UID:10009004-1760266800-1760270400@murdockbaptistchurch.org
SUMMARY:Overcomers Life Group
DESCRIPTION:Join us today for our first session centered around 1 Corinthians 13:12 entitled\, “Have Your Tent Stolen” from the book Jesus Life Coach by Laurie Beth Jones. \n\n\n\nAll are welcome!
URL:https://murdockbaptistchurch.org/event/overcomers-life-group/2025-10-12/
LOCATION:Room 103\, 18375 Cochran Boulevard\, Port Charlotte\, Florida\, 33948\, United States
CATEGORIES:Life Groups,Special Events
ATTACH;FMTTYPE=image/jpeg:https://murdockbaptistchurch.org/wp-content/uploads/2025/09/Screenshot-2025-09-25-093150.jpg
END:VEVENT
BEGIN:VEVENT
DTSTART;TZID=America/New_York:20251013T080000
DTEND;TZID=America/New_York:20251013T090000
DTSTAMP:20260424T052520
CREATED:20250908T190900Z
LAST-MODIFIED:20250925T133728Z
UID:10008920-1760342400-1760346000@murdockbaptistchurch.org
SUMMARY:Men's Ministry: Barnabas Sermon Debrief & Fellowship
DESCRIPTION:
URL:https://murdockbaptistchurch.org/event/mens-ministry-barnabas-sermon-debrief-fellowship/2025-10-13/
LOCATION:Main Building A\, Fellowship Hall\, 18375 Cochran Boulevard\, Port Charlotte\, Florida\, 33948\, United States
CATEGORIES:Barnabas Men’s Group,Ministries,Special Events
ATTACH;FMTTYPE=image/jpeg:https://murdockbaptistchurch.org/wp-content/uploads/2023/03/large-mens-ministry.jpg
END:VEVENT
BEGIN:VEVENT
DTSTART;TZID=America/New_York:20251014T180000
DTEND;TZID=America/New_York:20251014T190000
DTSTAMP:20260424T052520
CREATED:20250925T134401Z
LAST-MODIFIED:20251014T141510Z
UID:10009062-1760464800-1760468400@murdockbaptistchurch.org
SUMMARY:Men's Tuesday Bible Study
DESCRIPTION:
URL:https://murdockbaptistchurch.org/event/mens-tuesday-bible-study-2/2025-10-14/
LOCATION:Main Building A\, Fellowship Hall\, 18375 Cochran Boulevard\, Port Charlotte\, Florida\, 33948\, United States
CATEGORIES:Barnabas Men’s Group,Men’s Bible Study,Ministries,Special Events
ATTACH;FMTTYPE=image/jpeg:https://murdockbaptistchurch.org/wp-content/uploads/2023/01/mens-bible-study-murdock-baptist-church.jpg
END:VEVENT
BEGIN:VEVENT
DTSTART;TZID=America/New_York:20251015T180000
DTEND;TZID=America/New_York:20251015T190000
DTSTAMP:20260424T052520
CREATED:20250929T130849Z
LAST-MODIFIED:20250929T130858Z
UID:10009045-1760551200-1760554800@murdockbaptistchurch.org
SUMMARY:Wednesday Bible Study
DESCRIPTION:Join Pastor Ron as we continue to look at the book of Judges and fill in the pieces we missed during our Sunday morning series.
URL:https://murdockbaptistchurch.org/event/wednesday-bible-study/2025-10-15/
LOCATION:Main Building A\, Fellowship Hall\, 18375 Cochran Boulevard\, Port Charlotte\, Florida\, 33948\, United States
CATEGORIES:Bible Study - In-person,Ministries,Special Events
ATTACH;FMTTYPE=image/jpeg:https://murdockbaptistchurch.org/wp-content/uploads/2022/12/pastor-ron-tipton.jpg
END:VEVENT
BEGIN:VEVENT
DTSTART;TZID=America/New_York:20251015T180000
DTEND;TZID=America/New_York:20251015T193000
DTSTAMP:20260424T052520
CREATED:20250721T141115Z
LAST-MODIFIED:20250721T144932Z
UID:10008869-1760551200-1760556600@murdockbaptistchurch.org
SUMMARY:GriefShare: Hope and Healing After the Loss of a Loved One
DESCRIPTION:You will find a warm\, caring environment and view your group as an “oasis” on your journey through grief. If you have questions today\, meet your facilitators in the Fellowship Hall after service or contactthe church office at (941) 627-6352.
URL:https://murdockbaptistchurch.org/event/griefshare-hope-and-healing-after-the-loss-of-a-loved-one/2025-10-15/
LOCATION:Rooms 101-102\, 18375 Cochran Boulevard\, Port Charlotte\, Florida\, 33948\, United States
CATEGORIES:Barnabas Men’s Group,Good Grief,Men's Ministry,Special Events,Women's Ministry
ATTACH;FMTTYPE=image/jpeg:https://murdockbaptistchurch.org/wp-content/uploads/2023/05/grief-spouse.jpg
END:VEVENT
BEGIN:VEVENT
DTSTART;TZID=America/New_York:20251017T180000
DTEND;TZID=America/New_York:20251017T190000
DTSTAMP:20260424T052520
CREATED:20250804T155456Z
LAST-MODIFIED:20250805T180226Z
UID:10008907-1760724000-1760727600@murdockbaptistchurch.org
SUMMARY:Total Body Worship
DESCRIPTION:Murdock Women join us in the Fellowship Hall on the third Friday of every month from 6-7 p.m.\,beginning August 15th. \n\n\n\nTina Melik and Nancy Cowan will lead us in movement\, drumming and a good workout\, as we worship to fabulous praise music together. Come and bring a friend! There is no cost for this.
URL:https://murdockbaptistchurch.org/event/total-body-worship/2025-10-17/
LOCATION:Main Building A\, Fellowship Hall\, 18375 Cochran Boulevard\, Port Charlotte\, Florida\, 33948\, United States
CATEGORIES:God's Garden,Life Groups,Ministries,Special Events,Women's Ministry
ATTACH;FMTTYPE=image/jpeg:https://murdockbaptistchurch.org/wp-content/uploads/2025/08/t1larg.jpg
END:VEVENT
BEGIN:VEVENT
DTSTART;TZID=America/New_York:20251019T110000
DTEND;TZID=America/New_York:20251019T120000
DTSTAMP:20260424T052520
CREATED:20250925T133343Z
LAST-MODIFIED:20250925T133349Z
UID:10009005-1760871600-1760875200@murdockbaptistchurch.org
SUMMARY:Overcomers Life Group
DESCRIPTION:Join us today for our first session centered around 1 Corinthians 13:12 entitled\, “Have Your Tent Stolen” from the book Jesus Life Coach by Laurie Beth Jones. \n\n\n\nAll are welcome!
URL:https://murdockbaptistchurch.org/event/overcomers-life-group/2025-10-19/
LOCATION:Room 103\, 18375 Cochran Boulevard\, Port Charlotte\, Florida\, 33948\, United States
CATEGORIES:Life Groups,Special Events
ATTACH;FMTTYPE=image/jpeg:https://murdockbaptistchurch.org/wp-content/uploads/2025/09/Screenshot-2025-09-25-093150.jpg
END:VEVENT
BEGIN:VEVENT
DTSTART;TZID=America/New_York:20251019T110000
DTEND;TZID=America/New_York:20251019T120000
DTSTAMP:20260424T052520
CREATED:20250925T135358Z
LAST-MODIFIED:20250925T135404Z
UID:10009042-1760871600-1760875200@murdockbaptistchurch.org
SUMMARY:Special Called Church Conference
DESCRIPTION:A special church conference has been called for October 19th\, after morning worship to consider and vote on a proposed amendment to the Constitution (correction to address) and to the By-Laws (selection of elders). There are printed materials available for church members at the table in the Fellowship Hall to review.
URL:https://murdockbaptistchurch.org/event/special-called-church-conference-4/
LOCATION:Worship Center
CATEGORIES:Special Events
ATTACH;FMTTYPE=image/jpeg:https://murdockbaptistchurch.org/wp-content/uploads/2023/06/Murdock-Baptist-Church-PhotoGallery66-scaled.jpg
END:VEVENT
BEGIN:VEVENT
DTSTART;TZID=America/New_York:20251020T080000
DTEND;TZID=America/New_York:20251020T090000
DTSTAMP:20260424T052520
CREATED:20250908T190900Z
LAST-MODIFIED:20250925T133728Z
UID:10008921-1760947200-1760950800@murdockbaptistchurch.org
SUMMARY:Men's Ministry: Barnabas Sermon Debrief & Fellowship
DESCRIPTION:
URL:https://murdockbaptistchurch.org/event/mens-ministry-barnabas-sermon-debrief-fellowship/2025-10-20/
LOCATION:Main Building A\, Fellowship Hall\, 18375 Cochran Boulevard\, Port Charlotte\, Florida\, 33948\, United States
CATEGORIES:Barnabas Men’s Group,Ministries,Special Events
ATTACH;FMTTYPE=image/jpeg:https://murdockbaptistchurch.org/wp-content/uploads/2023/03/large-mens-ministry.jpg
END:VEVENT
BEGIN:VEVENT
DTSTART;TZID=America/New_York:20251020T124500
DTEND;TZID=America/New_York:20251020T141500
DTSTAMP:20260424T052520
CREATED:20250610T203606Z
LAST-MODIFIED:20250610T203648Z
UID:10008016-1760964300-1760969700@murdockbaptistchurch.org
SUMMARY:Prayer Shawl Ministry
DESCRIPTION:Do you like to knit\, crochet and fellowship? Join us on the 1st Monday of each month. \n\n\n\nOur shawls are made and given to comfort those who are going through a tough time. Whether it be personal or family illness\, loss of loved one\, or a multitude of reasons\, to let them know God loves them and that we are praying for them.
URL:https://murdockbaptistchurch.org/event/prayer-shawl-ministry-5/2025-10-20/
LOCATION:Student Building B\, 18375 Cochran Boulevard\, Port Charlotte\, Florida\, 33948\, United States
CATEGORIES:Special Events
ATTACH;FMTTYPE=image/jpeg:https://murdockbaptistchurch.org/wp-content/uploads/2022/11/prayer-shawl.jpg
END:VEVENT
BEGIN:VEVENT
DTSTART;TZID=America/New_York:20251021T113000
DTEND;TZID=America/New_York:20251021T130000
DTSTAMP:20260424T052520
CREATED:20251014T132346Z
LAST-MODIFIED:20251014T135226Z
UID:10009057-1761046200-1761051600@murdockbaptistchurch.org
SUMMARY:Connection Luncheon
DESCRIPTION:The Connection is a MBC Ministry to ALL widows\, and single or divorced ladies over the age of 60 years young. To reserve your seat please call the church office at 941-627-6352.
URL:https://murdockbaptistchurch.org/event/connection-luncheon-7/
LOCATION:Fellowship Hall
CATEGORIES:Ministries,Special Events,Women's Ministry
ATTACH;FMTTYPE=image/jpeg:https://murdockbaptistchurch.org/wp-content/uploads/2025/06/luncheon10.jpg
END:VEVENT
BEGIN:VEVENT
DTSTART;TZID=America/New_York:20251021T180000
DTEND;TZID=America/New_York:20251021T190000
DTSTAMP:20260424T052520
CREATED:20250925T134401Z
LAST-MODIFIED:20251014T141510Z
UID:10009063-1761069600-1761073200@murdockbaptistchurch.org
SUMMARY:Men's Tuesday Bible Study
DESCRIPTION:
URL:https://murdockbaptistchurch.org/event/mens-tuesday-bible-study-2/2025-10-21/
LOCATION:Main Building A\, Fellowship Hall\, 18375 Cochran Boulevard\, Port Charlotte\, Florida\, 33948\, United States
CATEGORIES:Barnabas Men’s Group,Men’s Bible Study,Ministries,Special Events
ATTACH;FMTTYPE=image/jpeg:https://murdockbaptistchurch.org/wp-content/uploads/2023/01/mens-bible-study-murdock-baptist-church.jpg
END:VEVENT
BEGIN:VEVENT
DTSTART;TZID=America/New_York:20251022T180000
DTEND;TZID=America/New_York:20251022T190000
DTSTAMP:20260424T052520
CREATED:20250929T130849Z
LAST-MODIFIED:20250929T130858Z
UID:10009046-1761156000-1761159600@murdockbaptistchurch.org
SUMMARY:Wednesday Bible Study
DESCRIPTION:Join Pastor Ron as we continue to look at the book of Judges and fill in the pieces we missed during our Sunday morning series.
URL:https://murdockbaptistchurch.org/event/wednesday-bible-study/2025-10-22/
LOCATION:Main Building A\, Fellowship Hall\, 18375 Cochran Boulevard\, Port Charlotte\, Florida\, 33948\, United States
CATEGORIES:Bible Study - In-person,Ministries,Special Events
ATTACH;FMTTYPE=image/jpeg:https://murdockbaptistchurch.org/wp-content/uploads/2022/12/pastor-ron-tipton.jpg
END:VEVENT
BEGIN:VEVENT
DTSTART;TZID=America/New_York:20251022T180000
DTEND;TZID=America/New_York:20251022T193000
DTSTAMP:20260424T052520
CREATED:20250721T141115Z
LAST-MODIFIED:20250721T144932Z
UID:10008870-1761156000-1761161400@murdockbaptistchurch.org
SUMMARY:GriefShare: Hope and Healing After the Loss of a Loved One
DESCRIPTION:You will find a warm\, caring environment and view your group as an “oasis” on your journey through grief. If you have questions today\, meet your facilitators in the Fellowship Hall after service or contactthe church office at (941) 627-6352.
URL:https://murdockbaptistchurch.org/event/griefshare-hope-and-healing-after-the-loss-of-a-loved-one/2025-10-22/
LOCATION:Rooms 101-102\, 18375 Cochran Boulevard\, Port Charlotte\, Florida\, 33948\, United States
CATEGORIES:Barnabas Men’s Group,Good Grief,Men's Ministry,Special Events,Women's Ministry
ATTACH;FMTTYPE=image/jpeg:https://murdockbaptistchurch.org/wp-content/uploads/2023/05/grief-spouse.jpg
END:VEVENT
BEGIN:VEVENT
DTSTART;TZID=America/New_York:20251023T100000
DTEND;TZID=America/New_York:20251023T140000
DTSTAMP:20260424T052520
CREATED:20250915T160757Z
LAST-MODIFIED:20251223T214636Z
UID:10008980-1761213600-1761228000@murdockbaptistchurch.org
SUMMARY:Bobbin Along Quilters
DESCRIPTION:This groups meets on the 2nd and 4th Thursday of each month from 10-2 p.m. If you’ve always wanted to learn how to quilt or you have been quilting for years\, please join us! for more information\, contact Debbie Eritz at (234) 567-3686.
URL:https://murdockbaptistchurch.org/event/bobbin-along-quilters-2/2025-10-23/
LOCATION:Room 106\, 18375 Cochran Bloulevard\, Port Charlotte\, Florida\, 33948
CATEGORIES:God's Garden,Ministries,Quilters,Special Events,Women's Ministry
ATTACH;FMTTYPE=image/jpeg:https://murdockbaptistchurch.org/wp-content/uploads/2025/09/quilt.jpg
END:VEVENT
BEGIN:VEVENT
DTSTART;TZID=America/New_York:20251025T100000
DTEND;TZID=America/New_York:20251025T130000
DTSTAMP:20260424T052520
CREATED:20250915T180336Z
LAST-MODIFIED:20250915T182227Z
UID:10008999-1761386400-1761397200@murdockbaptistchurch.org
SUMMARY:MBC 2025 Fall Festival
DESCRIPTION:MBC will once again be engaging with our community through our Fall Festival. More details to come.  Mark on your calendar to save the date! \n\n\n\nFree and open to the public.
URL:https://murdockbaptistchurch.org/event/mbc-2025-fall-festival/
CATEGORIES:Special Events
ATTACH;FMTTYPE=image/jpeg:https://murdockbaptistchurch.org/wp-content/uploads/2023/09/fall-festival.jpg
END:VEVENT
BEGIN:VEVENT
DTSTART;TZID=America/New_York:20251025T190000
DTEND;TZID=America/New_York:20251025T210000
DTSTAMP:20260424T052520
CREATED:20251014T140508Z
LAST-MODIFIED:20251014T140511Z
UID:10009059-1761418800-1761426000@murdockbaptistchurch.org
SUMMARY:LifeWise News - Join us at the Movies
DESCRIPTION:Tickets are now live for Off School Property — The LifeWise movie! \n\n\n\nOn October 23rd this one-nightfirlm will premiere in theaters across the country and right here in Port Charlotte! \n\n\n\n\n\n\n\nThe movie tells the story of how the Bible was removed from public education. It was like pulling the wrong piece from a Jenga tower – everything started to crumble. But it also shows how LifeWise is helping rebuild\, one student and one school at a time. Buy your tickets at lifewise.org/offschoolproperty or scan the QR code on the right.
URL:https://murdockbaptistchurch.org/event/lifewise-news-join-us-at-the-movies-2/
LOCATION:Regal Town Center\, Port Charlotte\, 1441 Tamiami Trial\, Unit 701\, Port Charlotte\, 33948
CATEGORIES:Special Events
ATTACH;FMTTYPE=image/jpeg:https://murdockbaptistchurch.org/wp-content/uploads/2025/10/OSP-Ticketing-Thumbnail-Poster_Fathom__jpg.jpg
END:VEVENT
BEGIN:VEVENT
DTSTART;TZID=America/New_York:20251026T110000
DTEND;TZID=America/New_York:20251026T120000
DTSTAMP:20260424T052520
CREATED:20250925T133343Z
LAST-MODIFIED:20250925T133349Z
UID:10009006-1761476400-1761480000@murdockbaptistchurch.org
SUMMARY:Overcomers Life Group
DESCRIPTION:Join us today for our first session centered around 1 Corinthians 13:12 entitled\, “Have Your Tent Stolen” from the book Jesus Life Coach by Laurie Beth Jones. \n\n\n\nAll are welcome!
URL:https://murdockbaptistchurch.org/event/overcomers-life-group/2025-10-26/
LOCATION:Room 103\, 18375 Cochran Boulevard\, Port Charlotte\, Florida\, 33948\, United States
CATEGORIES:Life Groups,Special Events
ATTACH;FMTTYPE=image/jpeg:https://murdockbaptistchurch.org/wp-content/uploads/2025/09/Screenshot-2025-09-25-093150.jpg
END:VEVENT
BEGIN:VEVENT
DTSTART;TZID=America/New_York:20251027T080000
DTEND;TZID=America/New_York:20251027T090000
DTSTAMP:20260424T052520
CREATED:20250908T190900Z
LAST-MODIFIED:20250925T133728Z
UID:10008922-1761552000-1761555600@murdockbaptistchurch.org
SUMMARY:Men's Ministry: Barnabas Sermon Debrief & Fellowship
DESCRIPTION:
URL:https://murdockbaptistchurch.org/event/mens-ministry-barnabas-sermon-debrief-fellowship/2025-10-27/
LOCATION:Main Building A\, Fellowship Hall\, 18375 Cochran Boulevard\, Port Charlotte\, Florida\, 33948\, United States
CATEGORIES:Barnabas Men’s Group,Ministries,Special Events
ATTACH;FMTTYPE=image/jpeg:https://murdockbaptistchurch.org/wp-content/uploads/2023/03/large-mens-ministry.jpg
END:VEVENT
END:VCALENDAR