BEGIN:VCALENDAR
VERSION:2.0
PRODID:-//Murdock Baptist Church - ECPv6.15.20//NONSGML v1.0//EN
CALSCALE:GREGORIAN
METHOD:PUBLISH
X-WR-CALNAME:Murdock Baptist Church
X-ORIGINAL-URL:https://murdockbaptistchurch.org
X-WR-CALDESC:Events for Murdock Baptist Church
REFRESH-INTERVAL;VALUE=DURATION:PT1H
X-Robots-Tag:noindex
X-PUBLISHED-TTL:PT1H
BEGIN:VTIMEZONE
TZID:America/New_York
BEGIN:DAYLIGHT
TZOFFSETFROM:-0500
TZOFFSETTO:-0400
TZNAME:EDT
DTSTART:20230312T070000
END:DAYLIGHT
BEGIN:STANDARD
TZOFFSETFROM:-0400
TZOFFSETTO:-0500
TZNAME:EST
DTSTART:20231105T060000
END:STANDARD
BEGIN:DAYLIGHT
TZOFFSETFROM:-0500
TZOFFSETTO:-0400
TZNAME:EDT
DTSTART:20240310T070000
END:DAYLIGHT
BEGIN:STANDARD
TZOFFSETFROM:-0400
TZOFFSETTO:-0500
TZNAME:EST
DTSTART:20241103T060000
END:STANDARD
BEGIN:DAYLIGHT
TZOFFSETFROM:-0500
TZOFFSETTO:-0400
TZNAME:EDT
DTSTART:20250309T070000
END:DAYLIGHT
BEGIN:STANDARD
TZOFFSETFROM:-0400
TZOFFSETTO:-0500
TZNAME:EST
DTSTART:20251102T060000
END:STANDARD
END:VTIMEZONE
BEGIN:VTIMEZONE
TZID:UTC
BEGIN:STANDARD
TZOFFSETFROM:+0000
TZOFFSETTO:+0000
TZNAME:UTC
DTSTART:20230101T000000
END:STANDARD
END:VTIMEZONE
BEGIN:VEVENT
DTSTART;TZID=America/New_York:20241201T083000
DTEND;TZID=America/New_York:20241201T110000
DTSTAMP:20260425T003602
CREATED:20230912T141357Z
LAST-MODIFIED:20230912T141410Z
UID:10006008-1733041800-1733050800@murdockbaptistchurch.org
SUMMARY:Jesus Loves You Ministry Donation Trailer Here!
DESCRIPTION:JLY is a mobile outreach to the homeless.  Their donation trailer is on the church campus the 1st Sunday of the month before and after service.  They accept items of all kinds. (Clean clothing\, housewares\, gardening tools\, pictures\, linens\, small furniture\, etc.)
URL:https://murdockbaptistchurch.org/event/jesus-loves-you-ministry-donation-trailer-here-3/2024-12-01/
CATEGORIES:Jesus Loves You Ministry,Special Events
ATTACH;FMTTYPE=image/jpeg:https://murdockbaptistchurch.org/wp-content/uploads/2023/05/Jesus-loves-you-ministry-1.jpg
END:VEVENT
BEGIN:VEVENT
DTSTART;TZID=UTC:20241201T110000
DTEND;TZID=UTC:20241201T120000
DTSTAMP:20260425T003602
CREATED:20221213T234818Z
LAST-MODIFIED:20250728T195225Z
UID:10001086-1733050800-1733054400@murdockbaptistchurch.org
SUMMARY:New Members Class
DESCRIPTION:Are you interested in becoming a member? Or perhaps you have questions? Join us today after service in the Sanctuary for this informative class.
URL:https://murdockbaptistchurch.org/event/new-members-class/2024-12-01/
CATEGORIES:New Members,Special Events
ATTACH;FMTTYPE=image/jpeg:https://murdockbaptistchurch.org/wp-content/uploads/2023/05/church-members.jpg
END:VEVENT
BEGIN:VEVENT
DTSTART;TZID=America/New_York:20241201T110000
DTEND;TZID=America/New_York:20241201T120000
DTSTAMP:20260425T003602
CREATED:20240301T031638Z
LAST-MODIFIED:20240919T215651Z
UID:10007682-1733050800-1733054400@murdockbaptistchurch.org
SUMMARY:Overcomers Life Group (NEW)
DESCRIPTION:You are invited to a newly organized class named Overcomers (formerly Good Grief). We will be looking at the Old Testament book of Proverbs for 7 weeks. The study is titled\, “Finding Old Answers to New Questions”. All are welcomed.
URL:https://murdockbaptistchurch.org/event/overcomers-life-group-new/2024-12-01/
LOCATION:Room 103\, 18375 Cochran Boulevard\, Port Charlotte\, Florida\, 33948\, United States
CATEGORIES:Good Grief,Life Groups,Special Events
END:VEVENT
BEGIN:VEVENT
DTSTART;TZID=America/New_York:20241207T110000
DTEND;TZID=America/New_York:20241207T120000
DTSTAMP:20260425T003602
CREATED:20241122T032043Z
LAST-MODIFIED:20241123T151946Z
UID:10008746-1733569200-1733572800@murdockbaptistchurch.org
SUMMARY:Jingle Jam
DESCRIPTION:This Christmas\, get ready to experience a Christmas like no other! Can you imagine a Christmas party big enough for your whole family? A Christmas party with singing\, dancing\, games\, drama\, activities and more! A party where you will experience the true meaning of Christmas through sounds\, sights\, touch\, tastes\, and even…smells? \n\n\n\n\nRegister Online
URL:https://murdockbaptistchurch.org/event/jingle-jam/
LOCATION:Student Building B\, 18375 Cochran Boulevard\, Port Charlotte\, Florida\, 33948\, United States
CATEGORIES:Holiday Celebrations,Special Events
ATTACH;FMTTYPE=image/jpeg:https://murdockbaptistchurch.org/wp-content/uploads/2024/11/jingle-jam-scaled.jpg
END:VEVENT
BEGIN:VEVENT
DTSTART;TZID=America/New_York:20241208T110000
DTEND;TZID=America/New_York:20241208T113000
DTSTAMP:20260425T003602
CREATED:20241202T032140Z
LAST-MODIFIED:20241202T032208Z
UID:10008747-1733655600-1733657400@murdockbaptistchurch.org
SUMMARY:Special Called Church Conference
DESCRIPTION:A special called church conference will be held immediately following service for the consideration of the 2025 budget.
URL:https://murdockbaptistchurch.org/event/special-called-church-conference-3/
LOCATION:Main Stage\, Worship Center\, 18375 Cochran Boulevard\, Port Charlote\, Florida\, 33948
CATEGORIES:Special Events
END:VEVENT
BEGIN:VEVENT
DTSTART;TZID=America/New_York:20241208T110000
DTEND;TZID=America/New_York:20241208T120000
DTSTAMP:20260425T003602
CREATED:20240301T031638Z
LAST-MODIFIED:20240919T215651Z
UID:10007683-1733655600-1733659200@murdockbaptistchurch.org
SUMMARY:Overcomers Life Group (NEW)
DESCRIPTION:You are invited to a newly organized class named Overcomers (formerly Good Grief). We will be looking at the Old Testament book of Proverbs for 7 weeks. The study is titled\, “Finding Old Answers to New Questions”. All are welcomed.
URL:https://murdockbaptistchurch.org/event/overcomers-life-group-new/2024-12-08/
LOCATION:Room 103\, 18375 Cochran Boulevard\, Port Charlotte\, Florida\, 33948\, United States
CATEGORIES:Good Grief,Life Groups,Special Events
END:VEVENT
BEGIN:VEVENT
DTSTART;TZID=America/New_York:20241212T100000
DTEND;TZID=America/New_York:20241212T120000
DTSTAMP:20260425T003603
CREATED:20240604T140355Z
LAST-MODIFIED:20250507T154232Z
UID:10008188-1733997600-1734004800@murdockbaptistchurch.org
SUMMARY:Ladies Quilting Group
DESCRIPTION:Join the Bobbin Along ladies quilting group on the 2nd & 4th Thursday of each month 10-12 in Building B\, Room A. \n\n\n\n If you’ve always wanted to learn how to quilt or you have been quilting for years\, please join us! For more information contact Debbie Eritz at 234-567-3686.
URL:https://murdockbaptistchurch.org/event/ladies-quilting-group-new/2024-12-12/
LOCATION:Student Building\, Room A\, 18375 Cochran Boulevard\, Port Charlotte\, Florida\, 33948
CATEGORIES:Special Events,Women's Ministry
ATTACH;FMTTYPE=image/jpeg:https://murdockbaptistchurch.org/wp-content/uploads/2024/06/quilting-images.jpg
END:VEVENT
BEGIN:VEVENT
DTSTART;TZID=America/New_York:20241214T180000
DTEND;TZID=America/New_York:20241214T193000
DTSTAMP:20260425T003603
CREATED:20241121T220245Z
LAST-MODIFIED:20241126T190811Z
UID:10008743-1734199200-1734204600@murdockbaptistchurch.org
SUMMARY:THE CAROLS OF CHRISTMAS: a time of singing and storytelling
DESCRIPTION:Everyone likes Christmas music! You are invited to celebrate the season with us at Murdock Baptist Church. Join us as our space is transformed into a giant living room where you are a guest for a memorable Christmas carol sing-a-long. Come for a wonderful trip down memory lane as we celebrate Christmas together. \n\n\n\nAlso available Sunday\, December 15th from 3-4:30 p.m. \n\n\n\nIf you can’t make it in person\, watch the live stream video. \n\n\n\nFree and open to the public!
URL:https://murdockbaptistchurch.org/event/the-carols-of-christmas-a-time-of-singing-and-storytelling-2/
LOCATION:Main Stage\, Worship Center\, 18375 Cochran Boulevard\, Port Charlote\, Florida\, 33948
CATEGORIES:Holiday Celebrations,Special Events
ATTACH;FMTTYPE=image/jpeg:https://murdockbaptistchurch.org/wp-content/uploads/2023/11/xmas-900x600-2.jpg
END:VEVENT
BEGIN:VEVENT
DTSTART;TZID=America/New_York:20241215T110000
DTEND;TZID=America/New_York:20241215T120000
DTSTAMP:20260425T003603
CREATED:20240301T031638Z
LAST-MODIFIED:20240919T215651Z
UID:10007684-1734260400-1734264000@murdockbaptistchurch.org
SUMMARY:Overcomers Life Group (NEW)
DESCRIPTION:You are invited to a newly organized class named Overcomers (formerly Good Grief). We will be looking at the Old Testament book of Proverbs for 7 weeks. The study is titled\, “Finding Old Answers to New Questions”. All are welcomed.
URL:https://murdockbaptistchurch.org/event/overcomers-life-group-new/2024-12-15/
LOCATION:Room 103\, 18375 Cochran Boulevard\, Port Charlotte\, Florida\, 33948\, United States
CATEGORIES:Good Grief,Life Groups,Special Events
END:VEVENT
BEGIN:VEVENT
DTSTART;TZID=America/New_York:20241215T150000
DTEND;TZID=America/New_York:20241215T163000
DTSTAMP:20260425T003603
CREATED:20241122T030808Z
LAST-MODIFIED:20241122T030827Z
UID:10008745-1734274800-1734280200@murdockbaptistchurch.org
SUMMARY:THE CAROLS OF CHRISTMAS: a time of singing and storytelling
DESCRIPTION:Everyone likes Christmas music! You are invited to celebrate the season with us at Murdock Baptist Church. Join us as our space is transformed into a giant living room where you are a guest for a memorable Christmas carol sing-a-long. Come for a wonderful trip down memory lane as we celebrate Christmas together. \n\n\n\nIf you can’t make it in person\, watch the live stream video. \n\n\n\nFree and open to the public!
URL:https://murdockbaptistchurch.org/event/the-carols-of-christmas-a-time-of-singing-and-storytelling-3/
LOCATION:Main Stage\, Worship Center\, 18375 Cochran Boulevard\, Port Charlote\, Florida\, 33948
CATEGORIES:Holiday Celebrations,Special Events
ATTACH;FMTTYPE=image/jpeg:https://murdockbaptistchurch.org/wp-content/uploads/2023/11/xmas-900x600-2.jpg
END:VEVENT
BEGIN:VEVENT
DTSTART;TZID=America/New_York:20241216T124500
DTEND;TZID=America/New_York:20241216T141500
DTSTAMP:20260425T003603
CREATED:20230821T201029Z
LAST-MODIFIED:20240603T175514Z
UID:10008006-1734353100-1734358500@murdockbaptistchurch.org
SUMMARY:Prayer Shawl Ministry
DESCRIPTION:Do you like to knit\, crochet and fellowship? Join us on the 1st Monday of each month. \n\n\n\nOur shawls are made and given to comfort those who are going through a tough time. Whether it be personal or family illness\, loss of loved one\, or a multitude of reasons\, to let them know God loves them and that we are praying for them.
URL:https://murdockbaptistchurch.org/event/prayer-shawl-ministry/2024-12-16/
LOCATION:Student Building B\, 18375 Cochran Boulevard\, Port Charlotte\, Florida\, 33948\, United States
CATEGORIES:Special Events
ATTACH;FMTTYPE=image/jpeg:https://murdockbaptistchurch.org/wp-content/uploads/2022/11/prayer-shawl.jpg
END:VEVENT
BEGIN:VEVENT
DTSTART;TZID=America/New_York:20241222T110000
DTEND;TZID=America/New_York:20241222T120000
DTSTAMP:20260425T003603
CREATED:20240301T031638Z
LAST-MODIFIED:20240919T215651Z
UID:10007685-1734865200-1734868800@murdockbaptistchurch.org
SUMMARY:Overcomers Life Group (NEW)
DESCRIPTION:You are invited to a newly organized class named Overcomers (formerly Good Grief). We will be looking at the Old Testament book of Proverbs for 7 weeks. The study is titled\, “Finding Old Answers to New Questions”. All are welcomed.
URL:https://murdockbaptistchurch.org/event/overcomers-life-group-new/2024-12-22/
LOCATION:Room 103\, 18375 Cochran Boulevard\, Port Charlotte\, Florida\, 33948\, United States
CATEGORIES:Good Grief,Life Groups,Special Events
END:VEVENT
BEGIN:VEVENT
DTSTART;TZID=America/New_York:20241224T170000
DTEND;TZID=America/New_York:20241224T180000
DTSTAMP:20260425T003603
CREATED:20241121T220710Z
LAST-MODIFIED:20241121T220724Z
UID:10008744-1735059600-1735063200@murdockbaptistchurch.org
SUMMARY:Christmas Eve Candlelight Service
DESCRIPTION:Join us on Christmas Eve for our candlelight service.
URL:https://murdockbaptistchurch.org/event/christmas-eve-candlelight-service-2/
LOCATION:Main Stage\, Worship Center\, 18375 Cochran Boulevard\, Port Charlote\, Florida\, 33948
CATEGORIES:Holiday Celebrations,Special Events
ATTACH;FMTTYPE=image/jpeg:https://murdockbaptistchurch.org/wp-content/uploads/2023/11/pexels-david-dibert-753771-scaled.jpg
END:VEVENT
BEGIN:VEVENT
DTSTART;TZID=America/New_York:20241226T100000
DTEND;TZID=America/New_York:20241226T120000
DTSTAMP:20260425T003603
CREATED:20240604T140916Z
LAST-MODIFIED:20240604T205611Z
UID:10008207-1735207200-1735214400@murdockbaptistchurch.org
SUMMARY:Ladies Quilting Group - NEW!
DESCRIPTION:Beginning June 13th from 10-12 in Building B\, Room A. This group will be meeting on the 2nd & 4th Thursday of each month. \n\n\n\nIf you’ve always wanted to learn how to quilt or you have been quilting for years\, please join us! For more information contact Debbie Eritz at 234-567-3686.
URL:https://murdockbaptistchurch.org/event/ladies-quilting-group-new-2/2024-12-26/
LOCATION:Student Building\, Room A\, 18375 Cochran Boulevard\, Port Charlotte\, Florida\, 33948
CATEGORIES:Special Events,Women's Ministry
ATTACH;FMTTYPE=image/jpeg:https://murdockbaptistchurch.org/wp-content/uploads/2024/06/quilting-images.jpg
END:VEVENT
BEGIN:VEVENT
DTSTART;TZID=America/New_York:20241229T110000
DTEND;TZID=America/New_York:20241229T120000
DTSTAMP:20260425T003603
CREATED:20240301T031638Z
LAST-MODIFIED:20240919T215651Z
UID:10007686-1735470000-1735473600@murdockbaptistchurch.org
SUMMARY:Overcomers Life Group (NEW)
DESCRIPTION:You are invited to a newly organized class named Overcomers (formerly Good Grief). We will be looking at the Old Testament book of Proverbs for 7 weeks. The study is titled\, “Finding Old Answers to New Questions”. All are welcomed.
URL:https://murdockbaptistchurch.org/event/overcomers-life-group-new/2024-12-29/
LOCATION:Room 103\, 18375 Cochran Boulevard\, Port Charlotte\, Florida\, 33948\, United States
CATEGORIES:Good Grief,Life Groups,Special Events
END:VEVENT
END:VCALENDAR