BEGIN:VCALENDAR
VERSION:2.0
PRODID:-//Murdock Baptist Church - ECPv6.15.20//NONSGML v1.0//EN
CALSCALE:GREGORIAN
METHOD:PUBLISH
X-ORIGINAL-URL:https://murdockbaptistchurch.org
X-WR-CALDESC:Events for Murdock Baptist Church
REFRESH-INTERVAL;VALUE=DURATION:PT1H
X-Robots-Tag:noindex
X-PUBLISHED-TTL:PT1H
BEGIN:VTIMEZONE
TZID:America/New_York
BEGIN:DAYLIGHT
TZOFFSETFROM:-0500
TZOFFSETTO:-0400
TZNAME:EDT
DTSTART:20220313T070000
END:DAYLIGHT
BEGIN:STANDARD
TZOFFSETFROM:-0400
TZOFFSETTO:-0500
TZNAME:EST
DTSTART:20221106T060000
END:STANDARD
BEGIN:DAYLIGHT
TZOFFSETFROM:-0500
TZOFFSETTO:-0400
TZNAME:EDT
DTSTART:20230312T070000
END:DAYLIGHT
BEGIN:STANDARD
TZOFFSETFROM:-0400
TZOFFSETTO:-0500
TZNAME:EST
DTSTART:20231105T060000
END:STANDARD
BEGIN:DAYLIGHT
TZOFFSETFROM:-0500
TZOFFSETTO:-0400
TZNAME:EDT
DTSTART:20240310T070000
END:DAYLIGHT
BEGIN:STANDARD
TZOFFSETFROM:-0400
TZOFFSETTO:-0500
TZNAME:EST
DTSTART:20241103T060000
END:STANDARD
END:VTIMEZONE
BEGIN:VEVENT
DTSTART;TZID=America/New_York:20230607T180000
DTEND;TZID=America/New_York:20230607T190000
DTSTAMP:20260423T200639
CREATED:20230525T181809Z
LAST-MODIFIED:20230608T015212Z
UID:10005985-1686160800-1686164400@murdockbaptistchurch.org
SUMMARY:Summer Wednesday Nights: Dinner/Game Night
DESCRIPTION:Dinner\, games & devotions. Fun for all ages!  \n\n\n\nRegistration is required and must be submitted by Monday\, June 5th. \n\n\n\n\nRegister Now for this Event\n\n\n\nRegister for the next Dinner/Game Night
URL:https://murdockbaptistchurch.org/event/summer-wednesday-nights-dinner-game-night-june7/
LOCATION:Main Building A\, Fellowship Hall\, 18375 Cochran Boulevard\, Port Charlotte\, Florida\, 33948\, United States
CATEGORIES:Barnabas Men’s Group,Children's Ministry,Preschool Ministry,Special Events,Student Ministry,Women's Ministry
ATTACH;FMTTYPE=image/jpeg:https://murdockbaptistchurch.org/wp-content/uploads/2023/05/family-night2-event.jpg
END:VEVENT
BEGIN:VEVENT
DTSTART;TZID=America/New_York:20230513T110000
DTEND;TZID=America/New_York:20230513T130000
DTSTAMP:20260423T200639
CREATED:20230412T023822Z
LAST-MODIFIED:20230412T024514Z
UID:10005399-1683975600-1683982800@murdockbaptistchurch.org
SUMMARY:Women's Ministry Spring Event
DESCRIPTION:Ladies of all ages are invited to this traditional spring tea. \n\n\n\n\nAnd they said\, “Believe in the Lord Jesus Christ and thou shalt be saved\, and thy house.” \nActs 16:31\n\n\n\nWe will meet Renee and Rachel Gillis and hear their personal testimonies. Rachel is the teen author of the books\, “The Ross Family Adventures.”  \n\n\n\nWe will hear how her mother Renee’s faith in the Lord Jesus has guided her family and inspired these books. It becomes clear that we all need each other. \n\n\n\nTickets on sale in the Fellowship Hall. \n\n\n\nPlease join us!
URL:https://murdockbaptistchurch.org/event/womens-ministry-spring-event/
LOCATION:Florida
CATEGORIES:Women's Ministry
ATTACH;FMTTYPE=image/jpeg:https://murdockbaptistchurch.org/wp-content/uploads/2022/11/lifegroups2-1.jpg
END:VEVENT
BEGIN:VEVENT
DTSTART;TZID=America/New_York:20230412T180000
DTEND;TZID=America/New_York:20230412T190000
DTSTAMP:20260423T200639
CREATED:20230301T134625Z
LAST-MODIFIED:20230301T134631Z
UID:10005069-1681322400-1681326000@murdockbaptistchurch.org
SUMMARY:Evenings All Ladies Bible Study ~ Job: When the Pain is Great
DESCRIPTION:Job asks big questions about pain\, suffering\, and God’s sovereignty-and it shows us God is with us through everything. \n\n\n\nFor this upcoming study\, there are 2 options for workbooks. You may choose the Precept Upon Precept (PUP) book which averages out to about 5 hours of homework per week\, the most in-depth study skills offered. Or you may choose the In & Out (I/O) book designed to meet the needs of those who might be new to Bible study or who might not be able to commit themselves to the lengthier homework. In & Out lessons are intended to take one to three hours per week.   \n\n\n\nTo register or for more information contact Amy at atipton62@gmail.com or phone/text (941) 276-9687.  \n\n\n\nPlease indicate which book you prefer: PUP or I/O when you register.  \n\n\n\nRegistration deadline: Today! Sunday\, February 19th.
URL:https://murdockbaptistchurch.org/event/evenings-all-ladies-bible-study-job-when-the-pain-is-great/2023-04-12/
LOCATION:Fellowship Hall
CATEGORIES:Bible Study - In-person,Women's Ministry
ATTACH;FMTTYPE=image/jpeg:https://murdockbaptistchurch.org/wp-content/uploads/2023/03/womens-bible-study.jpg
END:VEVENT
BEGIN:VEVENT
DTSTART;TZID=America/New_York:20230412T090000
DTEND;TZID=America/New_York:20230412T103000
DTSTAMP:20260423T200639
CREATED:20230301T135935Z
LAST-MODIFIED:20230301T135945Z
UID:10005076-1681290000-1681295400@murdockbaptistchurch.org
SUMMARY:Mornings All Ladies Bible Study ~ Job: When the Pain is Great
DESCRIPTION:Job asks big questions about pain\, suffering\, and God’s sovereignty-and it shows us God is with us through everything. \n\n\n\nFor this upcoming study\, there are 2 options for workbooks. You may choose the Precept Upon Precept (PUP) book which averages out to about 5 hours of homework per week\, the most in-depth study skills offered. Or you may choose the In & Out (I/O) book designed to meet the needs of those who might be new to Bible study or who might not be able to commit themselves to the lengthier homework. In & Out lessons are intended to take one to three hours per week.   \n\n\n\nTo register or for more information contact Amy at atipton62@gmail.com or phone/text (941) 276-9687.  \n\n\n\nPlease indicate which book you prefer: PUP or I/O when you register.  \n\n\n\nRegistration deadline: Today! Sunday\, February 19th.
URL:https://murdockbaptistchurch.org/event/mornings-all-ladies-bible-study-job-when-the-pain-is-great/2023-04-12/
LOCATION:Fellowship Hall
CATEGORIES:Bible Study - In-person,Women's Ministry
END:VEVENT
BEGIN:VEVENT
DTSTART;TZID=America/New_York:20230311T110000
DTEND;TZID=America/New_York:20230311T130000
DTSTAMP:20260423T200639
CREATED:20230220T140532Z
LAST-MODIFIED:20230310T160430Z
UID:10004899-1678532400-1678539600@murdockbaptistchurch.org
SUMMARY:Ladies Potluck Brunch
DESCRIPTION:All ages are welcome! So join us for good food and fellowship! \n\n\n\n\nOlder women… teach what is good… train the younger women… \nTitus 2:3-4\n\n\n\nA signup sheet will be available in the Fellowship Hall after service. Please let us know if you can make it and what you are bringing. \n\n\n\nLindsay Gabbard/Diane Traynor/Debbie Crawford Set up at 9:00am
URL:https://murdockbaptistchurch.org/event/ladies-potluck-brunch/
LOCATION:Florida
CATEGORIES:Women's Ministry
END:VEVENT
BEGIN:VEVENT
DTSTART;TZID=America/New_York:20230218T113000
DTEND;TZID=America/New_York:20230218T130000
DTSTAMP:20260423T200639
CREATED:20230104T223904Z
LAST-MODIFIED:20230106T144201Z
UID:10004447-1676719800-1676725200@murdockbaptistchurch.org
SUMMARY:Connection Luncheon
DESCRIPTION:This is open to all ladies who are of age 60 years or older.  All ladies\, widows\, singles and divorcees.  Ladies please join us for Lunch.
URL:https://murdockbaptistchurch.org/event/ladies-ministry-luncheon/2023-02-18/
LOCATION:Main Building A\, Fellowship Hall\, 18375 Cochran Boulevard\, Port Charlotte\, Florida\, 33948\, United States
CATEGORIES:Special Events,Women's Ministry
ATTACH;FMTTYPE=image/jpeg:https://murdockbaptistchurch.org/wp-content/uploads/2022/11/79440396_10157391805871140_5541114037883895808_n.jpg
END:VEVENT
BEGIN:VEVENT
DTSTART;TZID=America/New_York:20230218T103000
DTEND;TZID=America/New_York:20230218T130000
DTSTAMP:20260423T200639
CREATED:20230202T211930Z
LAST-MODIFIED:20230202T212858Z
UID:10004643-1676716200-1676725200@murdockbaptistchurch.org
SUMMARY:Women's Ministry - Love is the Answer Valentine's Day Brunch
DESCRIPTION:“Dear friends\, let us love one another\, for love comes from God. Everyone who loves has been born of God and knows God. \n1 John 4:7\n\n\n\nGuest Speaker: Barbara Miller \n\n\n\nTickets on sale in the Fellowship Hall.
URL:https://murdockbaptistchurch.org/event/womens-ministry-love-is-the-answer-valentines-day-brunch/
LOCATION:Florida
CATEGORIES:Special Events,Women's Ministry
ATTACH;FMTTYPE=image/jpeg:https://murdockbaptistchurch.org/wp-content/uploads/2023/02/heart-shaped-pancakes_136595-14955.jpg
END:VEVENT
BEGIN:VEVENT
DTSTART;TZID=America/New_York:20230215T180000
DTEND;TZID=America/New_York:20230215T193000
DTSTAMP:20260423T200639
CREATED:20230104T204646Z
LAST-MODIFIED:20230119T220131Z
UID:10003786-1676484000-1676489400@murdockbaptistchurch.org
SUMMARY:Women’s Bible Study – The Gospel on the Ground
DESCRIPTION:Led by Robin Sloat \n\n\n\nWednesdays\, beginning January 4th from 6-7:30 p.m.\, Rooms 106-107 \n\n\n\nCome along with Biblical culturalist Kristi McLelland in this 7-week study as she unpacks the life of the early church in the book of Acts. For more information contact Robin Sloat at 1-475-204-6873 (call or text) or rsloat@aol.com.
URL:https://murdockbaptistchurch.org/event/womens-bible-study-the-gospel-on-the-ground/2023-02-15/
LOCATION:Rooms 106-107\, 18375 Cochran Boulevard\, Port Charlotte\, Florida\, 33948\, United States
CATEGORIES:Bible Study - In-person,Ladies Bible Study,Women's Ministry
ATTACH;FMTTYPE=image/jpeg:https://murdockbaptistchurch.org/wp-content/uploads/2023/01/sincerely-media-dGxOgeXAXm8-unsplash-1.jpg
END:VEVENT
BEGIN:VEVENT
DTSTART;TZID=America/New_York:20230117T113000
DTEND;TZID=America/New_York:20230117T130000
DTSTAMP:20260423T200639
CREATED:20230104T161559Z
LAST-MODIFIED:20230105T222400Z
UID:10003348-1673955000-1673960400@murdockbaptistchurch.org
SUMMARY:Connection Luncheon
DESCRIPTION:The Connection is a MBC Ministry to all ladies\, widows\, singles\, divorcees over the age of 60 years young. If you have not already spoken to a member of the Connection team to reserve your seating\, please call the office at 1-941-627-6352.
URL:https://murdockbaptistchurch.org/event/connection-luncheon/
LOCATION:Fellowship Hall
CATEGORIES:Women's Ministry
ATTACH;FMTTYPE=image/jpeg:https://murdockbaptistchurch.org/wp-content/uploads/2022/12/79823658_10157391808126140_2104543973723865088_n.jpg
END:VEVENT
END:VCALENDAR