BEGIN:VCALENDAR
VERSION:2.0
PRODID:-//Murdock Baptist Church - ECPv6.15.20//NONSGML v1.0//EN
CALSCALE:GREGORIAN
METHOD:PUBLISH
X-ORIGINAL-URL:https://murdockbaptistchurch.org
X-WR-CALDESC:Events for Murdock Baptist Church
REFRESH-INTERVAL;VALUE=DURATION:PT1H
X-Robots-Tag:noindex
X-PUBLISHED-TTL:PT1H
BEGIN:VTIMEZONE
TZID:America/New_York
BEGIN:DAYLIGHT
TZOFFSETFROM:-0500
TZOFFSETTO:-0400
TZNAME:EDT
DTSTART:20250309T070000
END:DAYLIGHT
BEGIN:STANDARD
TZOFFSETFROM:-0400
TZOFFSETTO:-0500
TZNAME:EST
DTSTART:20251102T060000
END:STANDARD
BEGIN:DAYLIGHT
TZOFFSETFROM:-0500
TZOFFSETTO:-0400
TZNAME:EDT
DTSTART:20260308T070000
END:DAYLIGHT
BEGIN:STANDARD
TZOFFSETFROM:-0400
TZOFFSETTO:-0500
TZNAME:EST
DTSTART:20261101T060000
END:STANDARD
BEGIN:DAYLIGHT
TZOFFSETFROM:-0500
TZOFFSETTO:-0400
TZNAME:EDT
DTSTART:20270314T070000
END:DAYLIGHT
BEGIN:STANDARD
TZOFFSETFROM:-0400
TZOFFSETTO:-0500
TZNAME:EST
DTSTART:20271107T060000
END:STANDARD
END:VTIMEZONE
BEGIN:VEVENT
DTSTART;TZID=America/New_York:20260303T180000
DTEND;TZID=America/New_York:20260303T190000
DTSTAMP:20260423T153347
CREATED:20251218T143349Z
LAST-MODIFIED:20251218T143524Z
UID:10009145-1772560800-1772564400@murdockbaptistchurch.org
SUMMARY:Women's Bible Study: Hebrews 1-4
DESCRIPTION:Learn about Jesus’ superiority to all in an exciting study of Hebrews 1-4 that enlightens and enlivens Old Testament law and prophecy. It is a 12 session. Precepts study led by Amy Tipton. \n\n\n\nSign up after service so we can order enough books!
URL:https://murdockbaptistchurch.org/event/womens-bible-study-hebrews-1-4/2026-03-03/
CATEGORIES:God's Garden,Ladies Bible Study,Special Events,Women's Ministry
END:VEVENT
BEGIN:VEVENT
DTSTART;TZID=America/New_York:20260303T180000
DTEND;TZID=America/New_York:20260303T190000
DTSTAMP:20260423T153347
CREATED:20251218T144226Z
LAST-MODIFIED:20251218T144229Z
UID:10009157-1772560800-1772564400@murdockbaptistchurch.org
SUMMARY:Women's Bible Study: A Jesus Shaped Life
DESCRIPTION:by Lisa Harper \n\n\n\nLed by Annie North \n\n\n\n\n\nThe tag line describes it – “How Biblically sound theology deepens our relationship with God and with each other.” This study is led by Annie North on Tuesday evenings. \n\n\n\nSign up after service so we can order enough books!
URL:https://murdockbaptistchurch.org/event/womens-bible-study-a-jesus-shaped-life/2026-03-03/
CATEGORIES:God's Garden,Ladies Bible Study,Special Events,Women's Ministry
END:VEVENT
BEGIN:VEVENT
DTSTART;TZID=America/New_York:20260304T093000
DTEND;TZID=America/New_York:20260304T103000
DTSTAMP:20260423T153347
CREATED:20251218T145123Z
LAST-MODIFIED:20251218T145411Z
UID:10009169-1772616600-1772620200@murdockbaptistchurch.org
SUMMARY:Women's Bible Study: A Jesus Shaped Life
DESCRIPTION:by Lisa Harper \n\n\n\nLed by Robyn Sloat \n\n\n\n\n\nThe tag line describes it – “How Biblically sound theology deepens our relationship with God and with each other.” This study is led by Annie North on Tuesday evenings. \n\n\n\nSign up after service so we can order enough books!
URL:https://murdockbaptistchurch.org/event/womens-bible-study-a-jesus-shaped-life2/2026-03-04/
LOCATION:Main Building\, Rooms 101-102
CATEGORIES:God's Garden,Ladies Bible Study,Special Events,Women's Ministry
END:VEVENT
BEGIN:VEVENT
DTSTART;TZID=America/New_York:20260310T180000
DTEND;TZID=America/New_York:20260310T190000
DTSTAMP:20260423T153347
CREATED:20251218T143349Z
LAST-MODIFIED:20251218T143524Z
UID:10009146-1773165600-1773169200@murdockbaptistchurch.org
SUMMARY:Women's Bible Study: Hebrews 1-4
DESCRIPTION:Learn about Jesus’ superiority to all in an exciting study of Hebrews 1-4 that enlightens and enlivens Old Testament law and prophecy. It is a 12 session. Precepts study led by Amy Tipton. \n\n\n\nSign up after service so we can order enough books!
URL:https://murdockbaptistchurch.org/event/womens-bible-study-hebrews-1-4/2026-03-10/
CATEGORIES:God's Garden,Ladies Bible Study,Special Events,Women's Ministry
END:VEVENT
BEGIN:VEVENT
DTSTART;TZID=America/New_York:20260310T180000
DTEND;TZID=America/New_York:20260310T190000
DTSTAMP:20260423T153347
CREATED:20251218T144226Z
LAST-MODIFIED:20251218T144229Z
UID:10009158-1773165600-1773169200@murdockbaptistchurch.org
SUMMARY:Women's Bible Study: A Jesus Shaped Life
DESCRIPTION:by Lisa Harper \n\n\n\nLed by Annie North \n\n\n\n\n\nThe tag line describes it – “How Biblically sound theology deepens our relationship with God and with each other.” This study is led by Annie North on Tuesday evenings. \n\n\n\nSign up after service so we can order enough books!
URL:https://murdockbaptistchurch.org/event/womens-bible-study-a-jesus-shaped-life/2026-03-10/
CATEGORIES:God's Garden,Ladies Bible Study,Special Events,Women's Ministry
END:VEVENT
BEGIN:VEVENT
DTSTART;TZID=America/New_York:20260311T093000
DTEND;TZID=America/New_York:20260311T103000
DTSTAMP:20260423T153347
CREATED:20251218T145123Z
LAST-MODIFIED:20251218T145411Z
UID:10009170-1773221400-1773225000@murdockbaptistchurch.org
SUMMARY:Women's Bible Study: A Jesus Shaped Life
DESCRIPTION:by Lisa Harper \n\n\n\nLed by Robyn Sloat \n\n\n\n\n\nThe tag line describes it – “How Biblically sound theology deepens our relationship with God and with each other.” This study is led by Annie North on Tuesday evenings. \n\n\n\nSign up after service so we can order enough books!
URL:https://murdockbaptistchurch.org/event/womens-bible-study-a-jesus-shaped-life2/2026-03-11/
LOCATION:Main Building\, Rooms 101-102
CATEGORIES:God's Garden,Ladies Bible Study,Special Events,Women's Ministry
END:VEVENT
BEGIN:VEVENT
DTSTART;TZID=America/New_York:20260312T100000
DTEND;TZID=America/New_York:20260312T140000
DTSTAMP:20260423T153347
CREATED:20250915T160511Z
LAST-MODIFIED:20250915T161037Z
UID:10008995-1773309600-1773324000@murdockbaptistchurch.org
SUMMARY:Bobbin Along Quilters
DESCRIPTION:This groups meets on the 2nd and 4th Thursday of each month from 10-2 p.m. If you’ve always wanted to learn how to quilt or you have been quilting for years\, please join us! for more information\, contact Debbie Eritz at (234) 567-3686.
URL:https://murdockbaptistchurch.org/event/bobbin-along-quilters/2026-03-12/
CATEGORIES:God's Garden,Ministries,Quilters,Special Events,Women's Ministry
ATTACH;FMTTYPE=image/jpeg:https://murdockbaptistchurch.org/wp-content/uploads/2025/09/quilt.jpg
END:VEVENT
BEGIN:VEVENT
DTSTART;TZID=America/New_York:20260317T180000
DTEND;TZID=America/New_York:20260317T190000
DTSTAMP:20260423T153347
CREATED:20251218T143349Z
LAST-MODIFIED:20251218T143524Z
UID:10009147-1773770400-1773774000@murdockbaptistchurch.org
SUMMARY:Women's Bible Study: Hebrews 1-4
DESCRIPTION:Learn about Jesus’ superiority to all in an exciting study of Hebrews 1-4 that enlightens and enlivens Old Testament law and prophecy. It is a 12 session. Precepts study led by Amy Tipton. \n\n\n\nSign up after service so we can order enough books!
URL:https://murdockbaptistchurch.org/event/womens-bible-study-hebrews-1-4/2026-03-17/
CATEGORIES:God's Garden,Ladies Bible Study,Special Events,Women's Ministry
END:VEVENT
BEGIN:VEVENT
DTSTART;TZID=America/New_York:20260317T180000
DTEND;TZID=America/New_York:20260317T190000
DTSTAMP:20260423T153347
CREATED:20251218T144226Z
LAST-MODIFIED:20251218T144229Z
UID:10009159-1773770400-1773774000@murdockbaptistchurch.org
SUMMARY:Women's Bible Study: A Jesus Shaped Life
DESCRIPTION:by Lisa Harper \n\n\n\nLed by Annie North \n\n\n\n\n\nThe tag line describes it – “How Biblically sound theology deepens our relationship with God and with each other.” This study is led by Annie North on Tuesday evenings. \n\n\n\nSign up after service so we can order enough books!
URL:https://murdockbaptistchurch.org/event/womens-bible-study-a-jesus-shaped-life/2026-03-17/
CATEGORIES:God's Garden,Ladies Bible Study,Special Events,Women's Ministry
END:VEVENT
BEGIN:VEVENT
DTSTART;TZID=America/New_York:20260318T093000
DTEND;TZID=America/New_York:20260318T103000
DTSTAMP:20260423T153347
CREATED:20251218T145123Z
LAST-MODIFIED:20251218T145411Z
UID:10009171-1773826200-1773829800@murdockbaptistchurch.org
SUMMARY:Women's Bible Study: A Jesus Shaped Life
DESCRIPTION:by Lisa Harper \n\n\n\nLed by Robyn Sloat \n\n\n\n\n\nThe tag line describes it – “How Biblically sound theology deepens our relationship with God and with each other.” This study is led by Annie North on Tuesday evenings. \n\n\n\nSign up after service so we can order enough books!
URL:https://murdockbaptistchurch.org/event/womens-bible-study-a-jesus-shaped-life2/2026-03-18/
LOCATION:Main Building\, Rooms 101-102
CATEGORIES:God's Garden,Ladies Bible Study,Special Events,Women's Ministry
END:VEVENT
BEGIN:VEVENT
DTSTART;TZID=America/New_York:20260324T180000
DTEND;TZID=America/New_York:20260324T190000
DTSTAMP:20260423T153347
CREATED:20251218T143349Z
LAST-MODIFIED:20251218T143524Z
UID:10009148-1774375200-1774378800@murdockbaptistchurch.org
SUMMARY:Women's Bible Study: Hebrews 1-4
DESCRIPTION:Learn about Jesus’ superiority to all in an exciting study of Hebrews 1-4 that enlightens and enlivens Old Testament law and prophecy. It is a 12 session. Precepts study led by Amy Tipton. \n\n\n\nSign up after service so we can order enough books!
URL:https://murdockbaptistchurch.org/event/womens-bible-study-hebrews-1-4/2026-03-24/
CATEGORIES:God's Garden,Ladies Bible Study,Special Events,Women's Ministry
END:VEVENT
BEGIN:VEVENT
DTSTART;TZID=America/New_York:20260324T180000
DTEND;TZID=America/New_York:20260324T190000
DTSTAMP:20260423T153347
CREATED:20251218T144226Z
LAST-MODIFIED:20251218T144229Z
UID:10009160-1774375200-1774378800@murdockbaptistchurch.org
SUMMARY:Women's Bible Study: A Jesus Shaped Life
DESCRIPTION:by Lisa Harper \n\n\n\nLed by Annie North \n\n\n\n\n\nThe tag line describes it – “How Biblically sound theology deepens our relationship with God and with each other.” This study is led by Annie North on Tuesday evenings. \n\n\n\nSign up after service so we can order enough books!
URL:https://murdockbaptistchurch.org/event/womens-bible-study-a-jesus-shaped-life/2026-03-24/
CATEGORIES:God's Garden,Ladies Bible Study,Special Events,Women's Ministry
END:VEVENT
BEGIN:VEVENT
DTSTART;TZID=America/New_York:20260325T093000
DTEND;TZID=America/New_York:20260325T103000
DTSTAMP:20260423T153347
CREATED:20251218T145123Z
LAST-MODIFIED:20251218T145411Z
UID:10009172-1774431000-1774434600@murdockbaptistchurch.org
SUMMARY:Women's Bible Study: A Jesus Shaped Life
DESCRIPTION:by Lisa Harper \n\n\n\nLed by Robyn Sloat \n\n\n\n\n\nThe tag line describes it – “How Biblically sound theology deepens our relationship with God and with each other.” This study is led by Annie North on Tuesday evenings. \n\n\n\nSign up after service so we can order enough books!
URL:https://murdockbaptistchurch.org/event/womens-bible-study-a-jesus-shaped-life2/2026-03-25/
LOCATION:Main Building\, Rooms 101-102
CATEGORIES:God's Garden,Ladies Bible Study,Special Events,Women's Ministry
END:VEVENT
BEGIN:VEVENT
DTSTART;TZID=America/New_York:20260326T100000
DTEND;TZID=America/New_York:20260326T140000
DTSTAMP:20260423T153347
CREATED:20250915T160757Z
LAST-MODIFIED:20251223T214636Z
UID:10008985-1774519200-1774533600@murdockbaptistchurch.org
SUMMARY:Bobbin Along Quilters
DESCRIPTION:This groups meets on the 2nd and 4th Thursday of each month from 10-2 p.m. If you’ve always wanted to learn how to quilt or you have been quilting for years\, please join us! for more information\, contact Debbie Eritz at (234) 567-3686.
URL:https://murdockbaptistchurch.org/event/bobbin-along-quilters-2/2026-03-26/
LOCATION:Room 106\, 18375 Cochran Bloulevard\, Port Charlotte\, Florida\, 33948
CATEGORIES:God's Garden,Ministries,Quilters,Special Events,Women's Ministry
ATTACH;FMTTYPE=image/jpeg:https://murdockbaptistchurch.org/wp-content/uploads/2025/09/quilt.jpg
END:VEVENT
BEGIN:VEVENT
DTSTART;TZID=America/New_York:20260326T180000
DTEND;TZID=America/New_York:20260326T190000
DTSTAMP:20260423T153347
CREATED:20260222T211341Z
LAST-MODIFIED:20260222T211346Z
UID:10009606-1774548000-1774551600@murdockbaptistchurch.org
SUMMARY:Women of Easter
DESCRIPTION:For Murdock’s Women Only \n\n\n\nPrepare your hearts for Easter and join us for a special evening of “Women of Easter”.  We will make palm crosses\, worship together\, and enjoy a powerful drama as “Three Marys” share their encounters with Jesus. There is no cost\, but please sign up today so we know you’re coming.
URL:https://murdockbaptistchurch.org/event/women-of-easter/
LOCATION:Student Building B\, 18375 Cochran Boulevard\, Port Charlotte\, Florida\, 33948\, United States
CATEGORIES:God's Garden,Ministries,Special Events,Women's Ministry
ATTACH;FMTTYPE=image/jpeg:https://murdockbaptistchurch.org/wp-content/uploads/2023/04/resurrection-day-easter.jpg
END:VEVENT
BEGIN:VEVENT
DTSTART;TZID=America/New_York:20260331T180000
DTEND;TZID=America/New_York:20260331T190000
DTSTAMP:20260423T153347
CREATED:20251218T143349Z
LAST-MODIFIED:20251218T143524Z
UID:10009149-1774980000-1774983600@murdockbaptistchurch.org
SUMMARY:Women's Bible Study: Hebrews 1-4
DESCRIPTION:Learn about Jesus’ superiority to all in an exciting study of Hebrews 1-4 that enlightens and enlivens Old Testament law and prophecy. It is a 12 session. Precepts study led by Amy Tipton. \n\n\n\nSign up after service so we can order enough books!
URL:https://murdockbaptistchurch.org/event/womens-bible-study-hebrews-1-4/2026-03-31/
CATEGORIES:God's Garden,Ladies Bible Study,Special Events,Women's Ministry
END:VEVENT
BEGIN:VEVENT
DTSTART;TZID=America/New_York:20260331T180000
DTEND;TZID=America/New_York:20260331T190000
DTSTAMP:20260423T153347
CREATED:20251218T144226Z
LAST-MODIFIED:20251218T144229Z
UID:10009161-1774980000-1774983600@murdockbaptistchurch.org
SUMMARY:Women's Bible Study: A Jesus Shaped Life
DESCRIPTION:by Lisa Harper \n\n\n\nLed by Annie North \n\n\n\n\n\nThe tag line describes it – “How Biblically sound theology deepens our relationship with God and with each other.” This study is led by Annie North on Tuesday evenings. \n\n\n\nSign up after service so we can order enough books!
URL:https://murdockbaptistchurch.org/event/womens-bible-study-a-jesus-shaped-life/2026-03-31/
CATEGORIES:God's Garden,Ladies Bible Study,Special Events,Women's Ministry
END:VEVENT
END:VCALENDAR