BEGIN:VCALENDAR
VERSION:2.0
PRODID:-//Murdock Baptist Church - ECPv6.15.20//NONSGML v1.0//EN
CALSCALE:GREGORIAN
METHOD:PUBLISH
X-WR-CALNAME:Murdock Baptist Church
X-ORIGINAL-URL:https://murdockbaptistchurch.org
X-WR-CALDESC:Events for Murdock Baptist Church
REFRESH-INTERVAL;VALUE=DURATION:PT1H
X-Robots-Tag:noindex
X-PUBLISHED-TTL:PT1H
BEGIN:VTIMEZONE
TZID:America/New_York
BEGIN:DAYLIGHT
TZOFFSETFROM:-0500
TZOFFSETTO:-0400
TZNAME:EDT
DTSTART:20250309T070000
END:DAYLIGHT
BEGIN:STANDARD
TZOFFSETFROM:-0400
TZOFFSETTO:-0500
TZNAME:EST
DTSTART:20251102T060000
END:STANDARD
BEGIN:DAYLIGHT
TZOFFSETFROM:-0500
TZOFFSETTO:-0400
TZNAME:EDT
DTSTART:20260308T070000
END:DAYLIGHT
BEGIN:STANDARD
TZOFFSETFROM:-0400
TZOFFSETTO:-0500
TZNAME:EST
DTSTART:20261101T060000
END:STANDARD
BEGIN:DAYLIGHT
TZOFFSETFROM:-0500
TZOFFSETTO:-0400
TZNAME:EDT
DTSTART:20270314T070000
END:DAYLIGHT
BEGIN:STANDARD
TZOFFSETFROM:-0400
TZOFFSETTO:-0500
TZNAME:EST
DTSTART:20271107T060000
END:STANDARD
END:VTIMEZONE
BEGIN:VEVENT
DTSTART;TZID=America/New_York:20260203T180000
DTEND;TZID=America/New_York:20260203T190000
DTSTAMP:20260423T171631
CREATED:20251218T143349Z
LAST-MODIFIED:20251218T143524Z
UID:10009141-1770141600-1770145200@murdockbaptistchurch.org
SUMMARY:Women's Bible Study: Hebrews 1-4
DESCRIPTION:Learn about Jesus’ superiority to all in an exciting study of Hebrews 1-4 that enlightens and enlivens Old Testament law and prophecy. It is a 12 session. Precepts study led by Amy Tipton. \n\n\n\nSign up after service so we can order enough books!
URL:https://murdockbaptistchurch.org/event/womens-bible-study-hebrews-1-4/2026-02-03/
CATEGORIES:God's Garden,Ladies Bible Study,Special Events,Women's Ministry
END:VEVENT
BEGIN:VEVENT
DTSTART;TZID=America/New_York:20260203T180000
DTEND;TZID=America/New_York:20260203T190000
DTSTAMP:20260423T171631
CREATED:20251218T144226Z
LAST-MODIFIED:20251218T144229Z
UID:10009153-1770141600-1770145200@murdockbaptistchurch.org
SUMMARY:Women's Bible Study: A Jesus Shaped Life
DESCRIPTION:by Lisa Harper \n\n\n\nLed by Annie North \n\n\n\n\n\nThe tag line describes it – “How Biblically sound theology deepens our relationship with God and with each other.” This study is led by Annie North on Tuesday evenings. \n\n\n\nSign up after service so we can order enough books!
URL:https://murdockbaptistchurch.org/event/womens-bible-study-a-jesus-shaped-life/2026-02-03/
CATEGORIES:God's Garden,Ladies Bible Study,Special Events,Women's Ministry
END:VEVENT
BEGIN:VEVENT
DTSTART;TZID=America/New_York:20260204T093000
DTEND;TZID=America/New_York:20260204T103000
DTSTAMP:20260423T171632
CREATED:20251218T145123Z
LAST-MODIFIED:20251218T145411Z
UID:10009165-1770197400-1770201000@murdockbaptistchurch.org
SUMMARY:Women's Bible Study: A Jesus Shaped Life
DESCRIPTION:by Lisa Harper \n\n\n\nLed by Robyn Sloat \n\n\n\n\n\nThe tag line describes it – “How Biblically sound theology deepens our relationship with God and with each other.” This study is led by Annie North on Tuesday evenings. \n\n\n\nSign up after service so we can order enough books!
URL:https://murdockbaptistchurch.org/event/womens-bible-study-a-jesus-shaped-life2/2026-02-04/
LOCATION:Main Building\, Rooms 101-102
CATEGORIES:God's Garden,Ladies Bible Study,Special Events,Women's Ministry
END:VEVENT
BEGIN:VEVENT
DTSTART;TZID=America/New_York:20260210T180000
DTEND;TZID=America/New_York:20260210T190000
DTSTAMP:20260423T171632
CREATED:20251218T143349Z
LAST-MODIFIED:20251218T143524Z
UID:10009142-1770746400-1770750000@murdockbaptistchurch.org
SUMMARY:Women's Bible Study: Hebrews 1-4
DESCRIPTION:Learn about Jesus’ superiority to all in an exciting study of Hebrews 1-4 that enlightens and enlivens Old Testament law and prophecy. It is a 12 session. Precepts study led by Amy Tipton. \n\n\n\nSign up after service so we can order enough books!
URL:https://murdockbaptistchurch.org/event/womens-bible-study-hebrews-1-4/2026-02-10/
CATEGORIES:God's Garden,Ladies Bible Study,Special Events,Women's Ministry
END:VEVENT
BEGIN:VEVENT
DTSTART;TZID=America/New_York:20260210T180000
DTEND;TZID=America/New_York:20260210T190000
DTSTAMP:20260423T171632
CREATED:20251218T144226Z
LAST-MODIFIED:20251218T144229Z
UID:10009154-1770746400-1770750000@murdockbaptistchurch.org
SUMMARY:Women's Bible Study: A Jesus Shaped Life
DESCRIPTION:by Lisa Harper \n\n\n\nLed by Annie North \n\n\n\n\n\nThe tag line describes it – “How Biblically sound theology deepens our relationship with God and with each other.” This study is led by Annie North on Tuesday evenings. \n\n\n\nSign up after service so we can order enough books!
URL:https://murdockbaptistchurch.org/event/womens-bible-study-a-jesus-shaped-life/2026-02-10/
CATEGORIES:God's Garden,Ladies Bible Study,Special Events,Women's Ministry
END:VEVENT
BEGIN:VEVENT
DTSTART;TZID=America/New_York:20260211T093000
DTEND;TZID=America/New_York:20260211T103000
DTSTAMP:20260423T171632
CREATED:20251218T145123Z
LAST-MODIFIED:20251218T145411Z
UID:10009166-1770802200-1770805800@murdockbaptistchurch.org
SUMMARY:Women's Bible Study: A Jesus Shaped Life
DESCRIPTION:by Lisa Harper \n\n\n\nLed by Robyn Sloat \n\n\n\n\n\nThe tag line describes it – “How Biblically sound theology deepens our relationship with God and with each other.” This study is led by Annie North on Tuesday evenings. \n\n\n\nSign up after service so we can order enough books!
URL:https://murdockbaptistchurch.org/event/womens-bible-study-a-jesus-shaped-life2/2026-02-11/
LOCATION:Main Building\, Rooms 101-102
CATEGORIES:God's Garden,Ladies Bible Study,Special Events,Women's Ministry
END:VEVENT
BEGIN:VEVENT
DTSTART;TZID=America/New_York:20260212T100000
DTEND;TZID=America/New_York:20260212T140000
DTSTAMP:20260423T171632
CREATED:20250915T160511Z
LAST-MODIFIED:20250915T161037Z
UID:10008994-1770890400-1770904800@murdockbaptistchurch.org
SUMMARY:Bobbin Along Quilters
DESCRIPTION:This groups meets on the 2nd and 4th Thursday of each month from 10-2 p.m. If you’ve always wanted to learn how to quilt or you have been quilting for years\, please join us! for more information\, contact Debbie Eritz at (234) 567-3686.
URL:https://murdockbaptistchurch.org/event/bobbin-along-quilters/2026-02-12/
CATEGORIES:God's Garden,Ministries,Quilters,Special Events,Women's Ministry
ATTACH;FMTTYPE=image/jpeg:https://murdockbaptistchurch.org/wp-content/uploads/2025/09/quilt.jpg
END:VEVENT
BEGIN:VEVENT
DTSTART;TZID=America/New_York:20260217T180000
DTEND;TZID=America/New_York:20260217T190000
DTSTAMP:20260423T171632
CREATED:20251218T143349Z
LAST-MODIFIED:20251218T143524Z
UID:10009143-1771351200-1771354800@murdockbaptistchurch.org
SUMMARY:Women's Bible Study: Hebrews 1-4
DESCRIPTION:Learn about Jesus’ superiority to all in an exciting study of Hebrews 1-4 that enlightens and enlivens Old Testament law and prophecy. It is a 12 session. Precepts study led by Amy Tipton. \n\n\n\nSign up after service so we can order enough books!
URL:https://murdockbaptistchurch.org/event/womens-bible-study-hebrews-1-4/2026-02-17/
CATEGORIES:God's Garden,Ladies Bible Study,Special Events,Women's Ministry
END:VEVENT
BEGIN:VEVENT
DTSTART;TZID=America/New_York:20260217T180000
DTEND;TZID=America/New_York:20260217T190000
DTSTAMP:20260423T171632
CREATED:20251218T144226Z
LAST-MODIFIED:20251218T144229Z
UID:10009155-1771351200-1771354800@murdockbaptistchurch.org
SUMMARY:Women's Bible Study: A Jesus Shaped Life
DESCRIPTION:by Lisa Harper \n\n\n\nLed by Annie North \n\n\n\n\n\nThe tag line describes it – “How Biblically sound theology deepens our relationship with God and with each other.” This study is led by Annie North on Tuesday evenings. \n\n\n\nSign up after service so we can order enough books!
URL:https://murdockbaptistchurch.org/event/womens-bible-study-a-jesus-shaped-life/2026-02-17/
CATEGORIES:God's Garden,Ladies Bible Study,Special Events,Women's Ministry
END:VEVENT
BEGIN:VEVENT
DTSTART;TZID=America/New_York:20260218T093000
DTEND;TZID=America/New_York:20260218T103000
DTSTAMP:20260423T171632
CREATED:20251218T145123Z
LAST-MODIFIED:20251218T145411Z
UID:10009167-1771407000-1771410600@murdockbaptistchurch.org
SUMMARY:Women's Bible Study: A Jesus Shaped Life
DESCRIPTION:by Lisa Harper \n\n\n\nLed by Robyn Sloat \n\n\n\n\n\nThe tag line describes it – “How Biblically sound theology deepens our relationship with God and with each other.” This study is led by Annie North on Tuesday evenings. \n\n\n\nSign up after service so we can order enough books!
URL:https://murdockbaptistchurch.org/event/womens-bible-study-a-jesus-shaped-life2/2026-02-18/
LOCATION:Main Building\, Rooms 101-102
CATEGORIES:God's Garden,Ladies Bible Study,Special Events,Women's Ministry
END:VEVENT
BEGIN:VEVENT
DTSTART;TZID=America/New_York:20260224T180000
DTEND;TZID=America/New_York:20260224T190000
DTSTAMP:20260423T171632
CREATED:20251218T143349Z
LAST-MODIFIED:20251218T143524Z
UID:10009144-1771956000-1771959600@murdockbaptistchurch.org
SUMMARY:Women's Bible Study: Hebrews 1-4
DESCRIPTION:Learn about Jesus’ superiority to all in an exciting study of Hebrews 1-4 that enlightens and enlivens Old Testament law and prophecy. It is a 12 session. Precepts study led by Amy Tipton. \n\n\n\nSign up after service so we can order enough books!
URL:https://murdockbaptistchurch.org/event/womens-bible-study-hebrews-1-4/2026-02-24/
CATEGORIES:God's Garden,Ladies Bible Study,Special Events,Women's Ministry
END:VEVENT
BEGIN:VEVENT
DTSTART;TZID=America/New_York:20260224T180000
DTEND;TZID=America/New_York:20260224T190000
DTSTAMP:20260423T171632
CREATED:20251218T144226Z
LAST-MODIFIED:20251218T144229Z
UID:10009156-1771956000-1771959600@murdockbaptistchurch.org
SUMMARY:Women's Bible Study: A Jesus Shaped Life
DESCRIPTION:by Lisa Harper \n\n\n\nLed by Annie North \n\n\n\n\n\nThe tag line describes it – “How Biblically sound theology deepens our relationship with God and with each other.” This study is led by Annie North on Tuesday evenings. \n\n\n\nSign up after service so we can order enough books!
URL:https://murdockbaptistchurch.org/event/womens-bible-study-a-jesus-shaped-life/2026-02-24/
CATEGORIES:God's Garden,Ladies Bible Study,Special Events,Women's Ministry
END:VEVENT
BEGIN:VEVENT
DTSTART;TZID=America/New_York:20260225T093000
DTEND;TZID=America/New_York:20260225T103000
DTSTAMP:20260423T171632
CREATED:20251218T145123Z
LAST-MODIFIED:20251218T145411Z
UID:10009168-1772011800-1772015400@murdockbaptistchurch.org
SUMMARY:Women's Bible Study: A Jesus Shaped Life
DESCRIPTION:by Lisa Harper \n\n\n\nLed by Robyn Sloat \n\n\n\n\n\nThe tag line describes it – “How Biblically sound theology deepens our relationship with God and with each other.” This study is led by Annie North on Tuesday evenings. \n\n\n\nSign up after service so we can order enough books!
URL:https://murdockbaptistchurch.org/event/womens-bible-study-a-jesus-shaped-life2/2026-02-25/
LOCATION:Main Building\, Rooms 101-102
CATEGORIES:God's Garden,Ladies Bible Study,Special Events,Women's Ministry
END:VEVENT
BEGIN:VEVENT
DTSTART;TZID=America/New_York:20260226T100000
DTEND;TZID=America/New_York:20260226T140000
DTSTAMP:20260423T171632
CREATED:20250915T160757Z
LAST-MODIFIED:20251223T214636Z
UID:10008984-1772100000-1772114400@murdockbaptistchurch.org
SUMMARY:Bobbin Along Quilters
DESCRIPTION:This groups meets on the 2nd and 4th Thursday of each month from 10-2 p.m. If you’ve always wanted to learn how to quilt or you have been quilting for years\, please join us! for more information\, contact Debbie Eritz at (234) 567-3686.
URL:https://murdockbaptistchurch.org/event/bobbin-along-quilters-2/2026-02-26/
LOCATION:Room 106\, 18375 Cochran Bloulevard\, Port Charlotte\, Florida\, 33948
CATEGORIES:God's Garden,Ministries,Quilters,Special Events,Women's Ministry
ATTACH;FMTTYPE=image/jpeg:https://murdockbaptistchurch.org/wp-content/uploads/2025/09/quilt.jpg
END:VEVENT
END:VCALENDAR