BEGIN:VCALENDAR
VERSION:2.0
PRODID:-//Murdock Baptist Church - ECPv6.15.20//NONSGML v1.0//EN
CALSCALE:GREGORIAN
METHOD:PUBLISH
X-WR-CALNAME:Murdock Baptist Church
X-ORIGINAL-URL:https://murdockbaptistchurch.org
X-WR-CALDESC:Events for Murdock Baptist Church
REFRESH-INTERVAL;VALUE=DURATION:PT1H
X-Robots-Tag:noindex
X-PUBLISHED-TTL:PT1H
BEGIN:VTIMEZONE
TZID:America/New_York
BEGIN:DAYLIGHT
TZOFFSETFROM:-0500
TZOFFSETTO:-0400
TZNAME:EDT
DTSTART:20240310T070000
END:DAYLIGHT
BEGIN:STANDARD
TZOFFSETFROM:-0400
TZOFFSETTO:-0500
TZNAME:EST
DTSTART:20241103T060000
END:STANDARD
BEGIN:DAYLIGHT
TZOFFSETFROM:-0500
TZOFFSETTO:-0400
TZNAME:EDT
DTSTART:20250309T070000
END:DAYLIGHT
BEGIN:STANDARD
TZOFFSETFROM:-0400
TZOFFSETTO:-0500
TZNAME:EST
DTSTART:20251102T060000
END:STANDARD
BEGIN:DAYLIGHT
TZOFFSETFROM:-0500
TZOFFSETTO:-0400
TZNAME:EDT
DTSTART:20260308T070000
END:DAYLIGHT
BEGIN:STANDARD
TZOFFSETFROM:-0400
TZOFFSETTO:-0500
TZNAME:EST
DTSTART:20261101T060000
END:STANDARD
END:VTIMEZONE
BEGIN:VEVENT
DTSTART;TZID=America/New_York:20251113T100000
DTEND;TZID=America/New_York:20251113T140000
DTSTAMP:20260423T215331
CREATED:20250915T160511Z
LAST-MODIFIED:20250915T161037Z
UID:10008991-1763028000-1763042400@murdockbaptistchurch.org
SUMMARY:Bobbin Along Quilters
DESCRIPTION:This groups meets on the 2nd and 4th Thursday of each month from 10-2 p.m. If you’ve always wanted to learn how to quilt or you have been quilting for years\, please join us! for more information\, contact Debbie Eritz at (234) 567-3686.
URL:https://murdockbaptistchurch.org/event/bobbin-along-quilters/2025-11-13/
CATEGORIES:God's Garden,Ministries,Quilters,Special Events,Women's Ministry
ATTACH;FMTTYPE=image/jpeg:https://murdockbaptistchurch.org/wp-content/uploads/2025/09/quilt.jpg
END:VEVENT
BEGIN:VEVENT
DTSTART;TZID=America/New_York:20251115T000000
DTEND;TZID=America/New_York:20251115T120000
DTSTAMP:20260423T215331
CREATED:20251014T133629Z
LAST-MODIFIED:20251027T192317Z
UID:10009058-1763164800-1763208000@murdockbaptistchurch.org
SUMMARY:Murdock Women - Thanksgiving Mini-Retreat
DESCRIPTION:Join us for our Thanksgiving Mini-Retreat titled “The Fruit of Our Lips Giving Thankings”.  Enjoy a light breakfast\, worship time\, thankfullness quiet time\, and speakes to encourage you on your walk with the Lord.  \n\n\n\nTickets are $20 — on sale today. Come and bring a friend.
URL:https://murdockbaptistchurch.org/event/murdock-women-thanksgiving-mini-retreat/
LOCATION:Fellowship Hall
CATEGORIES:Holiday Celebrations,Special Events,Women's Ministry
ATTACH;FMTTYPE=image/jpeg:https://murdockbaptistchurch.org/wp-content/uploads/2023/11/Thanks.jpg
END:VEVENT
BEGIN:VEVENT
DTSTART;TZID=America/New_York:20251118T113000
DTEND;TZID=America/New_York:20251118T130000
DTSTAMP:20260423T215331
CREATED:20251103T220318Z
LAST-MODIFIED:20251103T220321Z
UID:10009117-1763465400-1763470800@murdockbaptistchurch.org
SUMMARY:Connection Luncheon
DESCRIPTION:The Connection is a MBC Ministru to ALL widows\, and single or divorced ladies over the age of 60 years young. To reserve your seat\, please call the church office at (941) 627-6352.
URL:https://murdockbaptistchurch.org/event/connection-luncheon-8/
LOCATION:Main Building A\, Fellowship Hall\, 18375 Cochran Boulevard\, Port Charlotte\, Florida\, 33948\, United States
CATEGORIES:God's Garden,Special Events,Women's Ministry
ATTACH;FMTTYPE=image/jpeg:https://murdockbaptistchurch.org/wp-content/uploads/2025/06/luncheon10.jpg
END:VEVENT
BEGIN:VEVENT
DTSTART;TZID=America/New_York:20251121T180000
DTEND;TZID=America/New_York:20251121T190000
DTSTAMP:20260423T215331
CREATED:20250804T155456Z
LAST-MODIFIED:20250805T180226Z
UID:10008908-1763748000-1763751600@murdockbaptistchurch.org
SUMMARY:Total Body Worship
DESCRIPTION:Murdock Women join us in the Fellowship Hall on the third Friday of every month from 6-7 p.m.\,beginning August 15th. \n\n\n\nTina Melik and Nancy Cowan will lead us in movement\, drumming and a good workout\, as we worship to fabulous praise music together. Come and bring a friend! There is no cost for this.
URL:https://murdockbaptistchurch.org/event/total-body-worship/2025-11-21/
LOCATION:Main Building A\, Fellowship Hall\, 18375 Cochran Boulevard\, Port Charlotte\, Florida\, 33948\, United States
CATEGORIES:God's Garden,Life Groups,Ministries,Special Events,Women's Ministry
ATTACH;FMTTYPE=image/jpeg:https://murdockbaptistchurch.org/wp-content/uploads/2025/08/t1larg.jpg
END:VEVENT
BEGIN:VEVENT
DTSTART;TZID=America/New_York:20251127T100000
DTEND;TZID=America/New_York:20251127T140000
DTSTAMP:20260423T215331
CREATED:20250915T160757Z
LAST-MODIFIED:20251223T214636Z
UID:10008981-1764237600-1764252000@murdockbaptistchurch.org
SUMMARY:Bobbin Along Quilters
DESCRIPTION:This groups meets on the 2nd and 4th Thursday of each month from 10-2 p.m. If you’ve always wanted to learn how to quilt or you have been quilting for years\, please join us! for more information\, contact Debbie Eritz at (234) 567-3686.
URL:https://murdockbaptistchurch.org/event/bobbin-along-quilters-2/2025-11-27/
LOCATION:Room 106\, 18375 Cochran Bloulevard\, Port Charlotte\, Florida\, 33948
CATEGORIES:God's Garden,Ministries,Quilters,Special Events,Women's Ministry
ATTACH;FMTTYPE=image/jpeg:https://murdockbaptistchurch.org/wp-content/uploads/2025/09/quilt.jpg
END:VEVENT
BEGIN:VEVENT
DTSTART;TZID=America/New_York:20251130T110000
DTEND;TZID=America/New_York:20251130T120000
DTSTAMP:20260423T215331
CREATED:20251117T140908Z
LAST-MODIFIED:20251117T140911Z
UID:10009122-1764500400-1764504000@murdockbaptistchurch.org
SUMMARY:Overcomers Life Group: The Characters of Christmas
DESCRIPTION:“The Characters of Christmas” will begin on November 30th at 11:00 a.m. for a 5-week study on “The Characters of Christmas”. Come and enjoy this special study in the context and culture of Jesus’ day. We meet in room 103.  All are welcome!
URL:https://murdockbaptistchurch.org/event/overcomers-life-group-the-characters-of-christmas/
LOCATION:Room 103\, 18375 Cochran Boulevard\, Port Charlotte\, Florida\, 33948\, United States
CATEGORIES:Life Groups,Men's Ministry,Special Events,Women's Ministry
ATTACH;FMTTYPE=image/jpeg:https://murdockbaptistchurch.org/wp-content/uploads/2025/10/holiday-grief.jpg
END:VEVENT
END:VCALENDAR