BEGIN:VCALENDAR
VERSION:2.0
PRODID:-//Murdock Baptist Church - ECPv6.15.20//NONSGML v1.0//EN
CALSCALE:GREGORIAN
METHOD:PUBLISH
X-ORIGINAL-URL:https://murdockbaptistchurch.org
X-WR-CALDESC:Events for Murdock Baptist Church
REFRESH-INTERVAL;VALUE=DURATION:PT1H
X-Robots-Tag:noindex
X-PUBLISHED-TTL:PT1H
BEGIN:VTIMEZONE
TZID:America/New_York
BEGIN:DAYLIGHT
TZOFFSETFROM:-0500
TZOFFSETTO:-0400
TZNAME:EDT
DTSTART:20240310T070000
END:DAYLIGHT
BEGIN:STANDARD
TZOFFSETFROM:-0400
TZOFFSETTO:-0500
TZNAME:EST
DTSTART:20241103T060000
END:STANDARD
BEGIN:DAYLIGHT
TZOFFSETFROM:-0500
TZOFFSETTO:-0400
TZNAME:EDT
DTSTART:20250309T070000
END:DAYLIGHT
BEGIN:STANDARD
TZOFFSETFROM:-0400
TZOFFSETTO:-0500
TZNAME:EST
DTSTART:20251102T060000
END:STANDARD
BEGIN:DAYLIGHT
TZOFFSETFROM:-0500
TZOFFSETTO:-0400
TZNAME:EDT
DTSTART:20260308T070000
END:DAYLIGHT
BEGIN:STANDARD
TZOFFSETFROM:-0400
TZOFFSETTO:-0500
TZNAME:EST
DTSTART:20261101T060000
END:STANDARD
END:VTIMEZONE
BEGIN:VEVENT
DTSTART;TZID=America/New_York:20250612T100000
DTEND;TZID=America/New_York:20250612T120000
DTSTAMP:20260424T055440
CREATED:20250610T190357Z
LAST-MODIFIED:20250610T211650Z
UID:10008853-1749722400-1749729600@murdockbaptistchurch.org
SUMMARY:Ladies Quilting Group
DESCRIPTION:Join the Bobbin Along ladies quilting group on the 2nd & 4th Thursday of each month 10-12 in Building B\, Room A. \n\n\n\n If you’ve always wanted to learn how to quilt or you have been quilting for years\, please join us! For more information contact Debbie Eritz at 234-567-3686.
URL:https://murdockbaptistchurch.org/event/ladies-quilting-group/2025-06-12/
LOCATION:Student Building\, Room A\, 18375 Cochran Boulevard\, Port Charlotte\, Florida\, 33948
CATEGORIES:Special Events,Women's Ministry
ATTACH;FMTTYPE=image/jpeg:https://murdockbaptistchurch.org/wp-content/uploads/2024/06/quilting-images.jpg
END:VEVENT
BEGIN:VEVENT
DTSTART;TZID=America/New_York:20250617T113000
DTEND;TZID=America/New_York:20250617T130000
DTSTAMP:20260424T055440
CREATED:20250603T230526Z
LAST-MODIFIED:20250603T230534Z
UID:10008830-1750159800-1750165200@murdockbaptistchurch.org
SUMMARY:Connection Luncheon
DESCRIPTION:The Connection is a MBC Ministry to ALL widows\, and singleor divorced ladies over the age of 60 years young. To reserve your seat\, please call the church office at (941) 627-3652.
URL:https://murdockbaptistchurch.org/event/connection-luncheon-4/
LOCATION:Main Building A\, Fellowship Hall\, 18375 Cochran Boulevard\, Port Charlotte\, Florida\, 33948\, United States
CATEGORIES:Ladies Bible Study,Special Events,Women's Ministry
ATTACH;FMTTYPE=image/jpeg:https://murdockbaptistchurch.org/wp-content/uploads/2023/05/ladies-luncheon.jpg
END:VEVENT
BEGIN:VEVENT
DTSTART;TZID=America/New_York:20250626T100000
DTEND;TZID=America/New_York:20250626T120000
DTSTAMP:20260424T055440
CREATED:20250610T210150Z
LAST-MODIFIED:20250610T211514Z
UID:10008851-1750932000-1750939200@murdockbaptistchurch.org
SUMMARY:Ladies Quilting Group
DESCRIPTION:Join the Bobbin Along ladies quilting group on the 2nd & 4th Thursday of each month from 10-12 in Building B\, Room A. \n\n\n\nIf you’ve always wanted to learn how to quilt or you have been quilting for years\, please join us! For more information contact Debbie Eritz at 234-567-3686.
URL:https://murdockbaptistchurch.org/event/ladies-quilting-group-3/2025-06-26/
LOCATION:Student Building\, Room A\, 18375 Cochran Boulevard\, Port Charlotte\, Florida\, 33948
CATEGORIES:Ministries,Special Events,Women's Ministry
ATTACH;FMTTYPE=image/jpeg:https://murdockbaptistchurch.org/wp-content/uploads/2024/06/quilting-images.jpg
END:VEVENT
END:VCALENDAR