BEGIN:VCALENDAR
VERSION:2.0
PRODID:-//Murdock Baptist Church - ECPv6.15.20//NONSGML v1.0//EN
CALSCALE:GREGORIAN
METHOD:PUBLISH
X-ORIGINAL-URL:https://murdockbaptistchurch.org
X-WR-CALDESC:Events for Murdock Baptist Church
REFRESH-INTERVAL;VALUE=DURATION:PT1H
X-Robots-Tag:noindex
X-PUBLISHED-TTL:PT1H
BEGIN:VTIMEZONE
TZID:America/New_York
BEGIN:DAYLIGHT
TZOFFSETFROM:-0500
TZOFFSETTO:-0400
TZNAME:EDT
DTSTART:20230312T070000
END:DAYLIGHT
BEGIN:STANDARD
TZOFFSETFROM:-0400
TZOFFSETTO:-0500
TZNAME:EST
DTSTART:20231105T060000
END:STANDARD
BEGIN:DAYLIGHT
TZOFFSETFROM:-0500
TZOFFSETTO:-0400
TZNAME:EDT
DTSTART:20240310T070000
END:DAYLIGHT
BEGIN:STANDARD
TZOFFSETFROM:-0400
TZOFFSETTO:-0500
TZNAME:EST
DTSTART:20241103T060000
END:STANDARD
BEGIN:DAYLIGHT
TZOFFSETFROM:-0500
TZOFFSETTO:-0400
TZNAME:EDT
DTSTART:20250309T070000
END:DAYLIGHT
BEGIN:STANDARD
TZOFFSETFROM:-0400
TZOFFSETTO:-0500
TZNAME:EST
DTSTART:20251102T060000
END:STANDARD
END:VTIMEZONE
BEGIN:VEVENT
DTSTART;TZID=America/New_York:20240808T100000
DTEND;TZID=America/New_York:20240808T120000
DTSTAMP:20260424T230609
CREATED:20240604T140355Z
LAST-MODIFIED:20250507T154232Z
UID:10008184-1723111200-1723118400@murdockbaptistchurch.org
SUMMARY:Ladies Quilting Group
DESCRIPTION:Join the Bobbin Along ladies quilting group on the 2nd & 4th Thursday of each month 10-12 in Building B\, Room A. \n\n\n\n If you’ve always wanted to learn how to quilt or you have been quilting for years\, please join us! For more information contact Debbie Eritz at 234-567-3686.
URL:https://murdockbaptistchurch.org/event/ladies-quilting-group-new/2024-08-08/
LOCATION:Student Building\, Room A\, 18375 Cochran Boulevard\, Port Charlotte\, Florida\, 33948
CATEGORIES:Special Events,Women's Ministry
ATTACH;FMTTYPE=image/jpeg:https://murdockbaptistchurch.org/wp-content/uploads/2024/06/quilting-images.jpg
END:VEVENT
BEGIN:VEVENT
DTSTART;TZID=America/New_York:20240820T113000
DTEND;TZID=America/New_York:20240820T130000
DTSTAMP:20260424T230609
CREATED:20230517T211237Z
LAST-MODIFIED:20240219T195550Z
UID:10007607-1724153400-1724158800@murdockbaptistchurch.org
SUMMARY:Connection Luncheon
DESCRIPTION:This is open to all widows\, singles\, divorcees over the age of 60 years young.  Ladies please join us for Lunch. RSVP required.
URL:https://murdockbaptistchurch.org/event/connection-luncheon-2/2024-08-20/
LOCATION:Main Building A\, Fellowship Hall\, 18375 Cochran Boulevard\, Port Charlotte\, Florida\, 33948\, United States
CATEGORIES:Ministries,Women's Ministry
ATTACH;FMTTYPE=image/jpeg:https://murdockbaptistchurch.org/wp-content/uploads/2023/05/ladies-luncheon.jpg
END:VEVENT
BEGIN:VEVENT
DTSTART;TZID=America/New_York:20240822T100000
DTEND;TZID=America/New_York:20240822T120000
DTSTAMP:20260424T230609
CREATED:20240604T140916Z
LAST-MODIFIED:20240604T205611Z
UID:10008203-1724320800-1724328000@murdockbaptistchurch.org
SUMMARY:Ladies Quilting Group - NEW!
DESCRIPTION:Beginning June 13th from 10-12 in Building B\, Room A. This group will be meeting on the 2nd & 4th Thursday of each month. \n\n\n\nIf you’ve always wanted to learn how to quilt or you have been quilting for years\, please join us! For more information contact Debbie Eritz at 234-567-3686.
URL:https://murdockbaptistchurch.org/event/ladies-quilting-group-new-2/2024-08-22/
LOCATION:Student Building\, Room A\, 18375 Cochran Boulevard\, Port Charlotte\, Florida\, 33948
CATEGORIES:Special Events,Women's Ministry
ATTACH;FMTTYPE=image/jpeg:https://murdockbaptistchurch.org/wp-content/uploads/2024/06/quilting-images.jpg
END:VEVENT
END:VCALENDAR