BEGIN:VCALENDAR
VERSION:2.0
PRODID:-//Murdock Baptist Church - ECPv6.15.20//NONSGML v1.0//EN
CALSCALE:GREGORIAN
METHOD:PUBLISH
X-WR-CALNAME:Murdock Baptist Church
X-ORIGINAL-URL:https://murdockbaptistchurch.org
X-WR-CALDESC:Events for Murdock Baptist Church
REFRESH-INTERVAL;VALUE=DURATION:PT1H
X-Robots-Tag:noindex
X-PUBLISHED-TTL:PT1H
BEGIN:VTIMEZONE
TZID:America/New_York
BEGIN:DAYLIGHT
TZOFFSETFROM:-0500
TZOFFSETTO:-0400
TZNAME:EDT
DTSTART:20230312T070000
END:DAYLIGHT
BEGIN:STANDARD
TZOFFSETFROM:-0400
TZOFFSETTO:-0500
TZNAME:EST
DTSTART:20231105T060000
END:STANDARD
BEGIN:DAYLIGHT
TZOFFSETFROM:-0500
TZOFFSETTO:-0400
TZNAME:EDT
DTSTART:20240310T070000
END:DAYLIGHT
BEGIN:STANDARD
TZOFFSETFROM:-0400
TZOFFSETTO:-0500
TZNAME:EST
DTSTART:20241103T060000
END:STANDARD
BEGIN:DAYLIGHT
TZOFFSETFROM:-0500
TZOFFSETTO:-0400
TZNAME:EDT
DTSTART:20250309T070000
END:DAYLIGHT
BEGIN:STANDARD
TZOFFSETFROM:-0400
TZOFFSETTO:-0500
TZNAME:EST
DTSTART:20251102T060000
END:STANDARD
END:VTIMEZONE
BEGIN:VEVENT
DTSTART;TZID=America/New_York:20241106T174500
DTEND;TZID=America/New_York:20241106T191500
DTSTAMP:20260424T203623
CREATED:20240521T171313Z
LAST-MODIFIED:20240521T171331Z
UID:10007967-1730915100-1730920500@murdockbaptistchurch.org
SUMMARY:AWANA Club
DESCRIPTION:AWANA is a discipleship program that helps build a Biblical foundation for preschoolers\, ages 3-5\, and children\, K-5th grade. AWANA stands for Approved Workman Are Not Ashamed. AWANA clubs are an exciting program for kids to learn about God’s love and His plan for our lives. Trained adults with clear background checks lead all of our clubs. A typical club night consists of reciting Bible verses\, age graded Bible study and game time.
URL:https://murdockbaptistchurch.org/event/awana-club-30/2024-11-06/
LOCATION:Student Building B\, 18375 Cochran Boulevard\, Port Charlotte\, Florida\, 33948\, United States
CATEGORIES:Children's Ministry,Preschool Ministry
ATTACH;FMTTYPE=image/webp:https://murdockbaptistchurch.org/wp-content/uploads/2022/11/d6ed55_0e6f115b0f814ee19d9aabf8aec7d401_mv2_d_3129_1281_s_2.webp
END:VEVENT
BEGIN:VEVENT
DTSTART;TZID=America/New_York:20241113T174500
DTEND;TZID=America/New_York:20241113T191500
DTSTAMP:20260424T203623
CREATED:20240521T171313Z
LAST-MODIFIED:20240521T171331Z
UID:10007968-1731519900-1731525300@murdockbaptistchurch.org
SUMMARY:AWANA Club
DESCRIPTION:AWANA is a discipleship program that helps build a Biblical foundation for preschoolers\, ages 3-5\, and children\, K-5th grade. AWANA stands for Approved Workman Are Not Ashamed. AWANA clubs are an exciting program for kids to learn about God’s love and His plan for our lives. Trained adults with clear background checks lead all of our clubs. A typical club night consists of reciting Bible verses\, age graded Bible study and game time.
URL:https://murdockbaptistchurch.org/event/awana-club-30/2024-11-13/
LOCATION:Student Building B\, 18375 Cochran Boulevard\, Port Charlotte\, Florida\, 33948\, United States
CATEGORIES:Children's Ministry,Preschool Ministry
ATTACH;FMTTYPE=image/webp:https://murdockbaptistchurch.org/wp-content/uploads/2022/11/d6ed55_0e6f115b0f814ee19d9aabf8aec7d401_mv2_d_3129_1281_s_2.webp
END:VEVENT
BEGIN:VEVENT
DTSTART;TZID=America/New_York:20241120T174500
DTEND;TZID=America/New_York:20241120T191500
DTSTAMP:20260424T203623
CREATED:20240521T171313Z
LAST-MODIFIED:20240521T171331Z
UID:10007969-1732124700-1732130100@murdockbaptistchurch.org
SUMMARY:AWANA Club
DESCRIPTION:AWANA is a discipleship program that helps build a Biblical foundation for preschoolers\, ages 3-5\, and children\, K-5th grade. AWANA stands for Approved Workman Are Not Ashamed. AWANA clubs are an exciting program for kids to learn about God’s love and His plan for our lives. Trained adults with clear background checks lead all of our clubs. A typical club night consists of reciting Bible verses\, age graded Bible study and game time.
URL:https://murdockbaptistchurch.org/event/awana-club-30/2024-11-20/
LOCATION:Student Building B\, 18375 Cochran Boulevard\, Port Charlotte\, Florida\, 33948\, United States
CATEGORIES:Children's Ministry,Preschool Ministry
ATTACH;FMTTYPE=image/webp:https://murdockbaptistchurch.org/wp-content/uploads/2022/11/d6ed55_0e6f115b0f814ee19d9aabf8aec7d401_mv2_d_3129_1281_s_2.webp
END:VEVENT
BEGIN:VEVENT
DTSTART;TZID=America/New_York:20241127T174500
DTEND;TZID=America/New_York:20241127T191500
DTSTAMP:20260424T203623
CREATED:20240521T171313Z
LAST-MODIFIED:20240521T171331Z
UID:10007970-1732729500-1732734900@murdockbaptistchurch.org
SUMMARY:AWANA Club
DESCRIPTION:AWANA is a discipleship program that helps build a Biblical foundation for preschoolers\, ages 3-5\, and children\, K-5th grade. AWANA stands for Approved Workman Are Not Ashamed. AWANA clubs are an exciting program for kids to learn about God’s love and His plan for our lives. Trained adults with clear background checks lead all of our clubs. A typical club night consists of reciting Bible verses\, age graded Bible study and game time.
URL:https://murdockbaptistchurch.org/event/awana-club-30/2024-11-27/
LOCATION:Student Building B\, 18375 Cochran Boulevard\, Port Charlotte\, Florida\, 33948\, United States
CATEGORIES:Children's Ministry,Preschool Ministry
ATTACH;FMTTYPE=image/webp:https://murdockbaptistchurch.org/wp-content/uploads/2022/11/d6ed55_0e6f115b0f814ee19d9aabf8aec7d401_mv2_d_3129_1281_s_2.webp
END:VEVENT
END:VCALENDAR