BEGIN:VCALENDAR
VERSION:2.0
PRODID:-//Murdock Baptist Church - ECPv6.15.20//NONSGML v1.0//EN
CALSCALE:GREGORIAN
METHOD:PUBLISH
X-WR-CALNAME:Murdock Baptist Church
X-ORIGINAL-URL:https://murdockbaptistchurch.org
X-WR-CALDESC:Events for Murdock Baptist Church
REFRESH-INTERVAL;VALUE=DURATION:PT1H
X-Robots-Tag:noindex
X-PUBLISHED-TTL:PT1H
BEGIN:VTIMEZONE
TZID:America/New_York
BEGIN:DAYLIGHT
TZOFFSETFROM:-0500
TZOFFSETTO:-0400
TZNAME:EDT
DTSTART:20230312T070000
END:DAYLIGHT
BEGIN:STANDARD
TZOFFSETFROM:-0400
TZOFFSETTO:-0500
TZNAME:EST
DTSTART:20231105T060000
END:STANDARD
BEGIN:DAYLIGHT
TZOFFSETFROM:-0500
TZOFFSETTO:-0400
TZNAME:EDT
DTSTART:20240310T070000
END:DAYLIGHT
BEGIN:STANDARD
TZOFFSETFROM:-0400
TZOFFSETTO:-0500
TZNAME:EST
DTSTART:20241103T060000
END:STANDARD
BEGIN:DAYLIGHT
TZOFFSETFROM:-0500
TZOFFSETTO:-0400
TZNAME:EDT
DTSTART:20250309T070000
END:DAYLIGHT
BEGIN:STANDARD
TZOFFSETFROM:-0400
TZOFFSETTO:-0500
TZNAME:EST
DTSTART:20251102T060000
END:STANDARD
END:VTIMEZONE
BEGIN:VEVENT
DTSTART;TZID=America/New_York:20240501T174500
DTEND;TZID=America/New_York:20240501T191500
DTSTAMP:20260425T063228
CREATED:20230522T211256Z
LAST-MODIFIED:20231228T053454Z
UID:10007512-1714585500-1714590900@murdockbaptistchurch.org
SUMMARY:AWANA Club
DESCRIPTION:AWANA is a discipleship program that helps build a Biblical foundation for preschoolers\, ages 3-5\, and children\, K-5th grade. AWANA stands for Approved Workman Are Not Ashamed. AWANA clubs are an exciting program for kids to learn about God’s love and His plan for our lives. Trained adults with clear background checks lead all of our clubs. A typical club night consists of reciting Bible verses\, age graded Bible study and game time.
URL:https://murdockbaptistchurch.org/event/awana-club-3/2024-05-01/
LOCATION:Student Building B\, 18375 Cochran Boulevard\, Port Charlotte\, Florida\, 33948\, United States
CATEGORIES:Children's Ministry,Preschool Ministry
ATTACH;FMTTYPE=image/webp:https://murdockbaptistchurch.org/wp-content/uploads/2022/11/d6ed55_0e6f115b0f814ee19d9aabf8aec7d401_mv2_d_3129_1281_s_2.webp
END:VEVENT
BEGIN:VEVENT
DTSTART;TZID=America/New_York:20240507T183000
DTEND;TZID=America/New_York:20240507T200000
DTSTAMP:20260425T063228
CREATED:20240417T161801Z
LAST-MODIFIED:20240417T162036Z
UID:10007817-1715106600-1715112000@murdockbaptistchurch.org
SUMMARY:Imagine School's Spring Concert
DESCRIPTION:Mark your calendars and plan to join us as we partner with our local schools. This is not only an opportunity to be entertained by these talented students\, it is also an opportunity to minister to them and their families. Don’t forget to bring a friend\, neighbor or co-worker! \n\n\n\nFree and open to the public.
URL:https://murdockbaptistchurch.org/event/imagine-schools-spring-concert/
LOCATION:Main Stage\, Worship Center\, 18375 Cochran Boulevard\, Port Charlote\, Florida\, 33948
CATEGORIES:Children's Ministry,Special Events,Student Ministry
ATTACH;FMTTYPE=image/jpeg:https://murdockbaptistchurch.org/wp-content/uploads/2024/04/imagine.jpg
END:VEVENT
BEGIN:VEVENT
DTSTART;TZID=America/New_York:20240508T174500
DTEND;TZID=America/New_York:20240508T191500
DTSTAMP:20260425T063228
CREATED:20230522T211256Z
LAST-MODIFIED:20231228T053454Z
UID:10007513-1715190300-1715195700@murdockbaptistchurch.org
SUMMARY:AWANA Club
DESCRIPTION:AWANA is a discipleship program that helps build a Biblical foundation for preschoolers\, ages 3-5\, and children\, K-5th grade. AWANA stands for Approved Workman Are Not Ashamed. AWANA clubs are an exciting program for kids to learn about God’s love and His plan for our lives. Trained adults with clear background checks lead all of our clubs. A typical club night consists of reciting Bible verses\, age graded Bible study and game time.
URL:https://murdockbaptistchurch.org/event/awana-club-3/2024-05-08/
LOCATION:Student Building B\, 18375 Cochran Boulevard\, Port Charlotte\, Florida\, 33948\, United States
CATEGORIES:Children's Ministry,Preschool Ministry
ATTACH;FMTTYPE=image/webp:https://murdockbaptistchurch.org/wp-content/uploads/2022/11/d6ed55_0e6f115b0f814ee19d9aabf8aec7d401_mv2_d_3129_1281_s_2.webp
END:VEVENT
BEGIN:VEVENT
DTSTART;TZID=America/New_York:20240515T174500
DTEND;TZID=America/New_York:20240515T191500
DTSTAMP:20260425T063228
CREATED:20230522T211256Z
LAST-MODIFIED:20231228T053454Z
UID:10007514-1715795100-1715800500@murdockbaptistchurch.org
SUMMARY:AWANA Club
DESCRIPTION:AWANA is a discipleship program that helps build a Biblical foundation for preschoolers\, ages 3-5\, and children\, K-5th grade. AWANA stands for Approved Workman Are Not Ashamed. AWANA clubs are an exciting program for kids to learn about God’s love and His plan for our lives. Trained adults with clear background checks lead all of our clubs. A typical club night consists of reciting Bible verses\, age graded Bible study and game time.
URL:https://murdockbaptistchurch.org/event/awana-club-3/2024-05-15/
LOCATION:Student Building B\, 18375 Cochran Boulevard\, Port Charlotte\, Florida\, 33948\, United States
CATEGORIES:Children's Ministry,Preschool Ministry
ATTACH;FMTTYPE=image/webp:https://murdockbaptistchurch.org/wp-content/uploads/2022/11/d6ed55_0e6f115b0f814ee19d9aabf8aec7d401_mv2_d_3129_1281_s_2.webp
END:VEVENT
END:VCALENDAR