BEGIN:VCALENDAR
VERSION:2.0
PRODID:-//Murdock Baptist Church - ECPv6.15.20//NONSGML v1.0//EN
CALSCALE:GREGORIAN
METHOD:PUBLISH
X-WR-CALNAME:Murdock Baptist Church
X-ORIGINAL-URL:https://murdockbaptistchurch.org
X-WR-CALDESC:Events for Murdock Baptist Church
REFRESH-INTERVAL;VALUE=DURATION:PT1H
X-Robots-Tag:noindex
X-PUBLISHED-TTL:PT1H
BEGIN:VTIMEZONE
TZID:America/New_York
BEGIN:DAYLIGHT
TZOFFSETFROM:-0500
TZOFFSETTO:-0400
TZNAME:EDT
DTSTART:20220313T070000
END:DAYLIGHT
BEGIN:STANDARD
TZOFFSETFROM:-0400
TZOFFSETTO:-0500
TZNAME:EST
DTSTART:20221106T060000
END:STANDARD
BEGIN:DAYLIGHT
TZOFFSETFROM:-0500
TZOFFSETTO:-0400
TZNAME:EDT
DTSTART:20230312T070000
END:DAYLIGHT
BEGIN:STANDARD
TZOFFSETFROM:-0400
TZOFFSETTO:-0500
TZNAME:EST
DTSTART:20231105T060000
END:STANDARD
BEGIN:DAYLIGHT
TZOFFSETFROM:-0500
TZOFFSETTO:-0400
TZNAME:EDT
DTSTART:20240310T070000
END:DAYLIGHT
BEGIN:STANDARD
TZOFFSETFROM:-0400
TZOFFSETTO:-0500
TZNAME:EST
DTSTART:20241103T060000
END:STANDARD
END:VTIMEZONE
BEGIN:VEVENT
DTSTART;TZID=America/New_York:20231101T174500
DTEND;TZID=America/New_York:20231101T191500
DTSTAMP:20260425T163136
CREATED:20230522T211256Z
LAST-MODIFIED:20231228T053454Z
UID:10005577-1698860700-1698866100@murdockbaptistchurch.org
SUMMARY:AWANA Club
DESCRIPTION:AWANA is a discipleship program that helps build a Biblical foundation for preschoolers\, ages 3-5\, and children\, K-5th grade. AWANA stands for Approved Workman Are Not Ashamed. AWANA clubs are an exciting program for kids to learn about God’s love and His plan for our lives. Trained adults with clear background checks lead all of our clubs. A typical club night consists of reciting Bible verses\, age graded Bible study and game time.
URL:https://murdockbaptistchurch.org/event/awana-club-3/2023-11-01/
LOCATION:Student Building B\, 18375 Cochran Boulevard\, Port Charlotte\, Florida\, 33948\, United States
CATEGORIES:Children's Ministry,Preschool Ministry
ATTACH;FMTTYPE=image/webp:https://murdockbaptistchurch.org/wp-content/uploads/2022/11/d6ed55_0e6f115b0f814ee19d9aabf8aec7d401_mv2_d_3129_1281_s_2.webp
END:VEVENT
BEGIN:VEVENT
DTSTART;TZID=America/New_York:20231103T180000
DTEND;TZID=America/New_York:20231103T200000
DTSTAMP:20260425T163136
CREATED:20231030T143937Z
LAST-MODIFIED:20231030T144552Z
UID:10006593-1699034400-1699041600@murdockbaptistchurch.org
SUMMARY:Free Movie Night
DESCRIPTION:The Pilgrim’s Progress\n\n\n\nYou will love this 113 minute epic story of Pilgrim who escapes from the City of Destruction in his quest for truth in the Celestial City. The movie is based on the book which is one of the top two best settling fictional books of all time! \n\nIt will be show in the Student Building (B) with free popcorn.  Invite a friend or a family member!
URL:https://murdockbaptistchurch.org/event/free-movie-night/
LOCATION:Student Building B\, 18375 Cochran Boulevard\, Port Charlotte\, Florida\, 33948\, United States
CATEGORIES:Children's Ministry,Preschool Ministry,Special Events
ATTACH;FMTTYPE=image/jpeg:https://murdockbaptistchurch.org/wp-content/uploads/2023/10/Pilgrims-Progress.jpg
END:VEVENT
BEGIN:VEVENT
DTSTART;TZID=America/New_York:20231108T174500
DTEND;TZID=America/New_York:20231108T191500
DTSTAMP:20260425T163136
CREATED:20230522T211256Z
LAST-MODIFIED:20231228T053454Z
UID:10005578-1699465500-1699470900@murdockbaptistchurch.org
SUMMARY:AWANA Club
DESCRIPTION:AWANA is a discipleship program that helps build a Biblical foundation for preschoolers\, ages 3-5\, and children\, K-5th grade. AWANA stands for Approved Workman Are Not Ashamed. AWANA clubs are an exciting program for kids to learn about God’s love and His plan for our lives. Trained adults with clear background checks lead all of our clubs. A typical club night consists of reciting Bible verses\, age graded Bible study and game time.
URL:https://murdockbaptistchurch.org/event/awana-club-3/2023-11-08/
LOCATION:Student Building B\, 18375 Cochran Boulevard\, Port Charlotte\, Florida\, 33948\, United States
CATEGORIES:Children's Ministry,Preschool Ministry
ATTACH;FMTTYPE=image/webp:https://murdockbaptistchurch.org/wp-content/uploads/2022/11/d6ed55_0e6f115b0f814ee19d9aabf8aec7d401_mv2_d_3129_1281_s_2.webp
END:VEVENT
BEGIN:VEVENT
DTSTART;TZID=America/New_York:20231115T174500
DTEND;TZID=America/New_York:20231115T191500
DTSTAMP:20260425T163136
CREATED:20230522T211256Z
LAST-MODIFIED:20231228T053454Z
UID:10005579-1700070300-1700075700@murdockbaptistchurch.org
SUMMARY:AWANA Club
DESCRIPTION:AWANA is a discipleship program that helps build a Biblical foundation for preschoolers\, ages 3-5\, and children\, K-5th grade. AWANA stands for Approved Workman Are Not Ashamed. AWANA clubs are an exciting program for kids to learn about God’s love and His plan for our lives. Trained adults with clear background checks lead all of our clubs. A typical club night consists of reciting Bible verses\, age graded Bible study and game time.
URL:https://murdockbaptistchurch.org/event/awana-club-3/2023-11-15/
LOCATION:Student Building B\, 18375 Cochran Boulevard\, Port Charlotte\, Florida\, 33948\, United States
CATEGORIES:Children's Ministry,Preschool Ministry
ATTACH;FMTTYPE=image/webp:https://murdockbaptistchurch.org/wp-content/uploads/2022/11/d6ed55_0e6f115b0f814ee19d9aabf8aec7d401_mv2_d_3129_1281_s_2.webp
END:VEVENT
BEGIN:VEVENT
DTSTART;TZID=America/New_York:20231129T174500
DTEND;TZID=America/New_York:20231129T191500
DTSTAMP:20260425T163136
CREATED:20230522T211256Z
LAST-MODIFIED:20231228T053454Z
UID:10005581-1701279900-1701285300@murdockbaptistchurch.org
SUMMARY:AWANA Club
DESCRIPTION:AWANA is a discipleship program that helps build a Biblical foundation for preschoolers\, ages 3-5\, and children\, K-5th grade. AWANA stands for Approved Workman Are Not Ashamed. AWANA clubs are an exciting program for kids to learn about God’s love and His plan for our lives. Trained adults with clear background checks lead all of our clubs. A typical club night consists of reciting Bible verses\, age graded Bible study and game time.
URL:https://murdockbaptistchurch.org/event/awana-club-3/2023-11-29/
LOCATION:Student Building B\, 18375 Cochran Boulevard\, Port Charlotte\, Florida\, 33948\, United States
CATEGORIES:Children's Ministry,Preschool Ministry
ATTACH;FMTTYPE=image/webp:https://murdockbaptistchurch.org/wp-content/uploads/2022/11/d6ed55_0e6f115b0f814ee19d9aabf8aec7d401_mv2_d_3129_1281_s_2.webp
END:VEVENT
END:VCALENDAR