BEGIN:VCALENDAR
VERSION:2.0
PRODID:-//Murdock Baptist Church - ECPv6.15.20//NONSGML v1.0//EN
CALSCALE:GREGORIAN
METHOD:PUBLISH
X-ORIGINAL-URL:https://murdockbaptistchurch.org
X-WR-CALDESC:Events for Murdock Baptist Church
REFRESH-INTERVAL;VALUE=DURATION:PT1H
X-Robots-Tag:noindex
X-PUBLISHED-TTL:PT1H
BEGIN:VTIMEZONE
TZID:America/New_York
BEGIN:DAYLIGHT
TZOFFSETFROM:-0500
TZOFFSETTO:-0400
TZNAME:EDT
DTSTART:20220313T070000
END:DAYLIGHT
BEGIN:STANDARD
TZOFFSETFROM:-0400
TZOFFSETTO:-0500
TZNAME:EST
DTSTART:20221106T060000
END:STANDARD
BEGIN:DAYLIGHT
TZOFFSETFROM:-0500
TZOFFSETTO:-0400
TZNAME:EDT
DTSTART:20230312T070000
END:DAYLIGHT
BEGIN:STANDARD
TZOFFSETFROM:-0400
TZOFFSETTO:-0500
TZNAME:EST
DTSTART:20231105T060000
END:STANDARD
BEGIN:DAYLIGHT
TZOFFSETFROM:-0500
TZOFFSETTO:-0400
TZNAME:EDT
DTSTART:20240310T070000
END:DAYLIGHT
BEGIN:STANDARD
TZOFFSETFROM:-0400
TZOFFSETTO:-0500
TZNAME:EST
DTSTART:20241103T060000
END:STANDARD
END:VTIMEZONE
BEGIN:VEVENT
DTSTART;TZID=America/New_York:20231004T174500
DTEND;TZID=America/New_York:20231004T191500
DTSTAMP:20260425T181114
CREATED:20230522T211256Z
LAST-MODIFIED:20231228T053454Z
UID:10005573-1696441500-1696446900@murdockbaptistchurch.org
SUMMARY:AWANA Club
DESCRIPTION:AWANA is a discipleship program that helps build a Biblical foundation for preschoolers\, ages 3-5\, and children\, K-5th grade. AWANA stands for Approved Workman Are Not Ashamed. AWANA clubs are an exciting program for kids to learn about God’s love and His plan for our lives. Trained adults with clear background checks lead all of our clubs. A typical club night consists of reciting Bible verses\, age graded Bible study and game time.
URL:https://murdockbaptistchurch.org/event/awana-club-3/2023-10-04/
LOCATION:Student Building B\, 18375 Cochran Boulevard\, Port Charlotte\, Florida\, 33948\, United States
CATEGORIES:Children's Ministry,Preschool Ministry
ATTACH;FMTTYPE=image/webp:https://murdockbaptistchurch.org/wp-content/uploads/2022/11/d6ed55_0e6f115b0f814ee19d9aabf8aec7d401_mv2_d_3129_1281_s_2.webp
END:VEVENT
BEGIN:VEVENT
DTSTART;TZID=America/New_York:20231011T174500
DTEND;TZID=America/New_York:20231011T191500
DTSTAMP:20260425T181114
CREATED:20230522T211256Z
LAST-MODIFIED:20231228T053454Z
UID:10005574-1697046300-1697051700@murdockbaptistchurch.org
SUMMARY:AWANA Club
DESCRIPTION:AWANA is a discipleship program that helps build a Biblical foundation for preschoolers\, ages 3-5\, and children\, K-5th grade. AWANA stands for Approved Workman Are Not Ashamed. AWANA clubs are an exciting program for kids to learn about God’s love and His plan for our lives. Trained adults with clear background checks lead all of our clubs. A typical club night consists of reciting Bible verses\, age graded Bible study and game time.
URL:https://murdockbaptistchurch.org/event/awana-club-3/2023-10-11/
LOCATION:Student Building B\, 18375 Cochran Boulevard\, Port Charlotte\, Florida\, 33948\, United States
CATEGORIES:Children's Ministry,Preschool Ministry
ATTACH;FMTTYPE=image/webp:https://murdockbaptistchurch.org/wp-content/uploads/2022/11/d6ed55_0e6f115b0f814ee19d9aabf8aec7d401_mv2_d_3129_1281_s_2.webp
END:VEVENT
BEGIN:VEVENT
DTSTART;TZID=America/New_York:20231018T174500
DTEND;TZID=America/New_York:20231018T191500
DTSTAMP:20260425T181114
CREATED:20230522T211256Z
LAST-MODIFIED:20231228T053454Z
UID:10005575-1697651100-1697656500@murdockbaptistchurch.org
SUMMARY:AWANA Club
DESCRIPTION:AWANA is a discipleship program that helps build a Biblical foundation for preschoolers\, ages 3-5\, and children\, K-5th grade. AWANA stands for Approved Workman Are Not Ashamed. AWANA clubs are an exciting program for kids to learn about God’s love and His plan for our lives. Trained adults with clear background checks lead all of our clubs. A typical club night consists of reciting Bible verses\, age graded Bible study and game time.
URL:https://murdockbaptistchurch.org/event/awana-club-3/2023-10-18/
LOCATION:Student Building B\, 18375 Cochran Boulevard\, Port Charlotte\, Florida\, 33948\, United States
CATEGORIES:Children's Ministry,Preschool Ministry
ATTACH;FMTTYPE=image/webp:https://murdockbaptistchurch.org/wp-content/uploads/2022/11/d6ed55_0e6f115b0f814ee19d9aabf8aec7d401_mv2_d_3129_1281_s_2.webp
END:VEVENT
BEGIN:VEVENT
DTSTART;TZID=America/New_York:20231025T174500
DTEND;TZID=America/New_York:20231025T191500
DTSTAMP:20260425T181114
CREATED:20230522T211256Z
LAST-MODIFIED:20231228T053454Z
UID:10005576-1698255900-1698261300@murdockbaptistchurch.org
SUMMARY:AWANA Club
DESCRIPTION:AWANA is a discipleship program that helps build a Biblical foundation for preschoolers\, ages 3-5\, and children\, K-5th grade. AWANA stands for Approved Workman Are Not Ashamed. AWANA clubs are an exciting program for kids to learn about God’s love and His plan for our lives. Trained adults with clear background checks lead all of our clubs. A typical club night consists of reciting Bible verses\, age graded Bible study and game time.
URL:https://murdockbaptistchurch.org/event/awana-club-3/2023-10-25/
LOCATION:Student Building B\, 18375 Cochran Boulevard\, Port Charlotte\, Florida\, 33948\, United States
CATEGORIES:Children's Ministry,Preschool Ministry
ATTACH;FMTTYPE=image/webp:https://murdockbaptistchurch.org/wp-content/uploads/2022/11/d6ed55_0e6f115b0f814ee19d9aabf8aec7d401_mv2_d_3129_1281_s_2.webp
END:VEVENT
BEGIN:VEVENT
DTSTART;TZID=America/New_York:20231028T100000
DTEND;TZID=America/New_York:20231028T130000
DTSTAMP:20260425T181114
CREATED:20230917T013541Z
LAST-MODIFIED:20230918T125546Z
UID:10006366-1698487200-1698498000@murdockbaptistchurch.org
SUMMARY:Murdock Baptist Church 2023 Fall Festival
DESCRIPTION:Murdock Baptist Church will once again be engaging with our community through our Fall Festival. Open to the Public. \n\nThere will be Trunk or Treat sweets\, hot dogs\, popcorn\, cotton candy\, inflatable slides and games for the kids. A cake walk\, photo booth\, an escape room and more! \n\n\nCome out and enjoy the fun.  Feel free to let everyone know. \n\n\nChurch Members: Please consider how you can use your gifts to welcome and serve guests and show them the love of Christ. Please fill out a commitment card found on the tables in the Fellowship Hall and drop it in the offering box at the information desk.
URL:https://murdockbaptistchurch.org/event/murdock-baptist-church-2023-fall-festival/
CATEGORIES:Children's Ministry,Preschool Ministry,Special Events,Student Ministry
ATTACH;FMTTYPE=image/jpeg:https://murdockbaptistchurch.org/wp-content/uploads/2022/11/252404012_10159200014541140_4997364067708354608_n-e1684471215608.jpg
END:VEVENT
END:VCALENDAR