BEGIN:VCALENDAR
VERSION:2.0
PRODID:-//Murdock Baptist Church - ECPv6.15.20//NONSGML v1.0//EN
CALSCALE:GREGORIAN
METHOD:PUBLISH
X-ORIGINAL-URL:https://murdockbaptistchurch.org
X-WR-CALDESC:Events for Murdock Baptist Church
REFRESH-INTERVAL;VALUE=DURATION:PT1H
X-Robots-Tag:noindex
X-PUBLISHED-TTL:PT1H
BEGIN:VTIMEZONE
TZID:America/New_York
BEGIN:DAYLIGHT
TZOFFSETFROM:-0500
TZOFFSETTO:-0400
TZNAME:EDT
DTSTART:20250309T070000
END:DAYLIGHT
BEGIN:STANDARD
TZOFFSETFROM:-0400
TZOFFSETTO:-0500
TZNAME:EST
DTSTART:20251102T060000
END:STANDARD
BEGIN:DAYLIGHT
TZOFFSETFROM:-0500
TZOFFSETTO:-0400
TZNAME:EDT
DTSTART:20260308T070000
END:DAYLIGHT
BEGIN:STANDARD
TZOFFSETFROM:-0400
TZOFFSETTO:-0500
TZNAME:EST
DTSTART:20261101T060000
END:STANDARD
BEGIN:DAYLIGHT
TZOFFSETFROM:-0500
TZOFFSETTO:-0400
TZNAME:EDT
DTSTART:20270314T070000
END:DAYLIGHT
BEGIN:STANDARD
TZOFFSETFROM:-0400
TZOFFSETTO:-0500
TZNAME:EST
DTSTART:20271107T060000
END:STANDARD
END:VTIMEZONE
BEGIN:VEVENT
DTSTART;TZID=America/New_York:20260601T080000
DTEND;TZID=America/New_York:20260601T090000
DTSTAMP:20260423T163425
CREATED:20250908T190900Z
LAST-MODIFIED:20250925T133728Z
UID:10008953-1780300800-1780304400@murdockbaptistchurch.org
SUMMARY:Men's Ministry: Barnabas Sermon Debrief & Fellowship
DESCRIPTION:
URL:https://murdockbaptistchurch.org/event/mens-ministry-barnabas-sermon-debrief-fellowship/2026-06-01/
LOCATION:Main Building A\, Fellowship Hall\, 18375 Cochran Boulevard\, Port Charlotte\, Florida\, 33948\, United States
CATEGORIES:Barnabas Men’s Group,Ministries,Special Events
ATTACH;FMTTYPE=image/jpeg:https://murdockbaptistchurch.org/wp-content/uploads/2023/03/large-mens-ministry.jpg
END:VEVENT
BEGIN:VEVENT
DTSTART;TZID=America/New_York:20260602T180000
DTEND;TZID=America/New_York:20260602T190000
DTSTAMP:20260423T163425
CREATED:20250925T134401Z
LAST-MODIFIED:20251014T141510Z
UID:10009095-1780423200-1780426800@murdockbaptistchurch.org
SUMMARY:Men's Tuesday Bible Study
DESCRIPTION:
URL:https://murdockbaptistchurch.org/event/mens-tuesday-bible-study-2/2026-06-02/
LOCATION:Main Building A\, Fellowship Hall\, 18375 Cochran Boulevard\, Port Charlotte\, Florida\, 33948\, United States
CATEGORIES:Barnabas Men’s Group,Men’s Bible Study,Ministries,Special Events
ATTACH;FMTTYPE=image/jpeg:https://murdockbaptistchurch.org/wp-content/uploads/2023/01/mens-bible-study-murdock-baptist-church.jpg
END:VEVENT
BEGIN:VEVENT
DTSTART;TZID=America/New_York:20260608T080000
DTEND;TZID=America/New_York:20260608T090000
DTSTAMP:20260423T163425
CREATED:20250908T190900Z
LAST-MODIFIED:20250925T133728Z
UID:10008954-1780905600-1780909200@murdockbaptistchurch.org
SUMMARY:Men's Ministry: Barnabas Sermon Debrief & Fellowship
DESCRIPTION:
URL:https://murdockbaptistchurch.org/event/mens-ministry-barnabas-sermon-debrief-fellowship/2026-06-08/
LOCATION:Main Building A\, Fellowship Hall\, 18375 Cochran Boulevard\, Port Charlotte\, Florida\, 33948\, United States
CATEGORIES:Barnabas Men’s Group,Ministries,Special Events
ATTACH;FMTTYPE=image/jpeg:https://murdockbaptistchurch.org/wp-content/uploads/2023/03/large-mens-ministry.jpg
END:VEVENT
BEGIN:VEVENT
DTSTART;TZID=America/New_York:20260609T180000
DTEND;TZID=America/New_York:20260609T190000
DTSTAMP:20260423T163425
CREATED:20250925T134401Z
LAST-MODIFIED:20251014T141510Z
UID:10009096-1781028000-1781031600@murdockbaptistchurch.org
SUMMARY:Men's Tuesday Bible Study
DESCRIPTION:
URL:https://murdockbaptistchurch.org/event/mens-tuesday-bible-study-2/2026-06-09/
LOCATION:Main Building A\, Fellowship Hall\, 18375 Cochran Boulevard\, Port Charlotte\, Florida\, 33948\, United States
CATEGORIES:Barnabas Men’s Group,Men’s Bible Study,Ministries,Special Events
ATTACH;FMTTYPE=image/jpeg:https://murdockbaptistchurch.org/wp-content/uploads/2023/01/mens-bible-study-murdock-baptist-church.jpg
END:VEVENT
BEGIN:VEVENT
DTSTART;TZID=America/New_York:20260615T080000
DTEND;TZID=America/New_York:20260615T090000
DTSTAMP:20260423T163425
CREATED:20250908T190900Z
LAST-MODIFIED:20250925T133728Z
UID:10008955-1781510400-1781514000@murdockbaptistchurch.org
SUMMARY:Men's Ministry: Barnabas Sermon Debrief & Fellowship
DESCRIPTION:
URL:https://murdockbaptistchurch.org/event/mens-ministry-barnabas-sermon-debrief-fellowship/2026-06-15/
LOCATION:Main Building A\, Fellowship Hall\, 18375 Cochran Boulevard\, Port Charlotte\, Florida\, 33948\, United States
CATEGORIES:Barnabas Men’s Group,Ministries,Special Events
ATTACH;FMTTYPE=image/jpeg:https://murdockbaptistchurch.org/wp-content/uploads/2023/03/large-mens-ministry.jpg
END:VEVENT
BEGIN:VEVENT
DTSTART;TZID=America/New_York:20260616T180000
DTEND;TZID=America/New_York:20260616T190000
DTSTAMP:20260423T163425
CREATED:20250925T134401Z
LAST-MODIFIED:20251014T141510Z
UID:10009097-1781632800-1781636400@murdockbaptistchurch.org
SUMMARY:Men's Tuesday Bible Study
DESCRIPTION:
URL:https://murdockbaptistchurch.org/event/mens-tuesday-bible-study-2/2026-06-16/
LOCATION:Main Building A\, Fellowship Hall\, 18375 Cochran Boulevard\, Port Charlotte\, Florida\, 33948\, United States
CATEGORIES:Barnabas Men’s Group,Men’s Bible Study,Ministries,Special Events
ATTACH;FMTTYPE=image/jpeg:https://murdockbaptistchurch.org/wp-content/uploads/2023/01/mens-bible-study-murdock-baptist-church.jpg
END:VEVENT
BEGIN:VEVENT
DTSTART;TZID=America/New_York:20260622T080000
DTEND;TZID=America/New_York:20260622T090000
DTSTAMP:20260423T163425
CREATED:20250908T190900Z
LAST-MODIFIED:20250925T133728Z
UID:10008956-1782115200-1782118800@murdockbaptistchurch.org
SUMMARY:Men's Ministry: Barnabas Sermon Debrief & Fellowship
DESCRIPTION:
URL:https://murdockbaptistchurch.org/event/mens-ministry-barnabas-sermon-debrief-fellowship/2026-06-22/
LOCATION:Main Building A\, Fellowship Hall\, 18375 Cochran Boulevard\, Port Charlotte\, Florida\, 33948\, United States
CATEGORIES:Barnabas Men’s Group,Ministries,Special Events
ATTACH;FMTTYPE=image/jpeg:https://murdockbaptistchurch.org/wp-content/uploads/2023/03/large-mens-ministry.jpg
END:VEVENT
BEGIN:VEVENT
DTSTART;TZID=America/New_York:20260623T180000
DTEND;TZID=America/New_York:20260623T190000
DTSTAMP:20260423T163425
CREATED:20250925T134401Z
LAST-MODIFIED:20251014T141510Z
UID:10009098-1782237600-1782241200@murdockbaptistchurch.org
SUMMARY:Men's Tuesday Bible Study
DESCRIPTION:
URL:https://murdockbaptistchurch.org/event/mens-tuesday-bible-study-2/2026-06-23/
LOCATION:Main Building A\, Fellowship Hall\, 18375 Cochran Boulevard\, Port Charlotte\, Florida\, 33948\, United States
CATEGORIES:Barnabas Men’s Group,Men’s Bible Study,Ministries,Special Events
ATTACH;FMTTYPE=image/jpeg:https://murdockbaptistchurch.org/wp-content/uploads/2023/01/mens-bible-study-murdock-baptist-church.jpg
END:VEVENT
BEGIN:VEVENT
DTSTART;TZID=America/New_York:20260627T080000
DTEND;TZID=America/New_York:20260627T100000
DTSTAMP:20260423T163425
CREATED:20260302T183453Z
LAST-MODIFIED:20260302T184524Z
UID:10009610-1782547200-1782554400@murdockbaptistchurch.org
SUMMARY:Men's Prayer & Praise
DESCRIPTION:A time dedicated to prayer\, worship & fellowship!
URL:https://murdockbaptistchurch.org/event/mens-prayer-praise-2/2026-06-27/
LOCATION:Main Building A\, Fellowship Hall\, 18375 Cochran Boulevard\, Port Charlotte\, Florida\, 33948\, United States
CATEGORIES:Barnabas Men’s Group,Men's Ministry,Ministries,Special Events
END:VEVENT
BEGIN:VEVENT
DTSTART;TZID=America/New_York:20260629T080000
DTEND;TZID=America/New_York:20260629T090000
DTSTAMP:20260423T163425
CREATED:20250908T190900Z
LAST-MODIFIED:20250925T133728Z
UID:10008957-1782720000-1782723600@murdockbaptistchurch.org
SUMMARY:Men's Ministry: Barnabas Sermon Debrief & Fellowship
DESCRIPTION:
URL:https://murdockbaptistchurch.org/event/mens-ministry-barnabas-sermon-debrief-fellowship/2026-06-29/
LOCATION:Main Building A\, Fellowship Hall\, 18375 Cochran Boulevard\, Port Charlotte\, Florida\, 33948\, United States
CATEGORIES:Barnabas Men’s Group,Ministries,Special Events
ATTACH;FMTTYPE=image/jpeg:https://murdockbaptistchurch.org/wp-content/uploads/2023/03/large-mens-ministry.jpg
END:VEVENT
BEGIN:VEVENT
DTSTART;TZID=America/New_York:20260630T180000
DTEND;TZID=America/New_York:20260630T190000
DTSTAMP:20260423T163425
CREATED:20250925T134401Z
LAST-MODIFIED:20251014T141510Z
UID:10009099-1782842400-1782846000@murdockbaptistchurch.org
SUMMARY:Men's Tuesday Bible Study
DESCRIPTION:
URL:https://murdockbaptistchurch.org/event/mens-tuesday-bible-study-2/2026-06-30/
LOCATION:Main Building A\, Fellowship Hall\, 18375 Cochran Boulevard\, Port Charlotte\, Florida\, 33948\, United States
CATEGORIES:Barnabas Men’s Group,Men’s Bible Study,Ministries,Special Events
ATTACH;FMTTYPE=image/jpeg:https://murdockbaptistchurch.org/wp-content/uploads/2023/01/mens-bible-study-murdock-baptist-church.jpg
END:VEVENT
END:VCALENDAR