BEGIN:VCALENDAR
VERSION:2.0
PRODID:-//Murdock Baptist Church - ECPv6.15.20//NONSGML v1.0//EN
CALSCALE:GREGORIAN
METHOD:PUBLISH
X-ORIGINAL-URL:https://murdockbaptistchurch.org
X-WR-CALDESC:Events for Murdock Baptist Church
REFRESH-INTERVAL;VALUE=DURATION:PT1H
X-Robots-Tag:noindex
X-PUBLISHED-TTL:PT1H
BEGIN:VTIMEZONE
TZID:America/New_York
BEGIN:DAYLIGHT
TZOFFSETFROM:-0500
TZOFFSETTO:-0400
TZNAME:EDT
DTSTART:20240310T070000
END:DAYLIGHT
BEGIN:STANDARD
TZOFFSETFROM:-0400
TZOFFSETTO:-0500
TZNAME:EST
DTSTART:20241103T060000
END:STANDARD
BEGIN:DAYLIGHT
TZOFFSETFROM:-0500
TZOFFSETTO:-0400
TZNAME:EDT
DTSTART:20250309T070000
END:DAYLIGHT
BEGIN:STANDARD
TZOFFSETFROM:-0400
TZOFFSETTO:-0500
TZNAME:EST
DTSTART:20251102T060000
END:STANDARD
BEGIN:DAYLIGHT
TZOFFSETFROM:-0500
TZOFFSETTO:-0400
TZNAME:EDT
DTSTART:20260308T070000
END:DAYLIGHT
BEGIN:STANDARD
TZOFFSETFROM:-0400
TZOFFSETTO:-0500
TZNAME:EST
DTSTART:20261101T060000
END:STANDARD
END:VTIMEZONE
BEGIN:VEVENT
DTSTART;TZID=America/New_York:20250505T080000
DTEND;TZID=America/New_York:20250505T090000
DTSTAMP:20260424T064941
CREATED:20231016T160555Z
LAST-MODIFIED:20240919T220716Z
UID:10008684-1746432000-1746435600@murdockbaptistchurch.org
SUMMARY:Barnabas Men's Group
DESCRIPTION:Join us for our Monday morning sermon debrief. \n\n\nWe look forward to seeing you there!
URL:https://murdockbaptistchurch.org/event/barnabas-mens-group-2/2025-05-05/
LOCATION:Fellowship Hall
CATEGORIES:Barnabas Men’s Group,Ministries
ATTACH;FMTTYPE=image/jpeg:https://murdockbaptistchurch.org/wp-content/uploads/2023/01/mens-bible.jpg
END:VEVENT
BEGIN:VEVENT
DTSTART;TZID=America/New_York:20250506T180000
DTEND;TZID=America/New_York:20250506T190000
DTSTAMP:20260424T064941
CREATED:20240923T132823Z
LAST-MODIFIED:20240923T132842Z
UID:10008728-1746554400-1746558000@murdockbaptistchurch.org
SUMMARY:Men's Tuesday Bible Study
DESCRIPTION:Men\, join us for bible study on Tuesday evenings.
URL:https://murdockbaptistchurch.org/event/mens-tuesday-bible-study/2025-05-06/
LOCATION:Building A\, Room 106-107
CATEGORIES:Barnabas Men’s Group,Bible Study - In-person,Ministries
ATTACH;FMTTYPE=image/jpeg:https://murdockbaptistchurch.org/wp-content/uploads/2022/12/mens-ministry-page.jpg
END:VEVENT
BEGIN:VEVENT
DTSTART;TZID=America/New_York:20250512T080000
DTEND;TZID=America/New_York:20250512T090000
DTSTAMP:20260424T064941
CREATED:20231016T160555Z
LAST-MODIFIED:20240919T220716Z
UID:10008685-1747036800-1747040400@murdockbaptistchurch.org
SUMMARY:Barnabas Men's Group
DESCRIPTION:Join us for our Monday morning sermon debrief. \n\n\nWe look forward to seeing you there!
URL:https://murdockbaptistchurch.org/event/barnabas-mens-group-2/2025-05-12/
LOCATION:Fellowship Hall
CATEGORIES:Barnabas Men’s Group,Ministries
ATTACH;FMTTYPE=image/jpeg:https://murdockbaptistchurch.org/wp-content/uploads/2023/01/mens-bible.jpg
END:VEVENT
BEGIN:VEVENT
DTSTART;TZID=America/New_York:20250513T180000
DTEND;TZID=America/New_York:20250513T190000
DTSTAMP:20260424T064941
CREATED:20240923T132823Z
LAST-MODIFIED:20240923T132842Z
UID:10008729-1747159200-1747162800@murdockbaptistchurch.org
SUMMARY:Men's Tuesday Bible Study
DESCRIPTION:Men\, join us for bible study on Tuesday evenings.
URL:https://murdockbaptistchurch.org/event/mens-tuesday-bible-study/2025-05-13/
LOCATION:Building A\, Room 106-107
CATEGORIES:Barnabas Men’s Group,Bible Study - In-person,Ministries
ATTACH;FMTTYPE=image/jpeg:https://murdockbaptistchurch.org/wp-content/uploads/2022/12/mens-ministry-page.jpg
END:VEVENT
BEGIN:VEVENT
DTSTART;TZID=America/New_York:20250519T080000
DTEND;TZID=America/New_York:20250519T090000
DTSTAMP:20260424T064941
CREATED:20231016T160555Z
LAST-MODIFIED:20240919T220716Z
UID:10008686-1747641600-1747645200@murdockbaptistchurch.org
SUMMARY:Barnabas Men's Group
DESCRIPTION:Join us for our Monday morning sermon debrief. \n\n\nWe look forward to seeing you there!
URL:https://murdockbaptistchurch.org/event/barnabas-mens-group-2/2025-05-19/
LOCATION:Fellowship Hall
CATEGORIES:Barnabas Men’s Group,Ministries
ATTACH;FMTTYPE=image/jpeg:https://murdockbaptistchurch.org/wp-content/uploads/2023/01/mens-bible.jpg
END:VEVENT
BEGIN:VEVENT
DTSTART;TZID=America/New_York:20250520T180000
DTEND;TZID=America/New_York:20250520T190000
DTSTAMP:20260424T064941
CREATED:20240923T132823Z
LAST-MODIFIED:20240923T132842Z
UID:10008730-1747764000-1747767600@murdockbaptistchurch.org
SUMMARY:Men's Tuesday Bible Study
DESCRIPTION:Men\, join us for bible study on Tuesday evenings.
URL:https://murdockbaptistchurch.org/event/mens-tuesday-bible-study/2025-05-20/
LOCATION:Building A\, Room 106-107
CATEGORIES:Barnabas Men’s Group,Bible Study - In-person,Ministries
ATTACH;FMTTYPE=image/jpeg:https://murdockbaptistchurch.org/wp-content/uploads/2022/12/mens-ministry-page.jpg
END:VEVENT
BEGIN:VEVENT
DTSTART;TZID=America/New_York:20250524T080000
DTEND;TZID=America/New_York:20250524T100000
DTSTAMP:20260424T064941
CREATED:20250507T143219Z
LAST-MODIFIED:20250507T183406Z
UID:10008767-1748073600-1748080800@murdockbaptistchurch.org
SUMMARY:Men's Saturday Morning Prayer Gathering
DESCRIPTION:A time dedicated to prayer\, worship & fellowship!
URL:https://murdockbaptistchurch.org/event/saturday-morning-prayer-gathering/2025-05-24/
CATEGORIES:Barnabas Men’s Group,Men's Ministry,Ministries,Special Events
END:VEVENT
BEGIN:VEVENT
DTSTART;TZID=America/New_York:20250526T080000
DTEND;TZID=America/New_York:20250526T090000
DTSTAMP:20260424T064941
CREATED:20231016T160555Z
LAST-MODIFIED:20240919T220716Z
UID:10008687-1748246400-1748250000@murdockbaptistchurch.org
SUMMARY:Barnabas Men's Group
DESCRIPTION:Join us for our Monday morning sermon debrief. \n\n\nWe look forward to seeing you there!
URL:https://murdockbaptistchurch.org/event/barnabas-mens-group-2/2025-05-26/
LOCATION:Fellowship Hall
CATEGORIES:Barnabas Men’s Group,Ministries
ATTACH;FMTTYPE=image/jpeg:https://murdockbaptistchurch.org/wp-content/uploads/2023/01/mens-bible.jpg
END:VEVENT
BEGIN:VEVENT
DTSTART;TZID=America/New_York:20250527T180000
DTEND;TZID=America/New_York:20250527T190000
DTSTAMP:20260424T064941
CREATED:20240923T132823Z
LAST-MODIFIED:20240923T132842Z
UID:10008731-1748368800-1748372400@murdockbaptistchurch.org
SUMMARY:Men's Tuesday Bible Study
DESCRIPTION:Men\, join us for bible study on Tuesday evenings.
URL:https://murdockbaptistchurch.org/event/mens-tuesday-bible-study/2025-05-27/
LOCATION:Building A\, Room 106-107
CATEGORIES:Barnabas Men’s Group,Bible Study - In-person,Ministries
ATTACH;FMTTYPE=image/jpeg:https://murdockbaptistchurch.org/wp-content/uploads/2022/12/mens-ministry-page.jpg
END:VEVENT
END:VCALENDAR