BEGIN:VCALENDAR
VERSION:2.0
PRODID:-//Murdock Baptist Church - ECPv6.15.20//NONSGML v1.0//EN
CALSCALE:GREGORIAN
METHOD:PUBLISH
X-ORIGINAL-URL:https://murdockbaptistchurch.org
X-WR-CALDESC:Events for Murdock Baptist Church
REFRESH-INTERVAL;VALUE=DURATION:PT1H
X-Robots-Tag:noindex
X-PUBLISHED-TTL:PT1H
BEGIN:VTIMEZONE
TZID:America/New_York
BEGIN:DAYLIGHT
TZOFFSETFROM:-0500
TZOFFSETTO:-0400
TZNAME:EDT
DTSTART:20240310T070000
END:DAYLIGHT
BEGIN:STANDARD
TZOFFSETFROM:-0400
TZOFFSETTO:-0500
TZNAME:EST
DTSTART:20241103T060000
END:STANDARD
BEGIN:DAYLIGHT
TZOFFSETFROM:-0500
TZOFFSETTO:-0400
TZNAME:EDT
DTSTART:20250309T070000
END:DAYLIGHT
BEGIN:STANDARD
TZOFFSETFROM:-0400
TZOFFSETTO:-0500
TZNAME:EST
DTSTART:20251102T060000
END:STANDARD
BEGIN:DAYLIGHT
TZOFFSETFROM:-0500
TZOFFSETTO:-0400
TZNAME:EDT
DTSTART:20260308T070000
END:DAYLIGHT
BEGIN:STANDARD
TZOFFSETFROM:-0400
TZOFFSETTO:-0500
TZNAME:EST
DTSTART:20261101T060000
END:STANDARD
END:VTIMEZONE
BEGIN:VEVENT
DTSTART;TZID=America/New_York:20250401T180000
DTEND;TZID=America/New_York:20250401T190000
DTSTAMP:20260424T081640
CREATED:20240923T132823Z
LAST-MODIFIED:20240923T132842Z
UID:10008723-1743530400-1743534000@murdockbaptistchurch.org
SUMMARY:Men's Tuesday Bible Study
DESCRIPTION:Men\, join us for bible study on Tuesday evenings.
URL:https://murdockbaptistchurch.org/event/mens-tuesday-bible-study/2025-04-01/
LOCATION:Building A\, Room 106-107
CATEGORIES:Barnabas Men’s Group,Bible Study - In-person,Ministries
ATTACH;FMTTYPE=image/jpeg:https://murdockbaptistchurch.org/wp-content/uploads/2022/12/mens-ministry-page.jpg
END:VEVENT
BEGIN:VEVENT
DTSTART;TZID=America/New_York:20250407T080000
DTEND;TZID=America/New_York:20250407T090000
DTSTAMP:20260424T081640
CREATED:20231016T160555Z
LAST-MODIFIED:20240919T220716Z
UID:10008680-1744012800-1744016400@murdockbaptistchurch.org
SUMMARY:Barnabas Men's Group
DESCRIPTION:Join us for our Monday morning sermon debrief. \n\n\nWe look forward to seeing you there!
URL:https://murdockbaptistchurch.org/event/barnabas-mens-group-2/2025-04-07/
LOCATION:Fellowship Hall
CATEGORIES:Barnabas Men’s Group,Ministries
ATTACH;FMTTYPE=image/jpeg:https://murdockbaptistchurch.org/wp-content/uploads/2023/01/mens-bible.jpg
END:VEVENT
BEGIN:VEVENT
DTSTART;TZID=America/New_York:20250408T180000
DTEND;TZID=America/New_York:20250408T190000
DTSTAMP:20260424T081640
CREATED:20240923T132823Z
LAST-MODIFIED:20240923T132842Z
UID:10008724-1744135200-1744138800@murdockbaptistchurch.org
SUMMARY:Men's Tuesday Bible Study
DESCRIPTION:Men\, join us for bible study on Tuesday evenings.
URL:https://murdockbaptistchurch.org/event/mens-tuesday-bible-study/2025-04-08/
LOCATION:Building A\, Room 106-107
CATEGORIES:Barnabas Men’s Group,Bible Study - In-person,Ministries
ATTACH;FMTTYPE=image/jpeg:https://murdockbaptistchurch.org/wp-content/uploads/2022/12/mens-ministry-page.jpg
END:VEVENT
BEGIN:VEVENT
DTSTART;TZID=America/New_York:20250412T080000
DTEND;TZID=America/New_York:20250412T170000
DTSTAMP:20260424T081640
CREATED:20250328T180138Z
LAST-MODIFIED:20250328T180153Z
UID:10008758-1744444800-1744477200@murdockbaptistchurch.org
SUMMARY:Disaster Relief
DESCRIPTION:Disaster Relief is an exceptional and much needed crisis ministry available in times of need on the local\, state and national level. Florida Baptist Disaster Relief offers training for every region\, every year. This year’s training for our region 6 will be held on Saturday\, April 12th at First Baptist Church\, Naples\, Fl. \n\n\n\nFor more information about registering go to https://flbaptist.org/dr-volunteer/.  Click on becoming a credentialed DR volunteer or renewing credentials. \n\n\n\nCar pooling sign-up sheet is available in the Fellowship Hall.
URL:https://murdockbaptistchurch.org/event/disaster-relief/
CATEGORIES:Barnabas Men’s Group,Ministries,Outside Events,Special Events,Women's Ministry
ATTACH;FMTTYPE=image/jpeg:https://murdockbaptistchurch.org/wp-content/uploads/2024/02/FBDR.jpg
END:VEVENT
BEGIN:VEVENT
DTSTART;TZID=America/New_York:20250414T080000
DTEND;TZID=America/New_York:20250414T090000
DTSTAMP:20260424T081640
CREATED:20231016T160555Z
LAST-MODIFIED:20240919T220716Z
UID:10008681-1744617600-1744621200@murdockbaptistchurch.org
SUMMARY:Barnabas Men's Group
DESCRIPTION:Join us for our Monday morning sermon debrief. \n\n\nWe look forward to seeing you there!
URL:https://murdockbaptistchurch.org/event/barnabas-mens-group-2/2025-04-14/
LOCATION:Fellowship Hall
CATEGORIES:Barnabas Men’s Group,Ministries
ATTACH;FMTTYPE=image/jpeg:https://murdockbaptistchurch.org/wp-content/uploads/2023/01/mens-bible.jpg
END:VEVENT
BEGIN:VEVENT
DTSTART;TZID=America/New_York:20250415T180000
DTEND;TZID=America/New_York:20250415T190000
DTSTAMP:20260424T081640
CREATED:20240923T132823Z
LAST-MODIFIED:20240923T132842Z
UID:10008725-1744740000-1744743600@murdockbaptistchurch.org
SUMMARY:Men's Tuesday Bible Study
DESCRIPTION:Men\, join us for bible study on Tuesday evenings.
URL:https://murdockbaptistchurch.org/event/mens-tuesday-bible-study/2025-04-15/
LOCATION:Building A\, Room 106-107
CATEGORIES:Barnabas Men’s Group,Bible Study - In-person,Ministries
ATTACH;FMTTYPE=image/jpeg:https://murdockbaptistchurch.org/wp-content/uploads/2022/12/mens-ministry-page.jpg
END:VEVENT
BEGIN:VEVENT
DTSTART;TZID=America/New_York:20250421T080000
DTEND;TZID=America/New_York:20250421T090000
DTSTAMP:20260424T081640
CREATED:20231016T160555Z
LAST-MODIFIED:20240919T220716Z
UID:10008682-1745222400-1745226000@murdockbaptistchurch.org
SUMMARY:Barnabas Men's Group
DESCRIPTION:Join us for our Monday morning sermon debrief. \n\n\nWe look forward to seeing you there!
URL:https://murdockbaptistchurch.org/event/barnabas-mens-group-2/2025-04-21/
LOCATION:Fellowship Hall
CATEGORIES:Barnabas Men’s Group,Ministries
ATTACH;FMTTYPE=image/jpeg:https://murdockbaptistchurch.org/wp-content/uploads/2023/01/mens-bible.jpg
END:VEVENT
BEGIN:VEVENT
DTSTART;TZID=America/New_York:20250422T180000
DTEND;TZID=America/New_York:20250422T190000
DTSTAMP:20260424T081640
CREATED:20240923T132823Z
LAST-MODIFIED:20240923T132842Z
UID:10008726-1745344800-1745348400@murdockbaptistchurch.org
SUMMARY:Men's Tuesday Bible Study
DESCRIPTION:Men\, join us for bible study on Tuesday evenings.
URL:https://murdockbaptistchurch.org/event/mens-tuesday-bible-study/2025-04-22/
LOCATION:Building A\, Room 106-107
CATEGORIES:Barnabas Men’s Group,Bible Study - In-person,Ministries
ATTACH;FMTTYPE=image/jpeg:https://murdockbaptistchurch.org/wp-content/uploads/2022/12/mens-ministry-page.jpg
END:VEVENT
BEGIN:VEVENT
DTSTART;TZID=America/New_York:20250428T080000
DTEND;TZID=America/New_York:20250428T090000
DTSTAMP:20260424T081640
CREATED:20231016T160555Z
LAST-MODIFIED:20240919T220716Z
UID:10008683-1745827200-1745830800@murdockbaptistchurch.org
SUMMARY:Barnabas Men's Group
DESCRIPTION:Join us for our Monday morning sermon debrief. \n\n\nWe look forward to seeing you there!
URL:https://murdockbaptistchurch.org/event/barnabas-mens-group-2/2025-04-28/
LOCATION:Fellowship Hall
CATEGORIES:Barnabas Men’s Group,Ministries
ATTACH;FMTTYPE=image/jpeg:https://murdockbaptistchurch.org/wp-content/uploads/2023/01/mens-bible.jpg
END:VEVENT
BEGIN:VEVENT
DTSTART;TZID=America/New_York:20250429T180000
DTEND;TZID=America/New_York:20250429T190000
DTSTAMP:20260424T081640
CREATED:20240923T132823Z
LAST-MODIFIED:20240923T132842Z
UID:10008727-1745949600-1745953200@murdockbaptistchurch.org
SUMMARY:Men's Tuesday Bible Study
DESCRIPTION:Men\, join us for bible study on Tuesday evenings.
URL:https://murdockbaptistchurch.org/event/mens-tuesday-bible-study/2025-04-29/
LOCATION:Building A\, Room 106-107
CATEGORIES:Barnabas Men’s Group,Bible Study - In-person,Ministries
ATTACH;FMTTYPE=image/jpeg:https://murdockbaptistchurch.org/wp-content/uploads/2022/12/mens-ministry-page.jpg
END:VEVENT
END:VCALENDAR