BEGIN:VCALENDAR
VERSION:2.0
PRODID:-//Murdock Baptist Church - ECPv6.15.20//NONSGML v1.0//EN
CALSCALE:GREGORIAN
METHOD:PUBLISH
X-ORIGINAL-URL:https://murdockbaptistchurch.org
X-WR-CALDESC:Events for Murdock Baptist Church
REFRESH-INTERVAL;VALUE=DURATION:PT1H
X-Robots-Tag:noindex
X-PUBLISHED-TTL:PT1H
BEGIN:VTIMEZONE
TZID:America/New_York
BEGIN:DAYLIGHT
TZOFFSETFROM:-0500
TZOFFSETTO:-0400
TZNAME:EDT
DTSTART:20230312T070000
END:DAYLIGHT
BEGIN:STANDARD
TZOFFSETFROM:-0400
TZOFFSETTO:-0500
TZNAME:EST
DTSTART:20231105T060000
END:STANDARD
BEGIN:DAYLIGHT
TZOFFSETFROM:-0500
TZOFFSETTO:-0400
TZNAME:EDT
DTSTART:20240310T070000
END:DAYLIGHT
BEGIN:STANDARD
TZOFFSETFROM:-0400
TZOFFSETTO:-0500
TZNAME:EST
DTSTART:20241103T060000
END:STANDARD
BEGIN:DAYLIGHT
TZOFFSETFROM:-0500
TZOFFSETTO:-0400
TZNAME:EDT
DTSTART:20250309T070000
END:DAYLIGHT
BEGIN:STANDARD
TZOFFSETFROM:-0400
TZOFFSETTO:-0500
TZNAME:EST
DTSTART:20251102T060000
END:STANDARD
END:VTIMEZONE
BEGIN:VEVENT
DTSTART;TZID=America/New_York:20240401T080000
DTEND;TZID=America/New_York:20240401T090000
DTSTAMP:20260425T162332
CREATED:20231016T160555Z
LAST-MODIFIED:20240919T220716Z
UID:10007153-1711958400-1711962000@murdockbaptistchurch.org
SUMMARY:Barnabas Men's Group
DESCRIPTION:Join us for our Monday morning sermon debrief. \n\n\nWe look forward to seeing you there!
URL:https://murdockbaptistchurch.org/event/barnabas-mens-group-2/2024-04-01/
LOCATION:Fellowship Hall
CATEGORIES:Barnabas Men’s Group,Ministries
ATTACH;FMTTYPE=image/jpeg:https://murdockbaptistchurch.org/wp-content/uploads/2023/01/mens-bible.jpg
END:VEVENT
BEGIN:VEVENT
DTSTART;TZID=America/New_York:20240403T180000
DTEND;TZID=America/New_York:20240403T190000
DTSTAMP:20260425T162332
CREATED:20240327T015838Z
LAST-MODIFIED:20240327T021223Z
UID:10007801-1712167200-1712170800@murdockbaptistchurch.org
SUMMARY:Dumping Your Debt with S.T.A.R.T.E.
DESCRIPTION:“The rich rules over the poor\, And the borrower is servant (slave) to the lender.”  \n—Proverbs 22.7\n\n\n\nAre there more days at the end of the month than dollars in your budget? Join Jim and Mary Coratti every Wednesday evening in April to hear their debt-free testimony and learn the effective step-by-step process they used to become completely debt free! Based on Biblical principles about money and inspired by Larry Burkett’s Christian Financial Concepts and Dave Ramsey’s Financial Peace University\, in 4 weeks you too can learn to become debt-free! For more information or to sign up\, visit the desk in the Fellowship Hall.
URL:https://murdockbaptistchurch.org/event/dumping-your-debt-with-s-t-a-r-t-e/2024-04-03/
LOCATION:Room 106\, 18375 Cochran Bloulevard\, Port Charlotte\, Florida\, 33948
CATEGORIES:Barnabas Men’s Group,Special Events,Women's Ministry
ATTACH;FMTTYPE=image/jpeg:https://murdockbaptistchurch.org/wp-content/uploads/2024/03/biblical-debt.jpg
END:VEVENT
BEGIN:VEVENT
DTSTART;TZID=America/New_York:20240406T080000
DTEND;TZID=America/New_York:20240406T170000
DTSTAMP:20260425T162332
CREATED:20240326T171901Z
LAST-MODIFIED:20240326T171928Z
UID:10007799-1712390400-1712422800@murdockbaptistchurch.org
SUMMARY:Florida Baptist Disaster Relief Region 6 Training
DESCRIPTION:Disaster Relief: We’re Ready!\n\n\n\nThe mission of Florida Baptist Disaster Relief and Recovery Ministries is to “Make a difference” in times of disaster by connecting Florida Baptist Churches and Associations to people and communities impacted by disaster and by responding with Help\, Healing\, and Hope\, that demonstrates and shares the love of Christ. \n\n\n\nFor information about registering\, go to: https://flbaptist.org/dr-volunteer/.  Click on becoming a credentialed DR volunteer or renewing credentials.
URL:https://murdockbaptistchurch.org/event/florida-baptist-disaster-relief-region-6-training/2024-04-06/
CATEGORIES:Barnabas Men’s Group,Special Events,Women's Ministry
ATTACH;FMTTYPE=image/jpeg:https://murdockbaptistchurch.org/wp-content/uploads/2023/09/diaster-relief.jpg
END:VEVENT
BEGIN:VEVENT
DTSTART;TZID=America/New_York:20240408T080000
DTEND;TZID=America/New_York:20240408T090000
DTSTAMP:20260425T162332
CREATED:20231016T160555Z
LAST-MODIFIED:20240919T220716Z
UID:10007154-1712563200-1712566800@murdockbaptistchurch.org
SUMMARY:Barnabas Men's Group
DESCRIPTION:Join us for our Monday morning sermon debrief. \n\n\nWe look forward to seeing you there!
URL:https://murdockbaptistchurch.org/event/barnabas-mens-group-2/2024-04-08/
LOCATION:Fellowship Hall
CATEGORIES:Barnabas Men’s Group,Ministries
ATTACH;FMTTYPE=image/jpeg:https://murdockbaptistchurch.org/wp-content/uploads/2023/01/mens-bible.jpg
END:VEVENT
BEGIN:VEVENT
DTSTART;TZID=America/New_York:20240410T180000
DTEND;TZID=America/New_York:20240410T190000
DTSTAMP:20260425T162332
CREATED:20240327T015838Z
LAST-MODIFIED:20240327T021223Z
UID:10007802-1712772000-1712775600@murdockbaptistchurch.org
SUMMARY:Dumping Your Debt with S.T.A.R.T.E.
DESCRIPTION:“The rich rules over the poor\, And the borrower is servant (slave) to the lender.”  \n—Proverbs 22.7\n\n\n\nAre there more days at the end of the month than dollars in your budget? Join Jim and Mary Coratti every Wednesday evening in April to hear their debt-free testimony and learn the effective step-by-step process they used to become completely debt free! Based on Biblical principles about money and inspired by Larry Burkett’s Christian Financial Concepts and Dave Ramsey’s Financial Peace University\, in 4 weeks you too can learn to become debt-free! For more information or to sign up\, visit the desk in the Fellowship Hall.
URL:https://murdockbaptistchurch.org/event/dumping-your-debt-with-s-t-a-r-t-e/2024-04-10/
LOCATION:Room 106\, 18375 Cochran Bloulevard\, Port Charlotte\, Florida\, 33948
CATEGORIES:Barnabas Men’s Group,Special Events,Women's Ministry
ATTACH;FMTTYPE=image/jpeg:https://murdockbaptistchurch.org/wp-content/uploads/2024/03/biblical-debt.jpg
END:VEVENT
BEGIN:VEVENT
DTSTART;TZID=America/New_York:20240413T080000
DTEND;TZID=America/New_York:20240413T090000
DTSTAMP:20260425T162332
CREATED:20240128T045949Z
LAST-MODIFIED:20240302T143728Z
UID:10007705-1712995200-1712998800@murdockbaptistchurch.org
SUMMARY:Monthly Men's Pancake Breakfast
DESCRIPTION:Join us and bring a friend for breakfast\, fellowship and a brief presentation.
URL:https://murdockbaptistchurch.org/event/monthly-mens-pancake-breakfast/2024-04-13/
LOCATION:Main Building A\, Fellowship Hall\, 18375 Cochran Boulevard\, Port Charlotte\, Florida\, 33948\, United States
CATEGORIES:Barnabas Men’s Group,Special Events
ATTACH;FMTTYPE=image/jpeg:https://murdockbaptistchurch.org/wp-content/uploads/2024/01/pancakes.jpg
END:VEVENT
BEGIN:VEVENT
DTSTART;TZID=America/New_York:20240415T080000
DTEND;TZID=America/New_York:20240415T090000
DTSTAMP:20260425T162332
CREATED:20231016T160555Z
LAST-MODIFIED:20240919T220716Z
UID:10007155-1713168000-1713171600@murdockbaptistchurch.org
SUMMARY:Barnabas Men's Group
DESCRIPTION:Join us for our Monday morning sermon debrief. \n\n\nWe look forward to seeing you there!
URL:https://murdockbaptistchurch.org/event/barnabas-mens-group-2/2024-04-15/
LOCATION:Fellowship Hall
CATEGORIES:Barnabas Men’s Group,Ministries
ATTACH;FMTTYPE=image/jpeg:https://murdockbaptistchurch.org/wp-content/uploads/2023/01/mens-bible.jpg
END:VEVENT
BEGIN:VEVENT
DTSTART;TZID=America/New_York:20240417T180000
DTEND;TZID=America/New_York:20240417T190000
DTSTAMP:20260425T162332
CREATED:20240327T015838Z
LAST-MODIFIED:20240327T021223Z
UID:10007803-1713376800-1713380400@murdockbaptistchurch.org
SUMMARY:Dumping Your Debt with S.T.A.R.T.E.
DESCRIPTION:“The rich rules over the poor\, And the borrower is servant (slave) to the lender.”  \n—Proverbs 22.7\n\n\n\nAre there more days at the end of the month than dollars in your budget? Join Jim and Mary Coratti every Wednesday evening in April to hear their debt-free testimony and learn the effective step-by-step process they used to become completely debt free! Based on Biblical principles about money and inspired by Larry Burkett’s Christian Financial Concepts and Dave Ramsey’s Financial Peace University\, in 4 weeks you too can learn to become debt-free! For more information or to sign up\, visit the desk in the Fellowship Hall.
URL:https://murdockbaptistchurch.org/event/dumping-your-debt-with-s-t-a-r-t-e/2024-04-17/
LOCATION:Room 106\, 18375 Cochran Bloulevard\, Port Charlotte\, Florida\, 33948
CATEGORIES:Barnabas Men’s Group,Special Events,Women's Ministry
ATTACH;FMTTYPE=image/jpeg:https://murdockbaptistchurch.org/wp-content/uploads/2024/03/biblical-debt.jpg
END:VEVENT
BEGIN:VEVENT
DTSTART;TZID=America/New_York:20240420T080000
DTEND;TZID=America/New_York:20240420T170000
DTSTAMP:20260425T162332
CREATED:20240326T171901Z
LAST-MODIFIED:20240326T171928Z
UID:10007800-1713600000-1713632400@murdockbaptistchurch.org
SUMMARY:Florida Baptist Disaster Relief Region 6 Training
DESCRIPTION:Disaster Relief: We’re Ready!\n\n\n\nThe mission of Florida Baptist Disaster Relief and Recovery Ministries is to “Make a difference” in times of disaster by connecting Florida Baptist Churches and Associations to people and communities impacted by disaster and by responding with Help\, Healing\, and Hope\, that demonstrates and shares the love of Christ. \n\n\n\nFor information about registering\, go to: https://flbaptist.org/dr-volunteer/.  Click on becoming a credentialed DR volunteer or renewing credentials.
URL:https://murdockbaptistchurch.org/event/florida-baptist-disaster-relief-region-6-training/2024-04-20/
CATEGORIES:Barnabas Men’s Group,Special Events,Women's Ministry
ATTACH;FMTTYPE=image/jpeg:https://murdockbaptistchurch.org/wp-content/uploads/2023/09/diaster-relief.jpg
END:VEVENT
BEGIN:VEVENT
DTSTART;TZID=America/New_York:20240422T080000
DTEND;TZID=America/New_York:20240422T090000
DTSTAMP:20260425T162332
CREATED:20231016T160555Z
LAST-MODIFIED:20240919T220716Z
UID:10007156-1713772800-1713776400@murdockbaptistchurch.org
SUMMARY:Barnabas Men's Group
DESCRIPTION:Join us for our Monday morning sermon debrief. \n\n\nWe look forward to seeing you there!
URL:https://murdockbaptistchurch.org/event/barnabas-mens-group-2/2024-04-22/
LOCATION:Fellowship Hall
CATEGORIES:Barnabas Men’s Group,Ministries
ATTACH;FMTTYPE=image/jpeg:https://murdockbaptistchurch.org/wp-content/uploads/2023/01/mens-bible.jpg
END:VEVENT
BEGIN:VEVENT
DTSTART;TZID=America/New_York:20240424T180000
DTEND;TZID=America/New_York:20240424T190000
DTSTAMP:20260425T162332
CREATED:20240327T015838Z
LAST-MODIFIED:20240327T021223Z
UID:10007804-1713981600-1713985200@murdockbaptistchurch.org
SUMMARY:Dumping Your Debt with S.T.A.R.T.E.
DESCRIPTION:“The rich rules over the poor\, And the borrower is servant (slave) to the lender.”  \n—Proverbs 22.7\n\n\n\nAre there more days at the end of the month than dollars in your budget? Join Jim and Mary Coratti every Wednesday evening in April to hear their debt-free testimony and learn the effective step-by-step process they used to become completely debt free! Based on Biblical principles about money and inspired by Larry Burkett’s Christian Financial Concepts and Dave Ramsey’s Financial Peace University\, in 4 weeks you too can learn to become debt-free! For more information or to sign up\, visit the desk in the Fellowship Hall.
URL:https://murdockbaptistchurch.org/event/dumping-your-debt-with-s-t-a-r-t-e/2024-04-24/
LOCATION:Room 106\, 18375 Cochran Bloulevard\, Port Charlotte\, Florida\, 33948
CATEGORIES:Barnabas Men’s Group,Special Events,Women's Ministry
ATTACH;FMTTYPE=image/jpeg:https://murdockbaptistchurch.org/wp-content/uploads/2024/03/biblical-debt.jpg
END:VEVENT
BEGIN:VEVENT
DTSTART;TZID=America/New_York:20240427T080000
DTEND;TZID=America/New_York:20240427T093000
DTSTAMP:20260425T162333
CREATED:20240304T025158Z
LAST-MODIFIED:20240318T150255Z
UID:10007715-1714204800-1714210200@murdockbaptistchurch.org
SUMMARY:Men's Monthly Prayer Gathering
DESCRIPTION:A time for men to gather in prayer\, worship and fellowship.   Let’s practice “Iron sharpening Iron” and support one another to deepen and strengthen our walk with our Savior! \n\n\n\nEvent held in the Fellowship Hall.
URL:https://murdockbaptistchurch.org/event/mens-monthly-prayer-gathering/2024-04-27/
CATEGORIES:Barnabas Men’s Group,Men’s Bible Study
ATTACH;FMTTYPE=image/png:https://murdockbaptistchurch.org/wp-content/uploads/2024/03/Mens-Prayer-Sunrise.png
END:VEVENT
BEGIN:VEVENT
DTSTART;TZID=America/New_York:20240429T080000
DTEND;TZID=America/New_York:20240429T090000
DTSTAMP:20260425T162333
CREATED:20231016T160555Z
LAST-MODIFIED:20240919T220716Z
UID:10007157-1714377600-1714381200@murdockbaptistchurch.org
SUMMARY:Barnabas Men's Group
DESCRIPTION:Join us for our Monday morning sermon debrief. \n\n\nWe look forward to seeing you there!
URL:https://murdockbaptistchurch.org/event/barnabas-mens-group-2/2024-04-29/
LOCATION:Fellowship Hall
CATEGORIES:Barnabas Men’s Group,Ministries
ATTACH;FMTTYPE=image/jpeg:https://murdockbaptistchurch.org/wp-content/uploads/2023/01/mens-bible.jpg
END:VEVENT
END:VCALENDAR