BEGIN:VCALENDAR
VERSION:2.0
PRODID:-//Murdock Baptist Church - ECPv6.15.20//NONSGML v1.0//EN
CALSCALE:GREGORIAN
METHOD:PUBLISH
X-ORIGINAL-URL:https://murdockbaptistchurch.org
X-WR-CALDESC:Events for Murdock Baptist Church
REFRESH-INTERVAL;VALUE=DURATION:PT1H
X-Robots-Tag:noindex
X-PUBLISHED-TTL:PT1H
BEGIN:VTIMEZONE
TZID:America/New_York
BEGIN:DAYLIGHT
TZOFFSETFROM:-0500
TZOFFSETTO:-0400
TZNAME:EDT
DTSTART:20230312T070000
END:DAYLIGHT
BEGIN:STANDARD
TZOFFSETFROM:-0400
TZOFFSETTO:-0500
TZNAME:EST
DTSTART:20231105T060000
END:STANDARD
BEGIN:DAYLIGHT
TZOFFSETFROM:-0500
TZOFFSETTO:-0400
TZNAME:EDT
DTSTART:20240310T070000
END:DAYLIGHT
BEGIN:STANDARD
TZOFFSETFROM:-0400
TZOFFSETTO:-0500
TZNAME:EST
DTSTART:20241103T060000
END:STANDARD
BEGIN:DAYLIGHT
TZOFFSETFROM:-0500
TZOFFSETTO:-0400
TZNAME:EDT
DTSTART:20250309T070000
END:DAYLIGHT
BEGIN:STANDARD
TZOFFSETFROM:-0400
TZOFFSETTO:-0500
TZNAME:EST
DTSTART:20251102T060000
END:STANDARD
END:VTIMEZONE
BEGIN:VEVENT
DTSTART;TZID=America/New_York:20240203T080000
DTEND;TZID=America/New_York:20240203T090000
DTSTAMP:20260425T195214
CREATED:20240129T211124Z
LAST-MODIFIED:20240129T211140Z
UID:10007576-1706947200-1706950800@murdockbaptistchurch.org
SUMMARY:Monthly Men's Pancake Breakfast
DESCRIPTION:Join us and bring a friend for breakfast\, fellowship and a brief presentation.
URL:https://murdockbaptistchurch.org/event/monthly-mens-pancake-breakfast-2/
LOCATION:Main Building A\, Fellowship Hall\, 18375 Cochran Boulevard\, Port Charlotte\, Florida\, 33948\, United States
CATEGORIES:Barnabas Men’s Group,Special Events
ATTACH;FMTTYPE=image/jpeg:https://murdockbaptistchurch.org/wp-content/uploads/2024/01/pancakes.jpg
END:VEVENT
BEGIN:VEVENT
DTSTART;TZID=America/New_York:20240205T080000
DTEND;TZID=America/New_York:20240205T090000
DTSTAMP:20260425T195214
CREATED:20231016T160555Z
LAST-MODIFIED:20240919T220716Z
UID:10007145-1707120000-1707123600@murdockbaptistchurch.org
SUMMARY:Barnabas Men's Group
DESCRIPTION:Join us for our Monday morning sermon debrief. \n\n\nWe look forward to seeing you there!
URL:https://murdockbaptistchurch.org/event/barnabas-mens-group-2/2024-02-05/
LOCATION:Fellowship Hall
CATEGORIES:Barnabas Men’s Group,Ministries
ATTACH;FMTTYPE=image/jpeg:https://murdockbaptistchurch.org/wp-content/uploads/2023/01/mens-bible.jpg
END:VEVENT
BEGIN:VEVENT
DTSTART;TZID=America/New_York:20240212T080000
DTEND;TZID=America/New_York:20240212T090000
DTSTAMP:20260425T195214
CREATED:20231016T160555Z
LAST-MODIFIED:20240919T220716Z
UID:10007146-1707724800-1707728400@murdockbaptistchurch.org
SUMMARY:Barnabas Men's Group
DESCRIPTION:Join us for our Monday morning sermon debrief. \n\n\nWe look forward to seeing you there!
URL:https://murdockbaptistchurch.org/event/barnabas-mens-group-2/2024-02-12/
LOCATION:Fellowship Hall
CATEGORIES:Barnabas Men’s Group,Ministries
ATTACH;FMTTYPE=image/jpeg:https://murdockbaptistchurch.org/wp-content/uploads/2023/01/mens-bible.jpg
END:VEVENT
BEGIN:VEVENT
DTSTART;TZID=America/New_York:20240219T080000
DTEND;TZID=America/New_York:20240219T090000
DTSTAMP:20260425T195214
CREATED:20231016T160555Z
LAST-MODIFIED:20240919T220716Z
UID:10007147-1708329600-1708333200@murdockbaptistchurch.org
SUMMARY:Barnabas Men's Group
DESCRIPTION:Join us for our Monday morning sermon debrief. \n\n\nWe look forward to seeing you there!
URL:https://murdockbaptistchurch.org/event/barnabas-mens-group-2/2024-02-19/
LOCATION:Fellowship Hall
CATEGORIES:Barnabas Men’s Group,Ministries
ATTACH;FMTTYPE=image/jpeg:https://murdockbaptistchurch.org/wp-content/uploads/2023/01/mens-bible.jpg
END:VEVENT
BEGIN:VEVENT
DTSTART;TZID=America/New_York:20240226T080000
DTEND;TZID=America/New_York:20240226T090000
DTSTAMP:20260425T195214
CREATED:20231016T160555Z
LAST-MODIFIED:20240919T220716Z
UID:10007148-1708934400-1708938000@murdockbaptistchurch.org
SUMMARY:Barnabas Men's Group
DESCRIPTION:Join us for our Monday morning sermon debrief. \n\n\nWe look forward to seeing you there!
URL:https://murdockbaptistchurch.org/event/barnabas-mens-group-2/2024-02-26/
LOCATION:Fellowship Hall
CATEGORIES:Barnabas Men’s Group,Ministries
ATTACH;FMTTYPE=image/jpeg:https://murdockbaptistchurch.org/wp-content/uploads/2023/01/mens-bible.jpg
END:VEVENT
END:VCALENDAR