BEGIN:VCALENDAR
VERSION:2.0
PRODID:-//Murdock Baptist Church - ECPv6.15.20//NONSGML v1.0//EN
CALSCALE:GREGORIAN
METHOD:PUBLISH
X-WR-CALNAME:Murdock Baptist Church
X-ORIGINAL-URL:https://murdockbaptistchurch.org
X-WR-CALDESC:Events for Murdock Baptist Church
REFRESH-INTERVAL;VALUE=DURATION:PT1H
X-Robots-Tag:noindex
X-PUBLISHED-TTL:PT1H
BEGIN:VTIMEZONE
TZID:America/New_York
BEGIN:DAYLIGHT
TZOFFSETFROM:-0500
TZOFFSETTO:-0400
TZNAME:EDT
DTSTART:20250309T070000
END:DAYLIGHT
BEGIN:STANDARD
TZOFFSETFROM:-0400
TZOFFSETTO:-0500
TZNAME:EST
DTSTART:20251102T060000
END:STANDARD
BEGIN:DAYLIGHT
TZOFFSETFROM:-0500
TZOFFSETTO:-0400
TZNAME:EDT
DTSTART:20260308T070000
END:DAYLIGHT
BEGIN:STANDARD
TZOFFSETFROM:-0400
TZOFFSETTO:-0500
TZNAME:EST
DTSTART:20261101T060000
END:STANDARD
BEGIN:DAYLIGHT
TZOFFSETFROM:-0500
TZOFFSETTO:-0400
TZNAME:EDT
DTSTART:20270314T070000
END:DAYLIGHT
BEGIN:STANDARD
TZOFFSETFROM:-0400
TZOFFSETTO:-0500
TZNAME:EST
DTSTART:20271107T060000
END:STANDARD
END:VTIMEZONE
BEGIN:VEVENT
DTSTART;TZID=America/New_York:20260429T180000
DTEND;TZID=America/New_York:20260429T183000
DTSTAMP:20260423T133339
CREATED:20260408T152432Z
LAST-MODIFIED:20260420T040846Z
UID:10009801-1777485600-1777487400@murdockbaptistchurch.org
SUMMARY:Quarterly Church Conference
DESCRIPTION:Quarterly church conference to be held to discuss church finances.
URL:https://murdockbaptistchurch.org/event/quarterly-church-conference-7/
LOCATION:Main Stage\, Worship Center\, 18375 Cochran Boulevard\, Port Charlote\, Florida\, 33948
CATEGORIES:Quarterly Church Conference,Special Events
ATTACH;FMTTYPE=image/jpeg:https://murdockbaptistchurch.org/wp-content/uploads/2023/05/stepping-up-slider5.jpg
END:VEVENT
BEGIN:VEVENT
DTSTART;TZID=America/New_York:20260429T180000
DTEND;TZID=America/New_York:20260429T190000
DTSTAMP:20260423T133339
CREATED:20260111T165303Z
LAST-MODIFIED:20260111T165307Z
UID:10009576-1777485600-1777489200@murdockbaptistchurch.org
SUMMARY:Wednesday Night Bible Study
DESCRIPTION:Join Pastor Ron at 6 p.m.\, as we dive into a study on the parables of Jesus.
URL:https://murdockbaptistchurch.org/event/wednesday-night-bible-study/2026-04-29/
LOCATION:Main Building A\, Fellowship Hall\, 18375 Cochran Boulevard\, Port Charlotte\, Florida\, 33948\, United States
CATEGORIES:Bible Study - In-person,Special Events
ATTACH;FMTTYPE=image/jpeg:https://murdockbaptistchurch.org/wp-content/uploads/2022/12/pastor-ron-tipton.jpg
END:VEVENT
END:VCALENDAR