BEGIN:VCALENDAR
VERSION:2.0
PRODID:-//Murdock Baptist Church - ECPv6.15.20//NONSGML v1.0//EN
CALSCALE:GREGORIAN
METHOD:PUBLISH
X-ORIGINAL-URL:https://murdockbaptistchurch.org
X-WR-CALDESC:Events for Murdock Baptist Church
REFRESH-INTERVAL;VALUE=DURATION:PT1H
X-Robots-Tag:noindex
X-PUBLISHED-TTL:PT1H
BEGIN:VTIMEZONE
TZID:America/New_York
BEGIN:DAYLIGHT
TZOFFSETFROM:-0500
TZOFFSETTO:-0400
TZNAME:EDT
DTSTART:20250309T070000
END:DAYLIGHT
BEGIN:STANDARD
TZOFFSETFROM:-0400
TZOFFSETTO:-0500
TZNAME:EST
DTSTART:20251102T060000
END:STANDARD
BEGIN:DAYLIGHT
TZOFFSETFROM:-0500
TZOFFSETTO:-0400
TZNAME:EDT
DTSTART:20260308T070000
END:DAYLIGHT
BEGIN:STANDARD
TZOFFSETFROM:-0400
TZOFFSETTO:-0500
TZNAME:EST
DTSTART:20261101T060000
END:STANDARD
BEGIN:DAYLIGHT
TZOFFSETFROM:-0500
TZOFFSETTO:-0400
TZNAME:EDT
DTSTART:20270314T070000
END:DAYLIGHT
BEGIN:STANDARD
TZOFFSETFROM:-0400
TZOFFSETTO:-0500
TZNAME:EST
DTSTART:20271107T060000
END:STANDARD
END:VTIMEZONE
BEGIN:VEVENT
DTSTART;TZID=America/New_York:20260426T080000
DTEND;TZID=America/New_York:20260426T090000
DTSTAMP:20260423T150824
CREATED:20251223T205904Z
LAST-MODIFIED:20251223T205908Z
UID:10009344-1777190400-1777194000@murdockbaptistchurch.org
SUMMARY:Climbing Higher Life Group
DESCRIPTION:Led by Terry Shippy \n\n\n\nThis class offers a discussion-driven\, critical-thinking approach to the exploration of specific books of the Bible. \n\n\n\nWe are a joy filled\, supportive group of adults from all walks and age groups! \n\n\n\nIf interested in joining\, please feel free to contact Terry Shippy\, 1-941-716-4221 or at shippy@comcast.net.
URL:https://murdockbaptistchurch.org/event/climbing-higher-life-group-3/2026-04-26/
LOCATION:Rooms 103/104
CATEGORIES:Climbing Higher,Life Groups
ATTACH;FMTTYPE=image/jpeg:https://murdockbaptistchurch.org/wp-content/uploads/2023/01/climbing-higher-life-group3-copy.jpg
END:VEVENT
BEGIN:VEVENT
DTSTART;TZID=America/New_York:20260426T110000
DTEND;TZID=America/New_York:20260426T120000
DTSTAMP:20260423T150825
CREATED:20250925T133343Z
LAST-MODIFIED:20250925T133349Z
UID:10009032-1777201200-1777204800@murdockbaptistchurch.org
SUMMARY:Overcomers Life Group
DESCRIPTION:Join us today for our first session centered around 1 Corinthians 13:12 entitled\, “Have Your Tent Stolen” from the book Jesus Life Coach by Laurie Beth Jones. \n\n\n\nAll are welcome!
URL:https://murdockbaptistchurch.org/event/overcomers-life-group/2026-04-26/
LOCATION:Room 103\, 18375 Cochran Boulevard\, Port Charlotte\, Florida\, 33948\, United States
CATEGORIES:Life Groups,Special Events
ATTACH;FMTTYPE=image/jpeg:https://murdockbaptistchurch.org/wp-content/uploads/2025/09/Screenshot-2025-09-25-093150.jpg
END:VEVENT
BEGIN:VEVENT
DTSTART;TZID=America/New_York:20260426T110000
DTEND;TZID=America/New_York:20260426T120000
DTSTAMP:20260423T150825
CREATED:20251223T204116Z
LAST-MODIFIED:20251223T204623Z
UID:10009191-1777201200-1777204800@murdockbaptistchurch.org
SUMMARY:Ambassadors for Christ Life Group
DESCRIPTION:Led by John Mangione \n\n\n\n2 Corinthians 5:20 tells us that we are Ambassadors for Christ. \n\n\n\nGod can use you to make His appeal to your friends\, family to coworkers\, and neighbors. This class consists of couples and individuals who desire to go deeper in their personal journey. \n\n\n\nIf interested\, please feel free to contact John Mangione\, 941-330-7857 or at amangione46@gmail.com.
URL:https://murdockbaptistchurch.org/event/ambassadors-for-christ-life-group-copy/2026-04-26/
LOCATION:Rooms 104-105\, 18375 Cochran Boulevard\, Port Charlotte\, Florida\, 33948\, United States
CATEGORIES:Ambassadors for Christ,Life Groups
ATTACH;FMTTYPE=image/jpeg:https://murdockbaptistchurch.org/wp-content/uploads/2023/05/ambassadors-slider3.jpg
END:VEVENT
BEGIN:VEVENT
DTSTART;TZID=America/New_York:20260426T110000
DTEND;TZID=America/New_York:20260426T120000
DTSTAMP:20260423T150825
CREATED:20251223T204424Z
LAST-MODIFIED:20251223T204428Z
UID:10009242-1777201200-1777204800@murdockbaptistchurch.org
SUMMARY:Among Friends Life Group
DESCRIPTION:Led by Darryl Denson \n\n\n\nAn interactive Bible study for adults of all ages. There is only one book you can open and the author shows up.  We focus on topical discussion and Bible application. When you are Among Friends\, you’re invited to share and ask questions. \n\n\n\nIf interested in joining\, please feel free to contact Darryl Denson\, 1-941-769-9876 or at sundancebuild@comcast.net.
URL:https://murdockbaptistchurch.org/event/among-friends-life-group-2/2026-04-26/
LOCATION:Rooms 101-102\, 18375 Cochran Boulevard\, Port Charlotte\, Florida\, 33948\, United States
CATEGORIES:Among Friends,Life Groups
ATTACH;FMTTYPE=image/jpeg:https://murdockbaptistchurch.org/wp-content/uploads/2023/01/among-friends1.jpg
END:VEVENT
BEGIN:VEVENT
DTSTART;TZID=America/New_York:20260426T110000
DTEND;TZID=America/New_York:20260426T120000
DTSTAMP:20260423T150825
CREATED:20251223T205043Z
LAST-MODIFIED:20251223T205046Z
UID:10009293-1777201200-1777204800@murdockbaptistchurch.org
SUMMARY:Armored Disciples Life Group
DESCRIPTION:Led by Troy Dueboay \n\n\n\nFor younger couples and others wanting to grow in the grace and knowledge of our Lord and Savior.  \n\n\n\n2 Peter 3:18  \n\n\n\nIf interested please feel free to contact: Troy Dueboay\, 9441-661-1883 or at quietmanduke3@hotmail.com.
URL:https://murdockbaptistchurch.org/event/armored-disciples-life-group-2/2026-04-26/
LOCATION:Main Building\, Room #105
CATEGORIES:Armored Disciples,Life Groups
ATTACH;FMTTYPE=image/jpeg:https://murdockbaptistchurch.org/wp-content/uploads/2023/08/lifegroup-armored-discipleshero2.jpg
END:VEVENT
BEGIN:VEVENT
DTSTART;TZID=America/New_York:20260426T110000
DTEND;TZID=America/New_York:20260426T120000
DTSTAMP:20260423T150825
CREATED:20251223T211141Z
LAST-MODIFIED:20251223T211220Z
UID:10009498-1777201200-1777204800@murdockbaptistchurch.org
SUMMARY:Stepping Up Life Group
DESCRIPTION:Led by Jack Pipp \n\n\n\nYoung families stepping up! A discussion centered small group of married couples with preschool and school age children. \n\n\n\nIf interested\, please feel free to contact: Jack Pipp\, 941-204-8622 or at jack39pipp@gmail.com.
URL:https://murdockbaptistchurch.org/event/stepping-up-life-group-copy/2026-04-26/
LOCATION:Room 107\, 18375 Cochran Boulevard\, Port Charlotte\, Florida\, 33948\, United States
CATEGORIES:Life Groups,Stepping Up
ATTACH;FMTTYPE=image/jpeg:https://murdockbaptistchurch.org/wp-content/uploads/2023/01/steppping-up-event-calendar.jpg
END:VEVENT
BEGIN:VEVENT
DTSTART;TZID=America/New_York:20260426T190000
DTEND;TZID=America/New_York:20260426T200000
DTSTAMP:20260423T150825
CREATED:20251223T210831Z
LAST-MODIFIED:20251223T212809Z
UID:10009413-1777230000-1777233600@murdockbaptistchurch.org
SUMMARY:Pressing On Life Group
DESCRIPTION:Led by Ray North \n\n\n\nWe’re a mixed group currently studying the gospel of Mark. \n\n\n\nDiscussion is encouraged and we welcome both new to the Faith and mature believers to participate.  \n\n\n\nThis is a Zoom meeting only.
URL:https://murdockbaptistchurch.org/event/pressing-on-life-group-3/2026-04-26/
LOCATION:Zoom Only
CATEGORIES:Life Groups,Pressing On
ATTACH;FMTTYPE=image/jpeg:https://murdockbaptistchurch.org/wp-content/uploads/2023/01/zoom-only-image.jpg
END:VEVENT
END:VCALENDAR